Workbook

Sheet Ndep_volledig
A1: RECEPT_ID | B1: N2000_ID | C1: N2000_NAAM | D1: HABIT_ID | E1: HABIT_NAAM | F1: KDW | G1: ADW | H1: OVERSPAN | I1: CALC_TOT | J1: GEKART_OPP | K1: ID | L1: B | M1: u | N1: %ADW | O1: %TDW | P1: %verlies | Q1: OPP_verlies
A2: 1910542 | B2: 136 | C2: Leenderbos, Groote Heide & De Plateaux | D2: H6510A | E2: Glanshaver- en vossenstaarthooilanden (glanshaver) | F2: 1357 | G2: 1106.68 | H2: below | I2: 0.0051195 | J2: 663.19385 | K2: =_xlfn.CONCAT(C2,"_",D2) -> Leenderbos, Groote Heide & De Plateaux_H6510A | L2: =VLOOKUP(D2,DATA!A:F,5,FALSE) -> 0.0069939168 | M2: =VLOOKUP(D2,DATA!A:F,6,FALSE) -> 1778 | N2: =100/(1+EXP(-L2*(G2-M2))) -> 0.90566665 | O2: =100/(1+EXP(-L2*((G2+I2)-M2))) -> 0.90569878 | P2: =O2-N2 -> 3.2134596e-05 | Q2: =IF(AND(H2<>"below",I2>=0.005),J2*P2/100,0) -> 0
A3: 1912071 | B3: 136 | C3: Leenderbos, Groote Heide & De Plateaux | D3: H6510A | E3: Glanshaver- en vossenstaarthooilanden (glanshaver) | F3: 1357 | G3: 1080.17 | H3: below | I3: 0.0049982 | J3: 3894.607 | K3: =_xlfn.CONCAT(C3,"_",D3) -> Leenderbos, Groote Heide & De Plateaux_H6510A | L3: =VLOOKUP(D3,DATA!A:F,5,FALSE) -> 0.0069939168 | M3: =VLOOKUP(D3,DATA!A:F,6,FALSE) -> 1778 | N3: =100/(1+EXP(-L3*(G3-M3))) -> 0.75355081 | O3: =100/(1+EXP(-L3*((G3+I3)-M3))) -> 0.75357696 | P3: =O3-N3 -> 2.6143823e-05 | Q3: =IF(AND(H3<>"below",I3>=0.005),J3*P3/100,0) -> 0 | T3: Habitat aangepast ivm H9999.
A4: 1912077 | B4: 136 | C4: Leenderbos, Groote Heide & De Plateaux | D4: H4010A | E4: Vochtige heiden (hogere zandgronden) | F4: 1071 | G4: 846.38 | H4: below | I4: 0.0039431 | J4: 71.702367 | K4: =_xlfn.CONCAT(C4,"_",D4) -> Leenderbos, Groote Heide & De Plateaux_H4010A | L4: =VLOOKUP(D4,DATA!A:F,5,FALSE) -> 0.013726988 | M4: =VLOOKUP(D4,DATA!A:F,6,FALSE) -> 1285.5 | N4: =100/(1+EXP(-L4*(G4-M4))) -> 0.24050058 | O4: =100/(1+EXP(-L4*((G4+I4)-M4))) -> 0.24051356 | P4: =O4-N4 -> 1.298659e-05 | Q4: =IF(AND(H4<>"below",I4>=0.005),J4*P4/100,0) -> 0 | T4: Compensatie bepaald obv biomassa methode
A5: 1912077 | B5: 136 | C5: Leenderbos, Groote Heide & De Plateaux | D5: H7150 | E5: Pioniervegetaties met snavelbiezen | F5: 1071 | G5: 846.38 | H5: below | I5: 0.0039431 | J5: 33.461105 | K5: =_xlfn.CONCAT(C5,"_",D5) -> Leenderbos, Groote Heide & De Plateaux_H7150 | L5: =VLOOKUP(D5,DATA!A:F,5,FALSE) -> 0.013726988 | M5: =VLOOKUP(D5,DATA!A:F,6,FALSE) -> 1285.5 | N5: =100/(1+EXP(-L5*(G5-M5))) -> 0.24050058 | O5: =100/(1+EXP(-L5*((G5+I5)-M5))) -> 0.24051356 | P5: =O5-N5 -> 1.298659e-05 | Q5: =IF(AND(H5<>"below",I5>=0.005),J5*P5/100,0) -> 0
A6: 1913599 | B6: 136 | C6: Leenderbos, Groote Heide & De Plateaux | D6: H6510A | E6: Glanshaver- en vossenstaarthooilanden (glanshaver) | F6: 1357 | G6: 1000.68 | H6: below | I6: 0.0047156 | J6: 5406.19 | K6: =_xlfn.CONCAT(C6,"_",D6) -> Leenderbos, Groote Heide & De Plateaux_H6510A | L6: =VLOOKUP(D6,DATA!A:F,5,FALSE) -> 0.0069939168 | M6: =VLOOKUP(D6,DATA!A:F,6,FALSE) -> 1778 | N6: =100/(1+EXP(-L6*(G6-M6))) -> 0.43357676 | O6: =100/(1+EXP(-L6*((G6+I6)-M6))) -> 0.433591 | P6: =O6-N6 -> 1.4237818e-05 | Q6: =IF(AND(H6<>"below",I6>=0.005),J6*P6/100,0) -> 0
A7: 1913600 | B7: 136 | C7: Leenderbos, Groote Heide & De Plateaux | D7: H6510A | E7: Glanshaver- en vossenstaarthooilanden (glanshaver) | F7: 1357 | G7: 1233.46 | H7: below | I7: 0.0058573 | J7: 9191.434 | K7: =_xlfn.CONCAT(C7,"_",D7) -> Leenderbos, Groote Heide & De Plateaux_H6510A | L7: =VLOOKUP(D7,DATA!A:F,5,FALSE) -> 0.0069939168 | M7: =VLOOKUP(D7,DATA!A:F,6,FALSE) -> 1778 | N7: =100/(1+EXP(-L7*(G7-M7))) -> 2.1700778 | O7: =100/(1+EXP(-L7*((G7+I7)-M7))) -> 2.1701648 | P7: =O7-N7 -> 8.6970798e-05 | Q7: =IF(AND(H7<>"below",I7>=0.005),J7*P7/100,0) -> 0
A8: 1913605 | B8: 136 | C8: Leenderbos, Groote Heide & De Plateaux | D8: H4010A | E8: Vochtige heiden (hogere zandgronden) | F8: 1071 | G8: 845.75 | H8: below | I8: 0.003955 | J8: 138.53653 | K8: =_xlfn.CONCAT(C8,"_",D8) -> Leenderbos, Groote Heide & De Plateaux_H4010A | L8: =VLOOKUP(D8,DATA!A:F,5,FALSE) -> 0.013726988 | M8: =VLOOKUP(D8,DATA!A:F,6,FALSE) -> 1285.5 | N8: =100/(1+EXP(-L8*(G8-M8))) -> 0.23843463 | O8: =100/(1+EXP(-L8*((G8+I8)-M8))) -> 0.23844755 | P8: =O8-N8 -> 1.2914157e-05 | Q8: =IF(AND(H8<>"below",I8>=0.005),J8*P8/100,0) -> 0
A9: 1913605 | B9: 136 | C9: Leenderbos, Groote Heide & De Plateaux | D9: H7150 | E9: Pioniervegetaties met snavelbiezen | F9: 1071 | G9: 845.75 | H9: below | I9: 0.003955 | J9: 64.650379 | K9: =_xlfn.CONCAT(C9,"_",D9) -> Leenderbos, Groote Heide & De Plateaux_H7150 | L9: =VLOOKUP(D9,DATA!A:F,5,FALSE) -> 0.013726988 | M9: =VLOOKUP(D9,DATA!A:F,6,FALSE) -> 1285.5 | N9: =100/(1+EXP(-L9*(G9-M9))) -> 0.23843463 | O9: =100/(1+EXP(-L9*((G9+I9)-M9))) -> 0.23844755 | P9: =O9-N9 -> 1.2914157e-05 | Q9: =IF(AND(H9<>"below",I9>=0.005),J9*P9/100,0) -> 0
A10: 1913606 | B10: 136 | C10: Leenderbos, Groote Heide & De Plateaux | D10: H4010A | E10: Vochtige heiden (hogere zandgronden) | F10: 1071 | G10: 983.87 | H10: below | I10: 0.0039891 | J10: 19.617562 | K10: =_xlfn.CONCAT(C10,"_",D10) -> Leenderbos, Groote Heide & De Plateaux_H4010A | L10: =VLOOKUP(D10,DATA!A:F,5,FALSE) -> 0.013726988 | M10: =VLOOKUP(D10,DATA!A:F,6,FALSE) -> 1285.5 | N10: =100/(1+EXP(-L10*(G10-M10))) -> 1.5666016 | O10: =100/(1+EXP(-L10*((G10+I10)-M10))) -> 1.5666861 | P10: =O10-N10 -> 8.4442825e-05 | Q10: =IF(AND(H10<>"below",I10>=0.005),J10*P10/100,0) -> 0
A11: 1913606 | B11: 136 | C11: Leenderbos, Groote Heide & De Plateaux | D11: H7150 | E11: Pioniervegetaties met snavelbiezen | F11: 1071 | G11: 983.87 | H11: below | I11: 0.0039891 | J11: 9.1548625 | K11: =_xlfn.CONCAT(C11,"_",D11) -> Leenderbos, Groote Heide & De Plateaux_H7150 | L11: =VLOOKUP(D11,DATA!A:F,5,FALSE) -> 0.013726988 | M11: =VLOOKUP(D11,DATA!A:F,6,FALSE) -> 1285.5 | N11: =100/(1+EXP(-L11*(G11-M11))) -> 1.5666016 | O11: =100/(1+EXP(-L11*((G11+I11)-M11))) -> 1.5666861 | P11: =O11-N11 -> 8.4442825e-05 | Q11: =IF(AND(H11<>"below",I11>=0.005),J11*P11/100,0) -> 0
A12: 1915128 | B12: 136 | C12: Leenderbos, Groote Heide & De Plateaux | D12: H6510A | E12: Glanshaver- en vossenstaarthooilanden (glanshaver) | F12: 1357 | G12: 956.64 | H12: below | I12: 0.0045384 | J12: 136.92502 | K12: =_xlfn.CONCAT(C12,"_",D12) -> Leenderbos, Groote Heide & De Plateaux_H6510A | L12: =VLOOKUP(D12,DATA!A:F,5,FALSE) -> 0.0069939168 | M12: =VLOOKUP(D12,DATA!A:F,6,FALSE) -> 1778 | N12: =100/(1+EXP(-L12*(G12-M12))) -> 0.31900501 | O12: =100/(1+EXP(-L12*((G12+I12)-M12))) -> 0.3190151 | P12: =O12-N12 -> 1.0093457e-05 | Q12: =IF(AND(H12<>"below",I12>=0.005),J12*P12/100,0) -> 0
A13: 1915129 | B13: 136 | C13: Leenderbos, Groote Heide & De Plateaux | D13: H6510A | E13: Glanshaver- en vossenstaarthooilanden (glanshaver) | F13: 1357 | G13: 1050.76 | H13: below | I13: 0.0049296 | J13: 9621.309 | K13: =_xlfn.CONCAT(C13,"_",D13) -> Leenderbos, Groote Heide & De Plateaux_H6510A | L13: =VLOOKUP(D13,DATA!A:F,5,FALSE) -> 0.0069939168 | M13: =VLOOKUP(D13,DATA!A:F,6,FALSE) -> 1778 | N13: =100/(1+EXP(-L13*(G13-M13))) -> 0.61431468 | O13: =100/(1+EXP(-L13*((G13+I13)-M13))) -> 0.61433573 | P13: =O13-N13 -> 2.1050105e-05 | Q13: =IF(AND(H13<>"below",I13>=0.005),J13*P13/100,0) -> 0
A14: 1915134 | B14: 136 | C14: Leenderbos, Groote Heide & De Plateaux | D14: H4010A | E14: Vochtige heiden (hogere zandgronden) | F14: 1071 | G14: 839.65 | H14: below | I14: 0.0039837 | J14: 15.451159 | K14: =_xlfn.CONCAT(C14,"_",D14) -> Leenderbos, Groote Heide & De Plateaux_H4010A | L14: =VLOOKUP(D14,DATA!A:F,5,FALSE) -> 0.013726988 | M14: =VLOOKUP(D14,DATA!A:F,6,FALSE) -> 1285.5 | N14: =100/(1+EXP(-L14*(G14-M14))) -> 0.21932444 | O14: =100/(1+EXP(-L14*((G14+I14)-M14))) -> 0.21933641 | P14: =O14-N14 -> 1.1967603e-05 | Q14: =IF(AND(H14<>"below",I14>=0.005),J14*P14/100,0) -> 0
A15: 1915134 | B15: 136 | C15: Leenderbos, Groote Heide & De Plateaux | D15: H7150 | E15: Pioniervegetaties met snavelbiezen | F15: 1071 | G15: 839.65 | H15: below | I15: 0.0039837 | J15: 7.2105411 | K15: =_xlfn.CONCAT(C15,"_",D15) -> Leenderbos, Groote Heide & De Plateaux_H7150 | L15: =VLOOKUP(D15,DATA!A:F,5,FALSE) -> 0.013726988 | M15: =VLOOKUP(D15,DATA!A:F,6,FALSE) -> 1285.5 | N15: =100/(1+EXP(-L15*(G15-M15))) -> 0.21932444 | O15: =100/(1+EXP(-L15*((G15+I15)-M15))) -> 0.21933641 | P15: =O15-N15 -> 1.1967603e-05 | Q15: =IF(AND(H15<>"below",I15>=0.005),J15*P15/100,0) -> 0
A16: 1915135 | B16: 136 | C16: Leenderbos, Groote Heide & De Plateaux | D16: H4010A | E16: Vochtige heiden (hogere zandgronden) | F16: 1071 | G16: 852.49 | H16: below | I16: 0.0038826 | J16: 1209.682 | K16: =_xlfn.CONCAT(C16,"_",D16) -> Leenderbos, Groote Heide & De Plateaux_H4010A | L16: =VLOOKUP(D16,DATA!A:F,5,FALSE) -> 0.013726988 | M16: =VLOOKUP(D16,DATA!A:F,6,FALSE) -> 1285.5 | N16: =100/(1+EXP(-L16*(G16-M16))) -> 0.26148685 | O16: =100/(1+EXP(-L16*((G16+I16)-M16))) -> 0.26150075 | P16: =O16-N16 -> 1.3900236e-05 | Q16: =IF(AND(H16<>"below",I16>=0.005),J16*P16/100,0) -> 0
... A3843: 1905959 | B3843: 136 | C3843: Leenderbos, Groote Heide & De Plateaux | D3843: H3160 | E3843: Zure vennen | F3843: 714 | G3843: 913.52 | H3843: exceeding | I3843: 0.0042036 | J3843: 1343.1666 | K3843: =_xlfn.CONCAT(C3843,"_",D3843) -> Leenderbos, Groote Heide & De Plateaux_H3160 | L3843: =VLOOKUP(D3843,DATA!A:F,5,FALSE) -> 0.010986713 | M3843: =VLOOKUP(D3843,DATA!A:F,6,FALSE) -> 982 | N3843: =100/(1+EXP(-L3843*(G3843-M3843))) -> 32.030509 | O3843: =100/(1+EXP(-L3843*((G3843+I3843)-M3843))) -> 32.031515 | P3843: =O3843-N3843 -> 0.0010054735 | Q3843: =IF(AND(H3843<>"below",I3843>=0.005),J3843*P3843/100,0) -> 0
A3844: 1907486 | B3844: 136 | C3844: Leenderbos, Groote Heide & De Plateaux | D3844: H3130 | E3844: Zwakgebufferde vennen | F3844: 500 | G3844: 831.48 | H3844: exceeding | I3844: 0.003953 | J3844: 121.60661 | K3844: =_xlfn.CONCAT(C3844,"_",D3844) -> Leenderbos, Groote Heide & De Plateaux_H3130 | L3844: =VLOOKUP(D3844,DATA!A:F,5,FALSE) -> 0 | M3844: =VLOOKUP(D3844,DATA!A:F,6,FALSE) -> 3.5 | N3844: =100/(1+EXP(-L3844*(G3844-M3844))) -> 50 | O3844: =100/(1+EXP(-L3844*((G3844+I3844)-M3844))) -> 50 | P3844: =J3844/10000*I3844 -> 4.8071091e-05 | Q3844: =IF(AND(H3844<>"below",I3844>=0.005),M3844*P3844,0) -> 0
A3845: 1907488 | B3845: 136 | C3845: Leenderbos, Groote Heide & De Plateaux | D3845: H3160 | E3845: Zure vennen | F3845: 714 | G3845: 894.2 | H3845: exceeding | I3845: 0.0041353 | J3845: 736.7765 | K3845: =_xlfn.CONCAT(C3845,"_",D3845) -> Leenderbos, Groote Heide & De Plateaux_H3160 | L3845: =VLOOKUP(D3845,DATA!A:F,5,FALSE) -> 0.010986713 | M3845: =VLOOKUP(D3845,DATA!A:F,6,FALSE) -> 982 | N3845: =100/(1+EXP(-L3845*(G3845-M3845))) -> 27.595148 | O3845: =100/(1+EXP(-L3845*((G3845+I3845)-M3845))) -> 27.596056 | P3845: =O3845-N3845 -> 0.00090777789 | Q3845: =IF(AND(H3845<>"below",I3845>=0.005),J3845*P3845/100,0) -> 0
A3846: 1909016 | B3846: 136 | C3846: Leenderbos, Groote Heide & De Plateaux | D3846: H3130 | E3846: Zwakgebufferde vennen | F3846: 500 | G3846: 827.39 | H3846: exceeding | I3846: 0.0039259 | J3846: 336.03 | K3846: =_xlfn.CONCAT(C3846,"_",D3846) -> Leenderbos, Groote Heide & De Plateaux_H3130 | L3846: =VLOOKUP(D3846,DATA!A:F,5,FALSE) -> 0 | M3846: =VLOOKUP(D3846,DATA!A:F,6,FALSE) -> 3.5 | N3846: =100/(1+EXP(-L3846*(G3846-M3846))) -> 50 | O3846: =100/(1+EXP(-L3846*((G3846+I3846)-M3846))) -> 50 | P3846: =J3846/10000*I3846 -> 0.00013192202 | Q3846: =IF(AND(H3846<>"below",I3846>=0.005),M3846*P3846,0) -> 0
A3847: 1909018 | B3847: 136 | C3847: Leenderbos, Groote Heide & De Plateaux | D3847: H2330 | E3847: Zandverstuivingen | F3847: 714 | G3847: 863.79 | H3847: exceeding | I3847: 0.0040124 | J3847: 640.4785 | K3847: =_xlfn.CONCAT(C3847,"_",D3847) -> Leenderbos, Groote Heide & De Plateaux_H2330 | L3847: =VLOOKUP(D3847,DATA!A:F,5,FALSE) -> 0.010986713 | M3847: =VLOOKUP(D3847,DATA!A:F,6,FALSE) -> 982 | N3847: =100/(1+EXP(-L3847*(G3847-M3847))) -> 21.437727 | O3847: =100/(1+EXP(-L3847*((G3847+I3847)-M3847))) -> 21.438469 | P3847: =O3847-N3847 -> 0.00074245516 | Q3847: =IF(AND(H3847<>"below",I3847>=0.005),J3847*P3847/100,0) -> 0
A3848: 1909018 | B3848: 136 | C3848: Leenderbos, Groote Heide & De Plateaux | D3848: H4030 | E3848: Droge heiden | F3848: 714 | G3848: 863.79 | H3848: exceeding | I3848: 0.0040124 | J3848: 140.8902 | K3848: =_xlfn.CONCAT(C3848,"_",D3848) -> Leenderbos, Groote Heide & De Plateaux_H4030 | L3848: =VLOOKUP(D3848,DATA!A:F,5,FALSE) -> 0.010986713 | M3848: =VLOOKUP(D3848,DATA!A:F,6,FALSE) -> 982 | N3848: =100/(1+EXP(-L3848*(G3848-M3848))) -> 21.437727 | O3848: =100/(1+EXP(-L3848*((G3848+I3848)-M3848))) -> 21.438469 | P3848: =O3848-N3848 -> 0.00074245516 | Q3848: =IF(AND(H3848<>"below",I3848>=0.005),J3848*P3848/100,0) -> 0
A3849: 1910543 | B3849: 136 | C3849: Leenderbos, Groote Heide & De Plateaux | D3849: H4030 | E3849: Droge heiden | F3849: 714 | G3849: 1060.96 | H3849: exceeding | I3849: 0.0049974 | J3849: 456.76077 | K3849: =_xlfn.CONCAT(C3849,"_",D3849) -> Leenderbos, Groote Heide & De Plateaux_H4030 | L3849: =VLOOKUP(D3849,DATA!A:F,5,FALSE) -> 0.010986713 | M3849: =VLOOKUP(D3849,DATA!A:F,6,FALSE) -> 982 | N3849: =100/(1+EXP(-L3849*(G3849-M3849))) -> 70.422749 | O3849: =100/(1+EXP(-L3849*((G3849+I3849)-M3849))) -> 70.423893 | P3849: =O3849-N3849 -> 0.0011436096 | Q3849: =IF(AND(H3849<>"below",I3849>=0.005),J3849*P3849/100,0) -> 0
A3850: 1910545 | B3850: 136 | C3850: Leenderbos, Groote Heide & De Plateaux | D3850: H3130 | E3850: Zwakgebufferde vennen | F3850: 500 | G3850: 832.06 | H3850: exceeding | I3850: 0.0039254 | J3850: 1159.4343 | K3850: =_xlfn.CONCAT(C3850,"_",D3850) -> Leenderbos, Groote Heide & De Plateaux_H3130 | L3850: =VLOOKUP(D3850,DATA!A:F,5,FALSE) -> 0 | M3850: =VLOOKUP(D3850,DATA!A:F,6,FALSE) -> 3.5 | N3850: =100/(1+EXP(-L3850*(G3850-M3850))) -> 50 | O3850: =100/(1+EXP(-L3850*((G3850+I3850)-M3850))) -> 50 | P3850: =J3850/10000*I3850 -> 0.00045512434 | Q3850: =IF(AND(H3850<>"below",I3850>=0.005),M3850*P3850,0) -> 0
A3851: 1910546 | B3851: 136 | C3851: Leenderbos, Groote Heide & De Plateaux | D3851: H2330 | E3851: Zandverstuivingen | F3851: 714 | G3851: 825.85 | H3851: exceeding | I3851: 0.0038949 | J3851: 13.809123 | K3851: =_xlfn.CONCAT(C3851,"_",D3851) -> Leenderbos, Groote Heide & De Plateaux_H2330 | L3851: =VLOOKUP(D3851,DATA!A:F,5,FALSE) -> 0.010986713 | M3851: =VLOOKUP(D3851,DATA!A:F,6,FALSE) -> 982 | N3851: =100/(1+EXP(-L3851*(G3851-M3851))) -> 15.244199 | O3851: =100/(1+EXP(-L3851*((G3851+I3851)-M3851))) -> 15.244752 | P3851: =O3851-N3851 -> 0.00055289743 | Q3851: =IF(AND(H3851<>"below",I3851>=0.005),J3851*P3851/100,0) -> 0
A3852: 1910547 | B3852: 136 | C3852: Leenderbos, Groote Heide & De Plateaux | D3852: H2330 | E3852: Zandverstuivingen | F3852: 714 | G3852: 844.73 | H3852: exceeding | I3852: 0.0039257 | J3852: 525.2428 | K3852: =_xlfn.CONCAT(C3852,"_",D3852) -> Leenderbos, Groote Heide & De Plateaux_H2330 | L3852: =VLOOKUP(D3852,DATA!A:F,5,FALSE) -> 0.010986713 | M3852: =VLOOKUP(D3852,DATA!A:F,6,FALSE) -> 982 | N3852: =100/(1+EXP(-L3852*(G3852-M3852))) -> 18.121371 | O3852: =100/(1+EXP(-L3852*((G3852+I3852)-M3852))) -> 18.122011 | P3852: =O3852-N3852 -> 0.00063995946 | Q3852: =IF(AND(H3852<>"below",I3852>=0.005),J3852*P3852/100,0) -> 0
A3853: 1910547 | B3853: 136 | C3853: Leenderbos, Groote Heide & De Plateaux | D3853: H3160 | E3853: Zure vennen | F3853: 714 | G3853: 844.73 | H3853: exceeding | I3853: 0.0039257 | J3853: 61.429718 | K3853: =_xlfn.CONCAT(C3853,"_",D3853) -> Leenderbos, Groote Heide & De Plateaux_H3160 | L3853: =VLOOKUP(D3853,DATA!A:F,5,FALSE) -> 0.010986713 | M3853: =VLOOKUP(D3853,DATA!A:F,6,FALSE) -> 982 | N3853: =100/(1+EXP(-L3853*(G3853-M3853))) -> 18.121371 | O3853: =100/(1+EXP(-L3853*((G3853+I3853)-M3853))) -> 18.122011 | P3853: =O3853-N3853 -> 0.00063995946 | Q3853: =IF(AND(H3853<>"below",I3853>=0.005),J3853*P3853/100,0) -> 0
A3854: 1910547 | B3854: 136 | C3854: Leenderbos, Groote Heide & De Plateaux | D3854: H4030 | E3854: Droge heiden | F3854: 714 | G3854: 844.73 | H3854: exceeding | I3854: 0.0039257 | J3854: 101.60907 | K3854: =_xlfn.CONCAT(C3854,"_",D3854) -> Leenderbos, Groote Heide & De Plateaux_H4030 | L3854: =VLOOKUP(D3854,DATA!A:F,5,FALSE) -> 0.010986713 | M3854: =VLOOKUP(D3854,DATA!A:F,6,FALSE) -> 982 | N3854: =100/(1+EXP(-L3854*(G3854-M3854))) -> 18.121371 | O3854: =100/(1+EXP(-L3854*((G3854+I3854)-M3854))) -> 18.122011 | P3854: =O3854-N3854 -> 0.00063995946 | Q3854: =IF(AND(H3854<>"below",I3854>=0.005),J3854*P3854/100,0) -> 0
A3855: 1912073 | B3855: 136 | C3855: Leenderbos, Groote Heide & De Plateaux | D3855: H4030 | E3855: Droge heiden | F3855: 714 | G3855: 1035.54 | H3855: exceeding | I3855: 0.0049395 | J3855: 494.20728 | K3855: =_xlfn.CONCAT(C3855,"_",D3855) -> Leenderbos, Groote Heide & De Plateaux_H4030 | L3855: =VLOOKUP(D3855,DATA!A:F,5,FALSE) -> 0.010986713 | M3855: =VLOOKUP(D3855,DATA!A:F,6,FALSE) -> 982 | N3855: =100/(1+EXP(-L3855*(G3855-M3855))) -> 64.29586 | O3855: =100/(1+EXP(-L3855*((G3855+I3855)-M3855))) -> 64.297106 | P3855: =O3855-N3855 -> 0.0012458018 | Q3855: =IF(AND(H3855<>"below",I3855>=0.005),J3855*P3855/100,0) -> 0
A3856: 1912075 | B3856: 136 | C3856: Leenderbos, Groote Heide & De Plateaux | D3856: H4030 | E3856: Droge heiden | F3856: 714 | G3856: 829.28 | H3856: exceeding | I3856: 0.003886 | J3856: 148.2023 | K3856: =_xlfn.CONCAT(C3856,"_",D3856) -> Leenderbos, Groote Heide & De Plateaux_H4030 | L3856: =VLOOKUP(D3856,DATA!A:F,5,FALSE) -> 0.010986713 | M3856: =VLOOKUP(D3856,DATA!A:F,6,FALSE) -> 982 | N3856: =100/(1+EXP(-L3856*(G3856-M3856))) -> 15.737497 | O3856: =100/(1+EXP(-L3856*((G3856+I3856)-M3856))) -> 15.738063 | P3856: =O3856-N3856 -> 0.0005661701 | Q3856: =IF(AND(H3856<>"below",I3856>=0.005),J3856*P3856/100,0) -> 0
A3857: 1912076 | B3857: 136 | C3857: Leenderbos, Groote Heide & De Plateaux | D3857: H2330 | E3857: Zandverstuivingen | F3857: 714 | G3857: 829.4 | H3857: exceeding | I3857: 0.0039014 | J3857: 704.89276 | K3857: =_xlfn.CONCAT(C3857,"_",D3857) -> Leenderbos, Groote Heide & De Plateaux_H2330 | L3857: =VLOOKUP(D3857,DATA!A:F,5,FALSE) -> 0.010986713 | M3857: =VLOOKUP(D3857,DATA!A:F,6,FALSE) -> 982 | N3857: =100/(1+EXP(-L3857*(G3857-M3857))) -> 15.754988 | O3857: =100/(1+EXP(-L3857*((G3857+I3857)-M3857))) -> 15.755557 | P3857: =O3857-N3857 -> 0.00056892746 | Q3857: =IF(AND(H3857<>"below",I3857>=0.005),J3857*P3857/100,0) -> 0
A3858: 1912077 | B3858: 136 | C3858: Leenderbos, Groote Heide & De Plateaux | D3858: H3160 | E3858: Zure vennen | F3858: 714 | G3858: 846.38 | H3858: exceeding | I3858: 0.0039431 | J3858: 445.93692 | K3858: =_xlfn.CONCAT(C3858,"_",D3858) -> Leenderbos, Groote Heide & De Plateaux_H3160 | L3858: =VLOOKUP(D3858,DATA!A:F,5,FALSE) -> 0.010986713 | M3858: =VLOOKUP(D3858,DATA!A:F,6,FALSE) -> 982 | N3858: =100/(1+EXP(-L3858*(G3858-M3858))) -> 18.391903 | O3858: =100/(1+EXP(-L3858*((G3858+I3858)-M3858))) -> 18.392553 | P3858: =O3858-N3858 -> 0.00065023662 | Q3858: =IF(AND(H3858<>"below",I3858>=0.005),J3858*P3858/100,0) -> 0
A3859: 1912077 | B3859: 136 | C3859: Leenderbos, Groote Heide & De Plateaux | D3859: H4030 | E3859: Droge heiden | F3859: 714 | G3859: 846.38 | H3859: exceeding | I3859: 0.0039431 | J3859: 71.702367 | K3859: =_xlfn.CONCAT(C3859,"_",D3859) -> Leenderbos, Groote Heide & De Plateaux_H4030 | L3859: =VLOOKUP(D3859,DATA!A:F,5,FALSE) -> 0.010986713 | M3859: =VLOOKUP(D3859,DATA!A:F,6,FALSE) -> 982 | N3859: =100/(1+EXP(-L3859*(G3859-M3859))) -> 18.391903 | O3859: =100/(1+EXP(-L3859*((G3859+I3859)-M3859))) -> 18.392553 | P3859: =O3859-N3859 -> 0.00065023662 | Q3859: =IF(AND(H3859<>"below",I3859>=0.005),J3859*P3859/100,0) -> 0
A3860: 1913601 | B3860: 136 | C3860: Leenderbos, Groote Heide & De Plateaux | D3860: H4030 | E3860: Droge heiden | F3860: 714 | G3860: 1381.52 | H3860: exceeding | I3860: 0.0063931 | J3860: 8.510695 | K3860: =_xlfn.CONCAT(C3860,"_",D3860) -> Leenderbos, Groote Heide & De Plateaux_H4030 | L3860: =VLOOKUP(D3860,DATA!A:F,5,FALSE) -> 0.010986713 | M3860: =VLOOKUP(D3860,DATA!A:F,6,FALSE) -> 982 | N3860: =100/(1+EXP(-L3860*(G3860-M3860))) -> 98.774404 | O3860: =100/(1+EXP(-L3860*((G3860+I3860)-M3860))) -> 98.774489 | P3860: =O3860-N3860 -> 8.5026845e-05 | Q3860: =IF(AND(H3860<>"below",I3860>=0.005),J3860*P3860/100,0) -> 7.2363754e-06
A3861: 1913603 | B3861: 136 | C3861: Leenderbos, Groote Heide & De Plateaux | D3861: H4030 | E3861: Droge heiden | F3861: 714 | G3861: 835.77 | H3861: exceeding | I3861: 0.0039459 | J3861: 261.62967 | K3861: =_xlfn.CONCAT(C3861,"_",D3861) -> Leenderbos, Groote Heide & De Plateaux_H4030 | L3861: =VLOOKUP(D3861,DATA!A:F,5,FALSE) -> 0.010986713 | M3861: =VLOOKUP(D3861,DATA!A:F,6,FALSE) -> 982 | N3861: =100/(1+EXP(-L3861*(G3861-M3861))) -> 16.706301 | O3861: =100/(1+EXP(-L3861*((G3861+I3861)-M3861))) -> 16.706904 | P3861: =O3861-N3861 -> 0.00060327114 | Q3861: =IF(AND(H3861<>"below",I3861>=0.005),J3861*P3861/100,0) -> 0
A3862: 1913604 | B3862: 136 | C3862: Leenderbos, Groote Heide & De Plateaux | D3862: H3130 | E3862: Zwakgebufferde vennen | F3862: 500 | G3862: 830.92 | H3862: exceeding | I3862: 0.0039056 | J3862: 219.19698 | K3862: =_xlfn.CONCAT(C3862,"_",D3862) -> Leenderbos, Groote Heide & De Plateaux_H3130 | L3862: =VLOOKUP(D3862,DATA!A:F,5,FALSE) -> 0 | M3862: =VLOOKUP(D3862,DATA!A:F,6,FALSE) -> 3.5 | N3862: =100/(1+EXP(-L3862*(G3862-M3862))) -> 50 | O3862: =100/(1+EXP(-L3862*((G3862+I3862)-M3862))) -> 50 | P3862: =J3862/10000*I3862 -> 8.5609573e-05 | Q3862: =IF(AND(H3862<>"below",I3862>=0.005),M3862*P3862,0) -> 0
A3863: 1913605 | B3863: 136 | C3863: Leenderbos, Groote Heide & De Plateaux | D3863: H3160 | E3863: Zure vennen | F3863: 714 | G3863: 845.75 | H3863: exceeding | I3863: 0.003955 | J3863: 17.413345 | K3863: =_xlfn.CONCAT(C3863,"_",D3863) -> Leenderbos, Groote Heide & De Plateaux_H3160 | L3863: =VLOOKUP(D3863,DATA!A:F,5,FALSE) -> 0.010986713 | M3863: =VLOOKUP(D3863,DATA!A:F,6,FALSE) -> 982 | N3863: =100/(1+EXP(-L3863*(G3863-M3863))) -> 18.288242 | O3863: =100/(1+EXP(-L3863*((G3863+I3863)-M3863))) -> 18.288891 | P3863: =O3863-N3863 -> 0.00064934686 | Q3863: =IF(AND(H3863<>"below",I3863>=0.005),J3863*P3863/100,0) -> 0
A3864: 1913605 | B3864: 136 | C3864: Leenderbos, Groote Heide & De Plateaux | D3864: H4030 | E3864: Droge heiden | F3864: 714 | G3864: 845.75 | H3864: exceeding | I3864: 0.003955 | J3864: 138.53653 | K3864: =_xlfn.CONCAT(C3864,"_",D3864) -> Leenderbos, Groote Heide & De Plateaux_H4030 | L3864: =VLOOKUP(D3864,DATA!A:F,5,FALSE) -> 0.010986713 | M3864: =VLOOKUP(D3864,DATA!A:F,6,FALSE) -> 982 | N3864: =100/(1+EXP(-L3864*(G3864-M3864))) -> 18.288242 | O3864: =100/(1+EXP(-L3864*((G3864+I3864)-M3864))) -> 18.288891 | P3864: =O3864-N3864 -> 0.00064934686 | Q3864: =IF(AND(H3864<>"below",I3864>=0.005),J3864*P3864/100,0) -> 0
A3865: 1913606 | B3865: 136 | C3865: Leenderbos, Groote Heide & De Plateaux | D3865: H4030 | E3865: Droge heiden | F3865: 714 | G3865: 983.87 | H3865: exceeding | I3865: 0.0039891 | J3865: 19.617562 | K3865: =_xlfn.CONCAT(C3865,"_",D3865) -> Leenderbos, Groote Heide & De Plateaux_H4030 | L3865: =VLOOKUP(D3865,DATA!A:F,5,FALSE) -> 0.010986713 | M3865: =VLOOKUP(D3865,DATA!A:F,6,FALSE) -> 982 | N3865: =100/(1+EXP(-L3865*(G3865-M3865))) -> 50.513611 | O3865: =100/(1+EXP(-L3865*((G3865+I3865)-M3865))) -> 50.514706 | P3865: =O3865-N3865 -> 0.0010955615 | Q3865: =IF(AND(H3865<>"below",I3865>=0.005),J3865*P3865/100,0) -> 0
A3866: 1915130 | B3866: 136 | C3866: Leenderbos, Groote Heide & De Plateaux | D3866: H6510A | E3866: Glanshaver- en vossenstaarthooilanden (glanshaver) | F3866: 1357 | G3866: 1567.72 | H3866: exceeding | I3866: 0.0074644 | J3866: 865.8591 | K3866: =_xlfn.CONCAT(C3866,"_",D3866) -> Leenderbos, Groote Heide & De Plateaux_H6510A | L3866: =VLOOKUP(D3866,DATA!A:F,5,FALSE) -> 0.0069939168 | M3866: =VLOOKUP(D3866,DATA!A:F,6,FALSE) -> 1778 | N3866: =100/(1+EXP(-L3866*(G3866-M3866))) -> 18.683915 | O3866: =100/(1+EXP(-L3866*((G3866+I3866)-M3866))) -> 18.684709 | P3866: =O3866-N3866 -> 0.00079317098 | Q3866: =IF(AND(H3866<>"below",I3866>=0.005),J3866*P3866/100,0) -> 0.0068677431
...

Sheet DATA
A1: ID | B1: KDW | C1: BG | D1: ABG | E1: B | F1: u | G1: MIN [m2] | H1: ONZEKERHEID | I1: TRUE
A2: H3160 | B2: 714 | C2: 1250 | D2: =C2+1150 -> 2400 | E2: =(LN(5/(100-5))-LN(95/(100-95)))/(B2-C2) -> 0.010986713 | F2: =B2-(LN(5/(100-5))/E2) -> 982 | G2: =IF(OR(A2=H6097,A2=7220),10,100) -> 100 | H2: 2 | I2: in beide | L2: Letterlijk zoals opgenomen in achtergrondnotitie SEM methodiek
A3: ZGH3160 | B3: 714 | C3: 1250 | D3: =C3+1150 -> 2400 | E3: =(LN(5/(100-5))-LN(95/(100-95)))/(B3-C3) -> 0.010986713 | F3: =B3-(LN(5/(100-5))/E3) -> 982 | G3: =IF(OR(A3=H6098,A3=7220),10,100) -> 100 | H3: 2 | I3: in beide | L3: Kent een aangepaste KDW, maar analoog aan achtergrondnotitie SEM methodiek
A4: H2130B | B4: 714 | C4: 1250 | D4: =C4+1150 -> 2400 | E4: =(LN(5/(100-5))-LN(95/(100-95)))/(B4-C4) -> 0.010986713 | F4: =B4-(LN(5/(100-5))/E4) -> 982 | I4: in beide | L4: Biomassa methode
A5: ZGH2130B | B5: 714 | C5: 1250 | D5: =C5+1150 -> 2400 | E5: =(LN(5/(100-5))-LN(95/(100-95)))/(B5-C5) -> 0.010986713 | F5: =B5-(LN(5/(100-5))/E5) -> 982 | I5: in beide | L5: Niet aanwezig, geen bijdrage en/of niet overspannen in huidige dataset
A6: H2330 | B6: 714 | C6: 1250 | D6: =C6+1150 -> 2400 | E6: =(LN(5/(100-5))-LN(95/(100-95)))/(B6-C6) -> 0.010986713 | F6: =B6-(LN(5/(100-5))/E6) -> 982 | G6: =IF(OR(A6=H6101,A6=7220),10,100) -> 100 | H6: 2 | I6: in beide
A7: ZGH2330 | B7: 714 | C7: 1250 | D7: =C7+1150 -> 2400 | E7: =(LN(5/(100-5))-LN(95/(100-95)))/(B7-C7) -> 0.010986713 | F7: =B7-(LN(5/(100-5))/E7) -> 982 | G7: =IF(OR(A7=H6102,A7=7220),10,100) -> 100 | H7: 2 | I7: in beide
A8: H4010B | B8: 786 | C8: 1250 | D8: =C8+1150 -> 2400 | E8: =(LN(5/(100-5))-LN(95/(100-95)))/(B8-C8) -> 0.012691547 | F8: =B8-(LN(5/(100-5))/E8) -> 1018 | I8: in beide
A9: ZGH4010B | B9: 786 | C9: 1250 | D9: =C9+1150 -> 2400 | E9: =(LN(5/(100-5))-LN(95/(100-95)))/(B9-C9) -> 0.012691547 | F9: =B9-(LN(5/(100-5))/E9) -> 1018 | I9: in beide
A10: H7110A | B10: 500 | C10: 1000 | D10: =C10+1150 -> 2150 | E10: =(LN(5/(100-5))-LN(95/(100-95)))/(B10-C10) -> 0.011777756 | F10: =B10-(LN(5/(100-5))/E10) -> 750 | I10: in beide
A11: ZGH7110A | B11: 500 | C11: 1000 | D11: =C11+1150 -> 2150 | E11: =(LN(5/(100-5))-LN(95/(100-95)))/(B11-C11) -> 0.011777756 | F11: =B11-(LN(5/(100-5))/E11) -> 750 | I11: in beide
A12: H7120ah | B12: 500 | C12: 1000 | D12: =C12+1150 -> 2150 | E12: =(LN(5/(100-5))-LN(95/(100-95)))/(B12-C12) -> 0.011777756 | F12: =B12-(LN(5/(100-5))/E12) -> 750 | I12: in beide
A13: ZGH7120ah | B13: 500 | C13: 1000 | D13: =C13+1150 -> 2150 | E13: =(LN(5/(100-5))-LN(95/(100-95)))/(B13-C13) -> 0.011777756 | F13: =B13-(LN(5/(100-5))/E13) -> 750 | I13: in beide
A14: H7110B | B14: 714 | C14: 1250 | D14: =C14+1150 -> 2400 | E14: =(LN(5/(100-5))-LN(95/(100-95)))/(B14-C14) -> 0.010986713 | F14: =B14-(LN(5/(100-5))/E14) -> 982 | G14: =IF(OR(A14=H6109,A14=7220),10,100) -> 100 | H14: 2 | I14: in beide
A15: ZGH7110B | B15: 714 | C15: 1250 | D15: =C15+1150 -> 2400 | E15: =(LN(5/(100-5))-LN(95/(100-95)))/(B15-C15) -> 0.010986713 | F15: =B15-(LN(5/(100-5))/E15) -> 982 | G15: =IF(OR(A15=H6110,A15=7220),10,100) -> 100 | H15: 2 | I15: in beide
A16: H7140B | B16: 714 | C16: 1250 | D16: =C16+1150 -> 2400 | E16: =(LN(5/(100-5))-LN(95/(100-95)))/(B16-C16) -> 0.010986713 | F16: =B16-(LN(5/(100-5))/E16) -> 982 | I16: in lijst
A17: ZGH7140B | B17: 714 | C17: 1250 | D17: =C17+1150 -> 2400 | E17: =(LN(5/(100-5))-LN(95/(100-95)))/(B17-C17) -> 0.010986713 | F17: =B17-(LN(5/(100-5))/E17) -> 982 | I17: in lijst
A18: H7120vh | B18: 1214 | C18: 1500 | D18: =C18+1150 -> 2650 | E18: =(LN(5/(100-5))-LN(95/(100-95)))/(B18-C18) -> 0.020590482 | F18: =B18-(LN(5/(100-5))/E18) -> 1357 | I18: in beide
A19: ZGH7120vh | B19: 1214 | C19: 1500 | D19: =C19+1150 -> 2650 | E19: =(LN(5/(100-5))-LN(95/(100-95)))/(B19-C19) -> 0.020590482 | F19: =B19-(LN(5/(100-5))/E19) -> 1357 | I19: in beide
A20: H2140A | B20: 1071 | C20: 1500 | D20: =C20+1150 -> 2650 | E20: =(LN(5/(100-5))-LN(95/(100-95)))/(B20-C20) -> 0.013726988 | F20: =B20-(LN(5/(100-5))/E20) -> 1285.5 | I20: in beide
A21: ZGH2140A | B21: 1071 | C21: 1500 | D21: =C21+1150 -> 2650 | E21: =(LN(5/(100-5))-LN(95/(100-95)))/(B21-C21) -> 0.013726988 | F21: =B21-(LN(5/(100-5))/E21) -> 1285.5 | I21: in beide
A22: H2140B | B22: 1071 | C22: 1500 | D22: =C22+1150 -> 2650 | E22: =(LN(5/(100-5))-LN(95/(100-95)))/(B22-C22) -> 0.013726988 | F22: =B22-(LN(5/(100-5))/E22) -> 1285.5 | I22: in beide
A23: ZGH2140B | B23: 1071 | C23: 1500 | D23: =C23+1150 -> 2650 | E23: =(LN(5/(100-5))-LN(95/(100-95)))/(B23-C23) -> 0.013726988 | F23: =B23-(LN(5/(100-5))/E23) -> 1285.5 | I23: in beide
A24: H2150 | B24: 1071 | C24: 1500 | D24: =C24+1150 -> 2650 | E24: =(LN(5/(100-5))-LN(95/(100-95)))/(B24-C24) -> 0.013726988 | F24: =B24-(LN(5/(100-5))/E24) -> 1285.5 | I24: in beide
A25: ZGH2150 | B25: 1071 | C25: 1500 | D25: =C25+1150 -> 2650 | E25: =(LN(5/(100-5))-LN(95/(100-95)))/(B25-C25) -> 0.013726988 | F25: =B25-(LN(5/(100-5))/E25) -> 1285.5 | I25: in beide
A26: H2190C | B26: 1071 | C26: 1500 | D26: =C26+1150 -> 2650 | E26: =(LN(5/(100-5))-LN(95/(100-95)))/(B26-C26) -> 0.013726988 | F26: =B26-(LN(5/(100-5))/E26) -> 1285.5 | I26: in beide
A27: ZGH2190C | B27: 1071 | C27: 1500 | D27: =C27+1150 -> 2650 | E27: =(LN(5/(100-5))-LN(95/(100-95)))/(B27-C27) -> 0.013726988 | F27: =B27-(LN(5/(100-5))/E27) -> 1285.5 | I27: in beide
... A31: ZGH2180Abe | B31: 1071 | C31: 1500 | D31: =C31+1150 -> 2650 | E31: =(LN(5/(100-5))-LN(95/(100-95)))/(B31-C31) -> 0.013726988 | F31: =B31-(LN(5/(100-5))/E31) -> 1285.5 | I31: in beide
A32: H2310 | B32: 714 | C32: 1250 | D32: =C32+1150 -> 2400 | E32: =(LN(5/(100-5))-LN(95/(100-95)))/(B32-C32) -> 0.010986713 | F32: =B32-(LN(5/(100-5))/E32) -> 982 | G32: =IF(OR(A32=H6127,A32=7220),10,100) -> 100 | H32: 2 | I32: in beide
A33: ZGH2310 | B33: 714 | C33: 1250 | D33: =C33+1150 -> 2400 | E33: =(LN(5/(100-5))-LN(95/(100-95)))/(B33-C33) -> 0.010986713 | F33: =B33-(LN(5/(100-5))/E33) -> 982 | G33: =IF(OR(A33=H6128,A33=7220),10,100) -> 100 | H33: 2 | I33: in beide
A34: H2320 | B34: 1071 | C34: 1500 | D34: =C34+1150 -> 2650 | E34: =(LN(5/(100-5))-LN(95/(100-95)))/(B34-C34) -> 0.013726988 | F34: =B34-(LN(5/(100-5))/E34) -> 1285.5 | I34: in beide
A35: ZGH2320 | B35: 1071 | C35: 1500 | D35: =C35+1150 -> 2650 | E35: =(LN(5/(100-5))-LN(95/(100-95)))/(B35-C35) -> 0.013726988 | F35: =B35-(LN(5/(100-5))/E35) -> 1285.5 | I35: in beide
A36: H4030 | B36: 714 | C36: 1250 | D36: =C36+1150 -> 2400 | E36: =(LN(5/(100-5))-LN(95/(100-95)))/(B36-C36) -> 0.010986713 | F36: =B36-(LN(5/(100-5))/E36) -> 982 | G36: =IF(OR(A36=H6131,A36=7220),10,100) -> 100 | H36: 2 | I36: in beide
A37: ZGH4030 | B37: 714 | C37: 1250 | D37: =C37+1150 -> 2400 | E37: =(LN(5/(100-5))-LN(95/(100-95)))/(B37-C37) -> 0.010986713 | F37: =B37-(LN(5/(100-5))/E37) -> 982 | G37: =IF(OR(A37=H6132,A37=7220),10,100) -> 100 | H37: 2 | I37: in beide
A38: H5130 | B38: 1071 | C38: 1500 | D38: =C38+1150 -> 2650 | E38: =(LN(5/(100-5))-LN(95/(100-95)))/(B38-C38) -> 0.013726988 | F38: =B38-(LN(5/(100-5))/E38) -> 1285.5 | I38: in beide
A39: ZGH5130 | B39: 1071 | C39: 1500 | D39: =C39+1150 -> 2650 | E39: =(LN(5/(100-5))-LN(95/(100-95)))/(B39-C39) -> 0.013726988 | F39: =B39-(LN(5/(100-5))/E39) -> 1285.5 | I39: in beide
A40: H6130 | B40: 1071 | C40: 1500 | D40: =C40+1150 -> 2650 | E40: =(LN(5/(100-5))-LN(95/(100-95)))/(B40-C40) -> 0.013726988 | F40: =B40-(LN(5/(100-5))/E40) -> 1285.5 | I40: in beide
A41: ZGH6130 | B41: 1071 | C41: 1500 | D41: =C41+1150 -> 2650 | E41: =(LN(5/(100-5))-LN(95/(100-95)))/(B41-C41) -> 0.013726988 | F41: =B41-(LN(5/(100-5))/E41) -> 1285.5 | I41: in beide
A42: H7140A | B42: 1214 | C42: 1500 | D42: =C42+1150 -> 2650 | E42: =(LN(5/(100-5))-LN(95/(100-95)))/(B42-C42) -> 0.020590482 | F42: =B42-(LN(5/(100-5))/E42) -> 1357 | G42: =IF(OR(A42=H6137,A42=7220),10,100) -> 100 | H42: 2 | I42: in lijst
A43: ZGH7140A | B43: 1214 | C43: 1500 | D43: =C43+1150 -> 2650 | E43: =(LN(5/(100-5))-LN(95/(100-95)))/(B43-C43) -> 0.020590482 | F43: =B43-(LN(5/(100-5))/E43) -> 1357 | G43: =IF(OR(A43=H6138,A43=7220),10,100) -> 100 | H43: 2 | I43: in lijst
...

Sheet OPGAVE
F1: TOTAAL | G1: =SUM(G3:G72) -> 350.94971 | I1: =SUM(I3:I72) -> 23208.322
A2: N2000_NAAM | B2: HABITAT_ID | C2: HABITAT_NAAM | D2: ID1 | E2: ID2 | F2: LANDSCHAP | G2: OPP [m2] | H2: MIN OPP [m2] | I2: AREAAL [m2] | J2: OVERCOMP
A3: Kampina & Oisterwijkse Vennen | B3: H2310 | C3: Stuifzandheiden met struikhei | D3: =_xlfn.CONCAT(A3,"_",B3) -> Kampina & Oisterwijkse Vennen_H2310 | E3: =_xlfn.CONCAT(A3,"_ZG",B3) -> Kampina & Oisterwijkse Vennen_ZGH2310 | F3: Hogere Zandgronden | G3: =SUMIF(Ndep_volledig!K:Q,D:D,Ndep_volledig!Q:Q)+SUMIF(Ndep_volledig!K:Q,E:E,Ndep_volledig!Q:Q) -> 2.2971535 | H3: =IF(G3=0,0,G3*2) -> 4.5943069 | I3: =IF(G3=0,0,IF(G3*2>VLOOKUP(B3,DATA!A:G,7,FALSE),G3*2,VLOOKUP(B3,DATA!A:G,7,FALSE))) -> 100 | J3: =(I3-G3)/G3 -> 42.532137 | M3: Compensatie bepaald obv biomassa methode
A4: Kampina & Oisterwijkse Vennen | B4: H2330 | C4: Zandverstuivingen | D4: =_xlfn.CONCAT(A4,"_",B4) -> Kampina & Oisterwijkse Vennen_H2330 | E4: =_xlfn.CONCAT(A4,"_ZG",B4) -> Kampina & Oisterwijkse Vennen_ZGH2330 | F4: Hogere Zandgronden | G4: =SUMIF(Ndep_volledig!K:Q,D:D,Ndep_volledig!Q:Q)+SUMIF(Ndep_volledig!K:Q,E:E,Ndep_volledig!Q:Q) -> 0.0015077375 | H4: =IF(G4=0,0,G4*2) -> 0.003015475 | I4: =IF(G4=0,0,IF(G4*2>VLOOKUP(B4,DATA!A:G,7,FALSE),G4*2,VLOOKUP(B4,DATA!A:G,7,FALSE))) -> 100 | J4: =(I4-G4)/G4 -> 66323.543
A5: Kampina & Oisterwijkse Vennen | B5: H3110 | C5: Zeer zwakgebufferde vennen | D5: =_xlfn.CONCAT(A5,"_",B5) -> Kampina & Oisterwijkse Vennen_H3110 | E5: =_xlfn.CONCAT(A5,"_ZG",B5) -> Kampina & Oisterwijkse Vennen_ZGH3110 | F5: Hogere Zandgronden | G5: =SUMIF(Ndep_volledig!K:Q,D:D,Ndep_volledig!Q:Q)+SUMIF(Ndep_volledig!K:Q,E:E,Ndep_volledig!Q:Q) -> 0.15665328 | H5: =IF(G5=0,0,G5*2) -> 0.31330657 | I5: =IF(G5=0,0,IF(G5*2>VLOOKUP(B5,DATA!A:G,7,FALSE),G5*2,VLOOKUP(B5,DATA!A:G,7,FALSE))) -> 100 | J5: =(I5-G5)/G5 -> 637.3524
A6: Kampina & Oisterwijkse Vennen | B6: H3130 | C6: Zwakgebufferde vennen | D6: =_xlfn.CONCAT(A6,"_",B6) -> Kampina & Oisterwijkse Vennen_H3130 | E6: =_xlfn.CONCAT(A6,"_ZG",B6) -> Kampina & Oisterwijkse Vennen_ZGH3130 | F6: Hogere Zandgronden | G6: =SUMIF(Ndep_volledig!K:Q,D:D,Ndep_volledig!Q:Q)+SUMIF(Ndep_volledig!K:Q,E:E,Ndep_volledig!Q:Q) -> 1.1194132 | H6: =IF(G6=0,0,G6*2) -> 2.2388263 | I6: =IF(G6=0,0,IF(G6*2>VLOOKUP(B6,DATA!A:G,7,FALSE),G6*2,VLOOKUP(B6,DATA!A:G,7,FALSE))) -> 100 | J6: =(I6-G6)/G6 -> 88.332522
A7: Kampina & Oisterwijkse Vennen | B7: H3160 | C7: Zure vennen | D7: =_xlfn.CONCAT(A7,"_",B7) -> Kampina & Oisterwijkse Vennen_H3160 | E7: =_xlfn.CONCAT(A7,"_ZG",B7) -> Kampina & Oisterwijkse Vennen_ZGH3160 | F7: Hogere Zandgronden | G7: =SUMIF(Ndep_volledig!K:Q,D:D,Ndep_volledig!Q:Q)+SUMIF(Ndep_volledig!K:Q,E:E,Ndep_volledig!Q:Q) -> 7.5277346 | H7: =IF(G7=0,0,G7*2) -> 15.055469 | I7: =IF(G7=0,0,IF(G7*2>VLOOKUP(B7,DATA!A:G,7,FALSE),G7*2,VLOOKUP(B7,DATA!A:G,7,FALSE))) -> 100 | J7: =(I7-G7)/G7 -> 12.284209
A8: Kampina & Oisterwijkse Vennen | B8: H4010A | C8: Vochtige heiden (hogere zandgronden) | D8: =_xlfn.CONCAT(A8,"_",B8) -> Kampina & Oisterwijkse Vennen_H4010A | E8: =_xlfn.CONCAT(A8,"_ZG",B8) -> Kampina & Oisterwijkse Vennen_ZGH4010A | F8: Hogere Zandgronden | G8: =SUMIF(Ndep_volledig!K:Q,D:D,Ndep_volledig!Q:Q)+SUMIF(Ndep_volledig!K:Q,E:E,Ndep_volledig!Q:Q) -> 15.243017 | H8: =IF(G8=0,0,G8*2) -> 30.486034 | I8: =IF(G8=0,0,IF(G8*2>VLOOKUP(B8,DATA!A:G,7,FALSE),G8*2,VLOOKUP(B8,DATA!A:G,7,FALSE))) -> 100 | J8: =(I8-G8)/G8 -> 5.5603811
A9: Kampina & Oisterwijkse Vennen | B9: H4030 | C9: Droge heiden | D9: =_xlfn.CONCAT(A9,"_",B9) -> Kampina & Oisterwijkse Vennen_H4030 | E9: =_xlfn.CONCAT(A9,"_ZG",B9) -> Kampina & Oisterwijkse Vennen_ZGH4030 | F9: Hogere Zandgronden | G9: =SUMIF(Ndep_volledig!K:Q,D:D,Ndep_volledig!Q:Q)+SUMIF(Ndep_volledig!K:Q,E:E,Ndep_volledig!Q:Q) -> 33.259587 | H9: =IF(G9=0,0,G9*2) -> 66.519173 | I9: =IF(G9=0,0,IF(G9*2>VLOOKUP(B9,DATA!A:G,7,FALSE),G9*2,VLOOKUP(B9,DATA!A:G,7,FALSE))) -> 100 | J9: =(I9-G9)/G9 -> 2.0066519
A10: Kampina & Oisterwijkse Vennen | B10: H6410 | C10: Blauwgraslanden | D10: =_xlfn.CONCAT(A10,"_",B10) -> Kampina & Oisterwijkse Vennen_H6410 | E10: =_xlfn.CONCAT(A10,"_ZG",B10) -> Kampina & Oisterwijkse Vennen_ZGH6410 | F10: Hogere Zandgronden | G10: =SUMIF(Ndep_volledig!K:Q,D:D,Ndep_volledig!Q:Q)+SUMIF(Ndep_volledig!K:Q,E:E,Ndep_volledig!Q:Q) -> 0.0020273108 | H10: =IF(G10=0,0,G10*2) -> 0.0040546216 | I10: =IF(G10=0,0,IF(G10*2>VLOOKUP(B10,DATA!A:G,7,FALSE),G10*2,VLOOKUP(B10,DATA!A:G,7,FALSE))) -> 100 | J10: =(I10-G10)/G10 -> 49325.428
A11: Kampina & Oisterwijkse Vennen | B11: H7110B | C11: Actieve hoogvenen (heideveentjes) | D11: =_xlfn.CONCAT(A11,"_",B11) -> Kampina & Oisterwijkse Vennen_H7110B | E11: =_xlfn.CONCAT(A11,"_ZG",B11) -> Kampina & Oisterwijkse Vennen_ZGH7110B | F11: Hogere Zandgronden | G11: =SUMIF(Ndep_volledig!K:Q,D:D,Ndep_volledig!Q:Q)+SUMIF(Ndep_volledig!K:Q,E:E,Ndep_volledig!Q:Q) -> 0.25020678 | H11: =IF(G11=0,0,G11*2) -> 0.50041356 | I11: =IF(G11=0,0,IF(G11*2>VLOOKUP(B11,DATA!A:G,7,FALSE),G11*2,VLOOKUP(B11,DATA!A:G,7,FALSE))) -> 100 | J11: =(I11-G11)/G11 -> 398.66943
A12: Kampina & Oisterwijkse Vennen | B12: H7150 | C12: Pioniervegetaties met snavelbiezen | D12: =_xlfn.CONCAT(A12,"_",B12) -> Kampina & Oisterwijkse Vennen_H7150 | E12: =_xlfn.CONCAT(A12,"_ZG",B12) -> Kampina & Oisterwijkse Vennen_ZGH7150 | F12: Hogere Zandgronden | G12: =SUMIF(Ndep_volledig!K:Q,D:D,Ndep_volledig!Q:Q)+SUMIF(Ndep_volledig!K:Q,E:E,Ndep_volledig!Q:Q) -> 2.3607095 | H12: =IF(G12=0,0,G12*2) -> 4.721419 | I12: =IF(G12=0,0,IF(G12*2>VLOOKUP(B12,DATA!A:G,7,FALSE),G12*2,VLOOKUP(B12,DATA!A:G,7,FALSE))) -> 100 | J12: =(I12-G12)/G12 -> 41.360146
A13: Kampina & Oisterwijkse Vennen | B13: H7210 | C13: Galigaanmoerassen | D13: =_xlfn.CONCAT(A13,"_",B13) -> Kampina & Oisterwijkse Vennen_H7210 | E13: =_xlfn.CONCAT(A13,"_ZG",B13) -> Kampina & Oisterwijkse Vennen_ZGH7210 | F13: Hogere Zandgronden | G13: =SUMIF(Ndep_volledig!K:Q,D:D,Ndep_volledig!Q:Q)+SUMIF(Ndep_volledig!K:Q,E:E,Ndep_volledig!Q:Q) -> 0 | H13: =IF(G13=0,0,G13*2) -> 0 | I13: =IF(G13=0,0,IF(G13*2>VLOOKUP(B13,DATA!A:G,7,FALSE),G13*2,VLOOKUP(B13,DATA!A:G,7,FALSE))) -> 0 | J13: 0
A14: Kampina & Oisterwijkse Vennen | B14: H9120 | C14: Beuken-eikenbossen met hulst | D14: =_xlfn.CONCAT(A14,"_",B14) -> Kampina & Oisterwijkse Vennen_H9120 | E14: =_xlfn.CONCAT(A14,"_ZG",B14) -> Kampina & Oisterwijkse Vennen_ZGH9120 | F14: Hogere Zandgronden | G14: =SUMIF(Ndep_volledig!K:Q,D:D,Ndep_volledig!Q:Q)+SUMIF(Ndep_volledig!K:Q,E:E,Ndep_volledig!Q:Q) -> 0.40402657 | H14: =IF(G14=0,0,G14*2) -> 0.80805314 | I14: =IF(G14=0,0,IF(G14*2>VLOOKUP(B14,DATA!A:G,7,FALSE),G14*2,VLOOKUP(B14,DATA!A:G,7,FALSE))) -> 1000 | J14: =(I14-G14)/G14 -> 2474.0847
A15: Kampina & Oisterwijkse Vennen | B15: H9190 | C15: Oude eikenbossen | D15: =_xlfn.CONCAT(A15,"_",B15) -> Kampina & Oisterwijkse Vennen_H9190 | E15: =_xlfn.CONCAT(A15,"_ZG",B15) -> Kampina & Oisterwijkse Vennen_ZGH9190 | F15: Hogere Zandgronden | G15: =SUMIF(Ndep_volledig!K:Q,D:D,Ndep_volledig!Q:Q)+SUMIF(Ndep_volledig!K:Q,E:E,Ndep_volledig!Q:Q) -> 3.3892429 | H15: =IF(G15=0,0,G15*2) -> 6.7784857 | I15: =IF(G15=0,0,IF(G15*2>VLOOKUP(B15,DATA!A:G,7,FALSE),G15*2,VLOOKUP(B15,DATA!A:G,7,FALSE))) -> 1000 | J15: =(I15-G15)/G15 -> 294.05115
A16: Kampina & Oisterwijkse Vennen | B16: H91D0 | C16: Hoogveenbossen | D16: =_xlfn.CONCAT(A16,"_",B16) -> Kampina & Oisterwijkse Vennen_H91D0 | E16: =_xlfn.CONCAT(A16,"_ZG",B16) -> Kampina & Oisterwijkse Vennen_ZGH91D0 | F16: Hogere Zandgronden | G16: =SUMIF(Ndep_volledig!K:Q,D:D,Ndep_volledig!Q:Q)+SUMIF(Ndep_volledig!K:Q,E:E,Ndep_volledig!Q:Q) -> 2.4979478 | H16: =IF(G16=0,0,G16*2) -> 4.9958955 | I16: =IF(G16=0,0,IF(G16*2>VLOOKUP(B16,DATA!A:G,7,FALSE),G16*2,VLOOKUP(B16,DATA!A:G,7,FALSE))) -> 1000 | J16: =(I16-G16)/G16 -> 399.32863
A17: Kampina & Oisterwijkse Vennen | B17: H91E0C | C17: Vochtige alluviale bossen (beekbegeleidende bossen | D17: =_xlfn.CONCAT(A17,"_",B17) -> Kampina & Oisterwijkse Vennen_H91E0C | E17: =_xlfn.CONCAT(A17,"_ZG",B17) -> Kampina & Oisterwijkse Vennen_ZGH91E0C | F17: Hogere Zandgronden | G17: =SUMIF(Ndep_volledig!K:Q,D:D,Ndep_volledig!Q:Q)+SUMIF(Ndep_volledig!K:Q,E:E,Ndep_volledig!Q:Q) -> 2.7548107 | H17: =IF(G17=0,0,G17*2) -> 5.5096214 | I17: =IF(G17=0,0,IF(G17*2>VLOOKUP(B17,DATA!A:G,7,FALSE),G17*2,VLOOKUP(B17,DATA!A:G,7,FALSE))) -> 1000 | J17: =(I17-G17)/G17 -> 362.00135
A18: Kampina & Oisterwijkse Vennen | B18: L4010A | C18: Vochtige heiden (hogere zandgronden) | D18: =_xlfn.CONCAT(A18,"_",B18) -> Kampina & Oisterwijkse Vennen_L4010A | E18: =_xlfn.CONCAT(A18,"_ZG",B18) -> Kampina & Oisterwijkse Vennen_ZGL4010A | F18: Hogere Zandgronden | G18: =SUMIF(Ndep_volledig!K:Q,D:D,Ndep_volledig!Q:Q)+SUMIF(Ndep_volledig!K:Q,E:E,Ndep_volledig!Q:Q) -> 0.096628343 | H18: =IF(G18=0,0,G18*2) -> 0.19325669 | I18: =IF(G18=0,0,IF(G18*2>VLOOKUP(B18,DATA!A:G,7,FALSE),G18*2,VLOOKUP(B18,DATA!A:G,7,FALSE))) -> 100 | J18: =(I18-G18)/G18 -> 1033.893
A19: Kampina & Oisterwijkse Vennen | B19: L4030 | C19: Droge heiden | D19: =_xlfn.CONCAT(A19,"_",B19) -> Kampina & Oisterwijkse Vennen_L4030 | E19: =_xlfn.CONCAT(A19,"_ZG",B19) -> Kampina & Oisterwijkse Vennen_ZGL4030 | F19: Hogere Zandgronden | G19: =SUMIF(Ndep_volledig!K:Q,D:D,Ndep_volledig!Q:Q)+SUMIF(Ndep_volledig!K:Q,E:E,Ndep_volledig!Q:Q) -> 16.237071 | H19: =IF(G19=0,0,G19*2) -> 32.474143 | I19: =IF(G19=0,0,IF(G19*2>VLOOKUP(B19,DATA!A:G,7,FALSE),G19*2,VLOOKUP(B19,DATA!A:G,7,FALSE))) -> 100 | J19: =(I19-G19)/G19 -> 5.1587461
A20: Kampina & Oisterwijkse Vennen | B20: Lg03 | C20: Zwakgebufferde sloot | D20: =_xlfn.CONCAT(A20,"_",B20) -> Kampina & Oisterwijkse Vennen_Lg03 | E20: =_xlfn.CONCAT(A20,"_ZG",B20) -> Kampina & Oisterwijkse Vennen_ZGLg03 | F20: Hogere Zandgronden | G20: =SUMIF(Ndep_volledig!K:Q,D:D,Ndep_volledig!Q:Q)+SUMIF(Ndep_volledig!K:Q,E:E,Ndep_volledig!Q:Q) -> 0.081764424 | H20: =IF(G20=0,0,G20*2) -> 0.16352885 | I20: =IF(G20=0,0,IF(G20*2>VLOOKUP(B20,DATA!A:G,7,FALSE),G20*2,VLOOKUP(B20,DATA!A:G,7,FALSE))) -> 100 | J20: =(I20-G20)/G20 -> 1222.0258
A21: Kampina & Oisterwijkse Vennen | B21: Lg04 | C21: Zuur ven | D21: =_xlfn.CONCAT(A21,"_",B21) -> Kampina & Oisterwijkse Vennen_Lg04 | E21: =_xlfn.CONCAT(A21,"_ZG",B21) -> Kampina & Oisterwijkse Vennen_ZGLg04 | F21: Hogere Zandgronden | G21: =SUMIF(Ndep_volledig!K:Q,D:D,Ndep_volledig!Q:Q)+SUMIF(Ndep_volledig!K:Q,E:E,Ndep_volledig!Q:Q) -> 0.92895911 | H21: =IF(G21=0,0,G21*2) -> 1.8579182 | I21: =IF(G21=0,0,IF(G21*2>VLOOKUP(B21,DATA!A:G,7,FALSE),G21*2,VLOOKUP(B21,DATA!A:G,7,FALSE))) -> 100 | J21: =(I21-G21)/G21 -> 106.64736
A22: Kampina & Oisterwijkse Vennen | B22: Lg09 | C22: Droog struisgrasland | D22: =_xlfn.CONCAT(A22,"_",B22) -> Kampina & Oisterwijkse Vennen_Lg09 | E22: =_xlfn.CONCAT(A22,"_ZG",B22) -> Kampina & Oisterwijkse Vennen_ZGLg09 | F22: Hogere Zandgronden | G22: =SUMIF(Ndep_volledig!K:Q,D:D,Ndep_volledig!Q:Q)+SUMIF(Ndep_volledig!K:Q,E:E,Ndep_volledig!Q:Q) -> 3.0542802 | H22: =IF(G22=0,0,G22*2) -> 6.1085604 | I22: =IF(G22=0,0,IF(G22*2>VLOOKUP(B22,DATA!A:G,7,FALSE),G22*2,VLOOKUP(B22,DATA!A:G,7,FALSE))) -> 100 | J22: =(I22-G22)/G22 -> 31.740938
A23: Kempenland-West | B23: H2310 | C23: Stuifzandheiden met struikhei | D23: =_xlfn.CONCAT(A23,"_",B23) -> Kempenland-West_H2310 | E23: =_xlfn.CONCAT(A23,"_ZG",B23) -> Kempenland-West_ZGH2310 | F23: Hogere Zandgronden | G23: =SUMIF(Ndep_volledig!K:Q,D:D,Ndep_volledig!Q:Q)+SUMIF(Ndep_volledig!K:Q,E:E,Ndep_volledig!Q:Q) -> 8.4477931 | H23: =IF(G23=0,0,G23*2) -> 16.895586 | I23: =IF(G23=0,0,IF(G23*2>VLOOKUP(B23,DATA!A:G,7,FALSE),G23*2,VLOOKUP(B23,DATA!A:G,7,FALSE))) -> 100 | J23: =(I23-G23)/G23 -> 10.837411
A24: Kempenland-West | B24: H3130 | C24: Zwakgebufferde vennen | D24: =_xlfn.CONCAT(A24,"_",B24) -> Kempenland-West_H3130 | E24: =_xlfn.CONCAT(A24,"_ZG",B24) -> Kempenland-West_ZGH3130 | F24: Hogere Zandgronden | G24: =SUMIF(Ndep_volledig!K:Q,D:D,Ndep_volledig!Q:Q)+SUMIF(Ndep_volledig!K:Q,E:E,Ndep_volledig!Q:Q) -> 3.1895612 | H24: =IF(G24=0,0,G24*2) -> 6.3791224 | I24: =IF(G24=0,0,IF(G24*2>VLOOKUP(B24,DATA!A:G,7,FALSE),G24*2,VLOOKUP(B24,DATA!A:G,7,FALSE))) -> 100 | J24: =(I24-G24)/G24 -> 30.352275
A25: Kempenland-West | B25: H3160 | C25: Zure vennen | D25: =_xlfn.CONCAT(A25,"_",B25) -> Kempenland-West_H3160 | E25: =_xlfn.CONCAT(A25,"_ZG",B25) -> Kempenland-West_ZGH3160 | F25: Hogere Zandgronden | G25: =SUMIF(Ndep_volledig!K:Q,D:D,Ndep_volledig!Q:Q)+SUMIF(Ndep_volledig!K:Q,E:E,Ndep_volledig!Q:Q) -> 1.3041421 | H25: =IF(G25=0,0,G25*2) -> 2.6082842 | I25: =IF(G25=0,0,IF(G25*2>VLOOKUP(B25,DATA!A:G,7,FALSE),G25*2,VLOOKUP(B25,DATA!A:G,7,FALSE))) -> 100 | J25: =(I25-G25)/G25 -> 75.678761
... A72: Vlijmens Ven, Moerputten & Bossche Broek | B72: H6510A | C72: Glanshaver- en vossenstaarthooilanden (glanshaver) | D72: =_xlfn.CONCAT(A72,"_",B72) -> Vlijmens Ven, Moerputten & Bossche Broek_H6510A | E72: =_xlfn.CONCAT(A72,"_ZG",B72) -> Vlijmens Ven, Moerputten & Bossche Broek_ZGH6510A | F72: Beekdalen | G72: =SUMIF(Ndep_volledig!K:Q,D:D,Ndep_volledig!Q:Q)+SUMIF(Ndep_volledig!K:Q,E:E,Ndep_volledig!Q:Q) -> 0.029528032 | H72: =IF(G72=0,0,G72*2) -> 0.059056063 | I72: =IF(G72=0,0,IF(G72*2>VLOOKUP(B72,DATA!A:G,7,FALSE),G72*2,VLOOKUP(B72,DATA!A:G,7,FALSE))) -> 100 | J72: =(I72-G72)/G72 -> 3385.6125
