Workbook

Sheet Ndep_volledig
A1: RECEPT_ID | B1: N2000_ID | C1: N2000_NAAM | D1: HABIT_ID | E1: HABIT_NAAM | F1: KDW | G1: ADW | H1: OVERSPAN | I1: CALC_TOT | J1: GEKART_OPP | K1: ID | L1: B | M1: u | N1: %ADW | O1: %TDW | P1: %verlies | Q1: OPP_verlies
A2: 1910542 | B2: 136 | C2: Leenderbos, Groote Heide & De Plateaux | D2: H6510A | E2: Glanshaver- en vossenstaarthooilanden (glanshaver) | F2: 1357 | G2: 1106.68 | H2: below | I2: 0.0051195 | J2: 663.19385 | K2: =_xlfn.CONCAT(C2,"_",D2) -> Leenderbos, Groote Heide & De Plateaux_H6510A | L2: =VLOOKUP(D2,DATA!A:F,5,FALSE) -> 0.0069939168 | M2: =VLOOKUP(D2,DATA!A:F,6,FALSE) -> 1778 | N2: =100/(1+EXP(-L2*(G2-M2))) -> 0.90566665 | O2: =100/(1+EXP(-L2*((G2+I2)-M2))) -> 0.90569878 | P2: =O2-N2 -> 3.2134596e-05 | Q2: =IF(AND(H2<>"below",I2>=0.005),J2*P2/100,0) -> 0
A3: 1912071 | B3: 136 | C3: Leenderbos, Groote Heide & De Plateaux | D3: H6510A | E3: Glanshaver- en vossenstaarthooilanden (glanshaver) | F3: 1357 | G3: 1080.17 | H3: below | I3: 0.0049982 | J3: 3894.607 | K3: =_xlfn.CONCAT(C3,"_",D3) -> Leenderbos, Groote Heide & De Plateaux_H6510A | L3: =VLOOKUP(D3,DATA!A:F,5,FALSE) -> 0.0069939168 | M3: =VLOOKUP(D3,DATA!A:F,6,FALSE) -> 1778 | N3: =100/(1+EXP(-L3*(G3-M3))) -> 0.75355081 | O3: =100/(1+EXP(-L3*((G3+I3)-M3))) -> 0.75357696 | P3: =O3-N3 -> 2.6143823e-05 | Q3: =IF(AND(H3<>"below",I3>=0.005),J3*P3/100,0) -> 0 | T3: Habitat aangepast ivm H9999.
A4: 1912077 | B4: 136 | C4: Leenderbos, Groote Heide & De Plateaux | D4: H4010A | E4: Vochtige heiden (hogere zandgronden) | F4: 1071 | G4: 846.38 | H4: below | I4: 0.0039431 | J4: 71.702367 | K4: =_xlfn.CONCAT(C4,"_",D4) -> Leenderbos, Groote Heide & De Plateaux_H4010A | L4: =VLOOKUP(D4,DATA!A:F,5,FALSE) -> 0.013726988 | M4: =VLOOKUP(D4,DATA!A:F,6,FALSE) -> 1285.5 | N4: =100/(1+EXP(-L4*(G4-M4))) -> 0.24050058 | O4: =100/(1+EXP(-L4*((G4+I4)-M4))) -> 0.24051356 | P4: =O4-N4 -> 1.298659e-05 | Q4: =IF(AND(H4<>"below",I4>=0.005),J4*P4/100,0) -> 0 | T4: Compensatie bepaald obv biomassa methode
A5: 1912077 | B5: 136 | C5: Leenderbos, Groote Heide & De Plateaux | D5: H7150 | E5: Pioniervegetaties met snavelbiezen | F5: 1071 | G5: 846.38 | H5: below | I5: 0.0039431 | J5: 33.461105 | K5: =_xlfn.CONCAT(C5,"_",D5) -> Leenderbos, Groote Heide & De Plateaux_H7150 | L5: =VLOOKUP(D5,DATA!A:F,5,FALSE) -> 0.013726988 | M5: =VLOOKUP(D5,DATA!A:F,6,FALSE) -> 1285.5 | N5: =100/(1+EXP(-L5*(G5-M5))) -> 0.24050058 | O5: =100/(1+EXP(-L5*((G5+I5)-M5))) -> 0.24051356 | P5: =O5-N5 -> 1.298659e-05 | Q5: =IF(AND(H5<>"below",I5>=0.005),J5*P5/100,0) -> 0
A6: 1913599 | B6: 136 | C6: Leenderbos, Groote Heide & De Plateaux | D6: H6510A | E6: Glanshaver- en vossenstaarthooilanden (glanshaver) | F6: 1357 | G6: 1000.68 | H6: below | I6: 0.0047156 | J6: 5406.19 | K6: =_xlfn.CONCAT(C6,"_",D6) -> Leenderbos, Groote Heide & De Plateaux_H6510A | L6: =VLOOKUP(D6,DATA!A:F,5,FALSE) -> 0.0069939168 | M6: =VLOOKUP(D6,DATA!A:F,6,FALSE) -> 1778 | N6: =100/(1+EXP(-L6*(G6-M6))) -> 0.43357676 | O6: =100/(1+EXP(-L6*((G6+I6)-M6))) -> 0.433591 | P6: =O6-N6 -> 1.4237818e-05 | Q6: =IF(AND(H6<>"below",I6>=0.005),J6*P6/100,0) -> 0
A7: 1913600 | B7: 136 | C7: Leenderbos, Groote Heide & De Plateaux | D7: H6510A | E7: Glanshaver- en vossenstaarthooilanden (glanshaver) | F7: 1357 | G7: 1233.46 | H7: below | I7: 0.0058573 | J7: 9191.434 | K7: =_xlfn.CONCAT(C7,"_",D7) -> Leenderbos, Groote Heide & De Plateaux_H6510A | L7: =VLOOKUP(D7,DATA!A:F,5,FALSE) -> 0.0069939168 | M7: =VLOOKUP(D7,DATA!A:F,6,FALSE) -> 1778 | N7: =100/(1+EXP(-L7*(G7-M7))) -> 2.1700778 | O7: =100/(1+EXP(-L7*((G7+I7)-M7))) -> 2.1701648 | P7: =O7-N7 -> 8.6970798e-05 | Q7: =IF(AND(H7<>"below",I7>=0.005),J7*P7/100,0) -> 0
A8: 1913605 | B8: 136 | C8: Leenderbos, Groote Heide & De Plateaux | D8: H4010A | E8: Vochtige heiden (hogere zandgronden) | F8: 1071 | G8: 845.75 | H8: below | I8: 0.003955 | J8: 138.53653 | K8: =_xlfn.CONCAT(C8,"_",D8) -> Leenderbos, Groote Heide & De Plateaux_H4010A | L8: =VLOOKUP(D8,DATA!A:F,5,FALSE) -> 0.013726988 | M8: =VLOOKUP(D8,DATA!A:F,6,FALSE) -> 1285.5 | N8: =100/(1+EXP(-L8*(G8-M8))) -> 0.23843463 | O8: =100/(1+EXP(-L8*((G8+I8)-M8))) -> 0.23844755 | P8: =O8-N8 -> 1.2914157e-05 | Q8: =IF(AND(H8<>"below",I8>=0.005),J8*P8/100,0) -> 0
A9: 1913605 | B9: 136 | C9: Leenderbos, Groote Heide & De Plateaux | D9: H7150 | E9: Pioniervegetaties met snavelbiezen | F9: 1071 | G9: 845.75 | H9: below | I9: 0.003955 | J9: 64.650379 | K9: =_xlfn.CONCAT(C9,"_",D9) -> Leenderbos, Groote Heide & De Plateaux_H7150 | L9: =VLOOKUP(D9,DATA!A:F,5,FALSE) -> 0.013726988 | M9: =VLOOKUP(D9,DATA!A:F,6,FALSE) -> 1285.5 | N9: =100/(1+EXP(-L9*(G9-M9))) -> 0.23843463 | O9: =100/(1+EXP(-L9*((G9+I9)-M9))) -> 0.23844755 | P9: =O9-N9 -> 1.2914157e-05 | Q9: =IF(AND(H9<>"below",I9>=0.005),J9*P9/100,0) -> 0
A10: 1913606 | B10: 136 | C10: Leenderbos, Groote Heide & De Plateaux | D10: H4010A | E10: Vochtige heiden (hogere zandgronden) | F10: 1071 | G10: 983.87 | H10: below | I10: 0.0039891 | J10: 19.617562 | K10: =_xlfn.CONCAT(C10,"_",D10) -> Leenderbos, Groote Heide & De Plateaux_H4010A | L10: =VLOOKUP(D10,DATA!A:F,5,FALSE) -> 0.013726988 | M10: =VLOOKUP(D10,DATA!A:F,6,FALSE) -> 1285.5 | N10: =100/(1+EXP(-L10*(G10-M10))) -> 1.5666016 | O10: =100/(1+EXP(-L10*((G10+I10)-M10))) -> 1.5666861 | P10: =O10-N10 -> 8.4442825e-05 | Q10: =IF(AND(H10<>"below",I10>=0.005),J10*P10/100,0) -> 0
A11: 1913606 | B11: 136 | C11: Leenderbos, Groote Heide & De Plateaux | D11: H7150 | E11: Pioniervegetaties met snavelbiezen | F11: 1071 | G11: 983.87 | H11: below | I11: 0.0039891 | J11: 9.1548625 | K11: =_xlfn.CONCAT(C11,"_",D11) -> Leenderbos, Groote Heide & De Plateaux_H7150 | L11: =VLOOKUP(D11,DATA!A:F,5,FALSE) -> 0.013726988 | M11: =VLOOKUP(D11,DATA!A:F,6,FALSE) -> 1285.5 | N11: =100/(1+EXP(-L11*(G11-M11))) -> 1.5666016 | O11: =100/(1+EXP(-L11*((G11+I11)-M11))) -> 1.5666861 | P11: =O11-N11 -> 8.4442825e-05 | Q11: =IF(AND(H11<>"below",I11>=0.005),J11*P11/100,0) -> 0
A12: 1915128 | B12: 136 | C12: Leenderbos, Groote Heide & De Plateaux | D12: H6510A | E12: Glanshaver- en vossenstaarthooilanden (glanshaver) | F12: 1357 | G12: 956.64 | H12: below | I12: 0.0045384 | J12: 136.92502 | K12: =_xlfn.CONCAT(C12,"_",D12) -> Leenderbos, Groote Heide & De Plateaux_H6510A | L12: =VLOOKUP(D12,DATA!A:F,5,FALSE) -> 0.0069939168 | M12: =VLOOKUP(D12,DATA!A:F,6,FALSE) -> 1778 | N12: =100/(1+EXP(-L12*(G12-M12))) -> 0.31900501 | O12: =100/(1+EXP(-L12*((G12+I12)-M12))) -> 0.3190151 | P12: =O12-N12 -> 1.0093457e-05 | Q12: =IF(AND(H12<>"below",I12>=0.005),J12*P12/100,0) -> 0
A13: 1915129 | B13: 136 | C13: Leenderbos, Groote Heide & De Plateaux | D13: H6510A | E13: Glanshaver- en vossenstaarthooilanden (glanshaver) | F13: 1357 | G13: 1050.76 | H13: below | I13: 0.0049296 | J13: 9621.309 | K13: =_xlfn.CONCAT(C13,"_",D13) -> Leenderbos, Groote Heide & De Plateaux_H6510A | L13: =VLOOKUP(D13,DATA!A:F,5,FALSE) -> 0.0069939168 | M13: =VLOOKUP(D13,DATA!A:F,6,FALSE) -> 1778 | N13: =100/(1+EXP(-L13*(G13-M13))) -> 0.61431468 | O13: =100/(1+EXP(-L13*((G13+I13)-M13))) -> 0.61433573 | P13: =O13-N13 -> 2.1050105e-05 | Q13: =IF(AND(H13<>"below",I13>=0.005),J13*P13/100,0) -> 0
A14: 1915134 | B14: 136 | C14: Leenderbos, Groote Heide & De Plateaux | D14: H4010A | E14: Vochtige heiden (hogere zandgronden) | F14: 1071 | G14: 839.65 | H14: below | I14: 0.0039837 | J14: 15.451159 | K14: =_xlfn.CONCAT(C14,"_",D14) -> Leenderbos, Groote Heide & De Plateaux_H4010A | L14: =VLOOKUP(D14,DATA!A:F,5,FALSE) -> 0.013726988 | M14: =VLOOKUP(D14,DATA!A:F,6,FALSE) -> 1285.5 | N14: =100/(1+EXP(-L14*(G14-M14))) -> 0.21932444 | O14: =100/(1+EXP(-L14*((G14+I14)-M14))) -> 0.21933641 | P14: =O14-N14 -> 1.1967603e-05 | Q14: =IF(AND(H14<>"below",I14>=0.005),J14*P14/100,0) -> 0
A15: 1915134 | B15: 136 | C15: Leenderbos, Groote Heide & De Plateaux | D15: H7150 | E15: Pioniervegetaties met snavelbiezen | F15: 1071 | G15: 839.65 | H15: below | I15: 0.0039837 | J15: 7.2105411 | K15: =_xlfn.CONCAT(C15,"_",D15) -> Leenderbos, Groote Heide & De Plateaux_H7150 | L15: =VLOOKUP(D15,DATA!A:F,5,FALSE) -> 0.013726988 | M15: =VLOOKUP(D15,DATA!A:F,6,FALSE) -> 1285.5 | N15: =100/(1+EXP(-L15*(G15-M15))) -> 0.21932444 | O15: =100/(1+EXP(-L15*((G15+I15)-M15))) -> 0.21933641 | P15: =O15-N15 -> 1.1967603e-05 | Q15: =IF(AND(H15<>"below",I15>=0.005),J15*P15/100,0) -> 0
A16: 1915135 | B16: 136 | C16: Leenderbos, Groote Heide & De Plateaux | D16: H4010A | E16: Vochtige heiden (hogere zandgronden) | F16: 1071 | G16: 852.49 | H16: below | I16: 0.0038826 | J16: 1209.682 | K16: =_xlfn.CONCAT(C16,"_",D16) -> Leenderbos, Groote Heide & De Plateaux_H4010A | L16: =VLOOKUP(D16,DATA!A:F,5,FALSE) -> 0.013726988 | M16: =VLOOKUP(D16,DATA!A:F,6,FALSE) -> 1285.5 | N16: =100/(1+EXP(-L16*(G16-M16))) -> 0.26148685 | O16: =100/(1+EXP(-L16*((G16+I16)-M16))) -> 0.26150075 | P16: =O16-N16 -> 1.3900236e-05 | Q16: =IF(AND(H16<>"below",I16>=0.005),J16*P16/100,0) -> 0
... A3843: 1905959 | B3843: 136 | C3843: Leenderbos, Groote Heide & De Plateaux | D3843: H3160 | E3843: Zure vennen | F3843: 714 | G3843: 913.52 | H3843: exceeding | I3843: 0.0042036 | J3843: 1343.1666 | K3843: =_xlfn.CONCAT(C3843,"_",D3843) -> Leenderbos, Groote Heide & De Plateaux_H3160 | L3843: =VLOOKUP(D3843,DATA!A:F,5,FALSE) -> 0.010986713 | M3843: =VLOOKUP(D3843,DATA!A:F,6,FALSE) -> 982 | N3843: =100/(1+EXP(-L3843*(G3843-M3843))) -> 32.030509 | O3843: =100/(1+EXP(-L3843*((G3843+I3843)-M3843))) -> 32.031515 | P3843: =O3843-N3843 -> 0.0010054735 | Q3843: =IF(AND(H3843<>"below",I3843>=0.005),J3843*P3843/100,0) -> 0
A3844: 1907486 | B3844: 136 | C3844: Leenderbos, Groote Heide & De Plateaux | D3844: H3130 | E3844: Zwakgebufferde vennen | F3844: 500 | G3844: 831.48 | H3844: exceeding | I3844: 0.003953 | J3844: 121.60661 | K3844: =_xlfn.CONCAT(C3844,"_",D3844) -> Leenderbos, Groote Heide & De Plateaux_H3130 | L3844: =VLOOKUP(D3844,DATA!A:F,5,FALSE) -> 0 | M3844: =VLOOKUP(D3844,DATA!A:F,6,FALSE) -> 3.5 | N3844: =100/(1+EXP(-L3844*(G3844-M3844))) -> 50 | O3844: =100/(1+EXP(-L3844*((G3844+I3844)-M3844))) -> 50 | P3844: =J3844/10000*I3844 -> 4.8071091e-05 | Q3844: =IF(AND(H3844<>"below",I3844>=0.005),M3844*P3844,0) -> 0
A3845: 1907488 | B3845: 136 | C3845: Leenderbos, Groote Heide & De Plateaux | D3845: H3160 | E3845: Zure vennen | F3845: 714 | G3845: 894.2 | H3845: exceeding | I3845: 0.0041353 | J3845: 736.7765 | K3845: =_xlfn.CONCAT(C3845,"_",D3845) -> Leenderbos, Groote Heide & De Plateaux_H3160 | L3845: =VLOOKUP(D3845,DATA!A:F,5,FALSE) -> 0.010986713 | M3845: =VLOOKUP(D3845,DATA!A:F,6,FALSE) -> 982 | N3845: =100/(1+EXP(-L3845*(G3845-M3845))) -> 27.595148 | O3845: =100/(1+EXP(-L3845*((G3845+I3845)-M3845))) -> 27.596056 | P3845: =O3845-N3845 -> 0.00090777789 | Q3845: =IF(AND(H3845<>"below",I3845>=0.005),J3845*P3845/100,0) -> 0
A3846: 1909016 | B3846: 136 | C3846: Leenderbos, Groote Heide & De Plateaux | D3846: H3130 | E3846: Zwakgebufferde vennen | F3846: 500 | G3846: 827.39 | H3846: exceeding | I3846: 0.0039259 | J3846: 336.03 | K3846: =_xlfn.CONCAT(C3846,"_",D3846) -> Leenderbos, Groote Heide & De Plateaux_H3130 | L3846: =VLOOKUP(D3846,DATA!A:F,5,FALSE) -> 0 | M3846: =VLOOKUP(D3846,DATA!A:F,6,FALSE) -> 3.5 | N3846: =100/(1+EXP(-L3846*(G3846-M3846))) -> 50 | O3846: =100/(1+EXP(-L3846*((G3846+I3846)-M3846))) -> 50 | P3846: =J3846/10000*I3846 -> 0.00013192202 | Q3846: =IF(AND(H3846<>"below",I3846>=0.005),M3846*P3846,0) -> 0
A3847: 1909018 | B3847: 136 | C3847: Leenderbos, Groote Heide & De Plateaux | D3847: H2330 | E3847: Zandverstuivingen | F3847: 714 | G3847: 863.79 | H3847: exceeding | I3847: 0.0040124 | J3847: 640.4785 | K3847: =_xlfn.CONCAT(C3847,"_",D3847) -> Leenderbos, Groote Heide & De Plateaux_H2330 | L3847: =VLOOKUP(D3847,DATA!A:F,5,FALSE) -> 0.010986713 | M3847: =VLOOKUP(D3847,DATA!A:F,6,FALSE) -> 982 | N3847: =100/(1+EXP(-L3847*(G3847-M3847))) -> 21.437727 | O3847: =100/(1+EXP(-L3847*((G3847+I3847)-M3847))) -> 21.438469 | P3847: =O3847-N3847 -> 0.00074245516 | Q3847: =IF(AND(H3847<>"below",I3847>=0.005),J3847*P3847/100,0) -> 0
A3848: 1909018 | B3848: 136 | C3848: Leenderbos, Groote Heide & De Plateaux | D3848: H4030 | E3848: Droge heiden | F3848: 714 | G3848: 863.79 | H3848: exceeding | I3848: 0.0040124 | J3848: 140.8902 | K3848: =_xlfn.CONCAT(C3848,"_",D3848) -> Leenderbos, Groote Heide & De Plateaux_H4030 | L3848: =VLOOKUP(D3848,DATA!A:F,5,FALSE) -> 0.010986713 | M3848: =VLOOKUP(D3848,DATA!A:F,6,FALSE) -> 982 | N3848: =100/(1+EXP(-L3848*(G3848-M3848))) -> 21.437727 | O3848: =100/(1+EXP(-L3848*((G3848+I3848)-M3848))) -> 21.438469 | P3848: =O3848-N3848 -> 0.00074245516 | Q3848: =IF(AND(H3848<>"below",I3848>=0.005),J3848*P3848/100,0) -> 0
A3849: 1910543 | B3849: 136 | C3849: Leenderbos, Groote Heide & De Plateaux | D3849: H4030 | E3849: Droge heiden | F3849: 714 | G3849: 1060.96 | H3849: exceeding | I3849: 0.0049974 | J3849: 456.76077 | K3849: =_xlfn.CONCAT(C3849,"_",D3849) -> Leenderbos, Groote Heide & De Plateaux_H4030 | L3849: =VLOOKUP(D3849,DATA!A:F,5,FALSE) -> 0.010986713 | M3849: =VLOOKUP(D3849,DATA!A:F,6,FALSE) -> 982 | N3849: =100/(1+EXP(-L3849*(G3849-M3849))) -> 70.422749 | O3849: =100/(1+EXP(-L3849*((G3849+I3849)-M3849))) -> 70.423893 | P3849: =O3849-N3849 -> 0.0011436096 | Q3849: =IF(AND(H3849<>"below",I3849>=0.005),J3849*P3849/100,0) -> 0
A3850: 1910545 | B3850: 136 | C3850: Leenderbos, Groote Heide & De Plateaux | D3850: H3130 | E3850: Zwakgebufferde vennen | F3850: 500 | G3850: 832.06 | H3850: exceeding | I3850: 0.0039254 | J3850: 1159.4343 | K3850: =_xlfn.CONCAT(C3850,"_",D3850) -> Leenderbos, Groote Heide & De Plateaux_H3130 | L3850: =VLOOKUP(D3850,DATA!A:F,5,FALSE) -> 0 | M3850: =VLOOKUP(D3850,DATA!A:F,6,FALSE) -> 3.5 | N3850: =100/(1+EXP(-L3850*(G3850-M3850))) -> 50 | O3850: =100/(1+EXP(-L3850*((G3850+I3850)-M3850))) -> 50 | P3850: =J3850/10000*I3850 -> 0.00045512434 | Q3850: =IF(AND(H3850<>"below",I3850>=0.005),M3850*P3850,0) -> 0
A3851: 1910546 | B3851: 136 | C3851: Leenderbos, Groote Heide & De Plateaux | D3851: H2330 | E3851: Zandverstuivingen | F3851: 714 | G3851: 825.85 | H3851: exceeding | I3851: 0.0038949 | J3851: 13.809123 | K3851: =_xlfn.CONCAT(C3851,"_",D3851) -> Leenderbos, Groote Heide & De Plateaux_H2330 | L3851: =VLOOKUP(D3851,DATA!A:F,5,FALSE) -> 0.010986713 | M3851: =VLOOKUP(D3851,DATA!A:F,6,FALSE) -> 982 | N3851: =100/(1+EXP(-L3851*(G3851-M3851))) -> 15.244199 | O3851: =100/(1+EXP(-L3851*((G3851+I3851)-M3851))) -> 15.244752 | P3851: =O3851-N3851 -> 0.00055289743 | Q3851: =IF(AND(H3851<>"below",I3851>=0.005),J3851*P3851/100,0) -> 0
A3852: 1910547 | B3852: 136 | C3852: Leenderbos, Groote Heide & De Plateaux | D3852: H2330 | E3852: Zandverstuivingen | F3852: 714 | G3852: 844.73 | H3852: exceeding | I3852: 0.0039257 | J3852: 525.2428 | K3852: =_xlfn.CONCAT(C3852,"_",D3852) -> Leenderbos, Groote Heide & De Plateaux_H2330 | L3852: =VLOOKUP(D3852,DATA!A:F,5,FALSE) -> 0.010986713 | M3852: =VLOOKUP(D3852,DATA!A:F,6,FALSE) -> 982 | N3852: =100/(1+EXP(-L3852*(G3852-M3852))) -> 18.121371 | O3852: =100/(1+EXP(-L3852*((G3852+I3852)-M3852))) -> 18.122011 | P3852: =O3852-N3852 -> 0.00063995946 | Q3852: =IF(AND(H3852<>"below",I3852>=0.005),J3852*P3852/100,0) -> 0
A3853: 1910547 | B3853: 136 | C3853: Leenderbos, Groote Heide & De Plateaux | D3853: H3160 | E3853: Zure vennen | F3853: 714 | G3853: 844.73 | H3853: exceeding | I3853: 0.0039257 | J3853: 61.429718 | K3853: =_xlfn.CONCAT(C3853,"_",D3853) -> Leenderbos, Groote Heide & De Plateaux_H3160 | L3853: =VLOOKUP(D3853,DATA!A:F,5,FALSE) -> 0.010986713 | M3853: =VLOOKUP(D3853,DATA!A:F,6,FALSE) -> 982 | N3853: =100/(1+EXP(-L3853*(G3853-M3853))) -> 18.121371 | O3853: =100/(1+EXP(-L3853*((G3853+I3853)-M3853))) -> 18.122011 | P3853: =O3853-N3853 -> 0.00063995946 | Q3853: =IF(AND(H3853<>"below",I3853>=0.005),J3853*P3853/100,0) -> 0
A3854: 1910547 | B3854: 136 | C3854: Leenderbos, Groote Heide & De Plateaux | D3854: H4030 | E3854: Droge heiden | F3854: 714 | G3854: 844.73 | H3854: exceeding | I3854: 0.0039257 | J3854: 101.60907 | K3854: =_xlfn.CONCAT(C3854,"_",D3854) -> Leenderbos, Groote Heide & De Plateaux_H4030 | L3854: =VLOOKUP(D3854,DATA!A:F,5,FALSE) -> 0.010986713 | M3854: =VLOOKUP(D3854,DATA!A:F,6,FALSE) -> 982 | N3854: =100/(1+EXP(-L3854*(G3854-M3854))) -> 18.121371 | O3854: =100/(1+EXP(-L3854*((G3854+I3854)-M3854))) -> 18.122011 | P3854: =O3854-N3854 -> 0.00063995946 | Q3854: =IF(AND(H3854<>"below",I3854>=0.005),J3854*P3854/100,0) -> 0
A3855: 1912073 | B3855: 136 | C3855: Leenderbos, Groote Heide & De Plateaux | D3855: H4030 | E3855: Droge heiden | F3855: 714 | G3855: 1035.54 | H3855: exceeding | I3855: 0.0049395 | J3855: 494.20728 | K3855: =_xlfn.CONCAT(C3855,"_",D3855) -> Leenderbos, Groote Heide & De Plateaux_H4030 | L3855: =VLOOKUP(D3855,DATA!A:F,5,FALSE) -> 0.010986713 | M3855: =VLOOKUP(D3855,DATA!A:F,6,FALSE) -> 982 | N3855: =100/(1+EXP(-L3855*(G3855-M3855))) -> 64.29586 | O3855: =100/(1+EXP(-L3855*((G3855+I3855)-M3855))) -> 64.297106 | P3855: =O3855-N3855 -> 0.0012458018 | Q3855: =IF(AND(H3855<>"below",I3855>=0.005),J3855*P3855/100,0) -> 0
A3856: 1912075 | B3856: 136 | C3856: Leenderbos, Groote Heide & De Plateaux | D3856: H4030 | E3856: Droge heiden | F3856: 714 | G3856: 829.28 | H3856: exceeding | I3856: 0.003886 | J3856: 148.2023 | K3856: =_xlfn.CONCAT(C3856,"_",D3856) -> Leenderbos, Groote Heide & De Plateaux_H4030 | L3856: =VLOOKUP(D3856,DATA!A:F,5,FALSE) -> 0.010986713 | M3856: =VLOOKUP(D3856,DATA!A:F,6,FALSE) -> 982 | N3856: =100/(1+EXP(-L3856*(G3856-M3856))) -> 15.737497 | O3856: =100/(1+EXP(-L3856*((G3856+I3856)-M3856))) -> 15.738063 | P3856: =O3856-N3856 -> 0.0005661701 | Q3856: =IF(AND(H3856<>"below",I3856>=0.005),J3856*P3856/100,0) -> 0
A3857: 1912076 | B3857: 136 | C3857: Leenderbos, Groote Heide & De Plateaux | D3857: H2330 | E3857: Zandverstuivingen | F3857: 714 | G3857: 829.4 | H3857: exceeding | I3857: 0.0039014 | J3857: 704.89276 | K3857: =_xlfn.CONCAT(C3857,"_",D3857) -> Leenderbos, Groote Heide & De Plateaux_H2330 | L3857: =VLOOKUP(D3857,DATA!A:F,5,FALSE) -> 0.010986713 | M3857: =VLOOKUP(D3857,DATA!A:F,6,FALSE) -> 982 | N3857: =100/(1+EXP(-L3857*(G3857-M3857))) -> 15.754988 | O3857: =100/(1+EXP(-L3857*((G3857+I3857)-M3857))) -> 15.755557 | P3857: =O3857-N3857 -> 0.00056892746 | Q3857: =IF(AND(H3857<>"below",I3857>=0.005),J3857*P3857/100,0) -> 0
A3858: 1912077 | B3858: 136 | C3858: Leenderbos, Groote Heide & De Plateaux | D3858: H3160 | E3858: Zure vennen | F3858: 714 | G3858: 846.38 | H3858: exceeding | I3858: 0.0039431 | J3858: 445.93692 | K3858: =_xlfn.CONCAT(C3858,"_",D3858) -> Leenderbos, Groote Heide & De Plateaux_H3160 | L3858: =VLOOKUP(D3858,DATA!A:F,5,FALSE) -> 0.010986713 | M3858: =VLOOKUP(D3858,DATA!A:F,6,FALSE) -> 982 | N3858: =100/(1+EXP(-L3858*(G3858-M3858))) -> 18.391903 | O3858: =100/(1+EXP(-L3858*((G3858+I3858)-M3858))) -> 18.392553 | P3858: =O3858-N3858 -> 0.00065023662 | Q3858: =IF(AND(H3858<>"below",I3858>=0.005),J3858*P3858/100,0) -> 0
A3859: 1912077 | B3859: 136 | C3859: Leenderbos, Groote Heide & De Plateaux | D3859: H4030 | E3859: Droge heiden | F3859: 714 | G3859: 846.38 | H3859: exceeding | I3859: 0.0039431 | J3859: 71.702367 | K3859: =_xlfn.CONCAT(C3859,"_",D3859) -> Leenderbos, Groote Heide & De Plateaux_H4030 | L3859: =VLOOKUP(D3859,DATA!A:F,5,FALSE) -> 0.010986713 | M3859: =VLOOKUP(D3859,DATA!A:F,6,FALSE) -> 982 | N3859: =100/(1+EXP(-L3859*(G3859-M3859))) -> 18.391903 | O3859: =100/(1+EXP(-L3859*((G3859+I3859)-M3859))) -> 18.392553 | P3859: =O3859-N3859 -> 0.00065023662 | Q3859: =IF(AND(H3859<>"below",I3859>=0.005),J3859*P3859/100,0) -> 0
A3860: 1913601 | B3860: 136 | C3860: Leenderbos, Groote Heide & De Plateaux | D3860: H4030 | E3860: Droge heiden | F3860: 714 | G3860: 1381.52 | H3860: exceeding | I3860: 0.0063931 | J3860: 8.510695 | K3860: =_xlfn.CONCAT(C3860,"_",D3860) -> Leenderbos, Groote Heide & De Plateaux_H4030 | L3860: =VLOOKUP(D3860,DATA!A:F,5,FALSE) -> 0.010986713 | M3860: =VLOOKUP(D3860,DATA!A:F,6,FALSE) -> 982 | N3860: =100/(1+EXP(-L3860*(G3860-M3860))) -> 98.774404 | O3860: =100/(1+EXP(-L3860*((G3860+I3860)-M3860))) -> 98.774489 | P3860: =O3860-N3860 -> 8.5026845e-05 | Q3860: =IF(AND(H3860<>"below",I3860>=0.005),J3860*P3860/100,0) -> 7.2363754e-06
A3861: 1913603 | B3861: 136 | C3861: Leenderbos, Groote Heide & De Plateaux | D3861: H4030 | E3861: Droge heiden | F3861: 714 | G3861: 835.77 | H3861: exceeding | I3861: 0.0039459 | J3861: 261.62967 | K3861: =_xlfn.CONCAT(C3861,"_",D3861) -> Leenderbos, Groote Heide & De Plateaux_H4030 | L3861: =VLOOKUP(D3861,DATA!A:F,5,FALSE) -> 0.010986713 | M3861: =VLOOKUP(D3861,DATA!A:F,6,FALSE) -> 982 | N3861: =100/(1+EXP(-L3861*(G3861-M3861))) -> 16.706301 | O3861: =100/(1+EXP(-L3861*((G3861+I3861)-M3861))) -> 16.706904 | P3861: =O3861-N3861 -> 0.00060327114 | Q3861: =IF(AND(H3861<>"below",I3861>=0.005),J3861*P3861/100,0) -> 0
A3862: 1913604 | B3862: 136 | C3862: Leenderbos, Groote Heide & De Plateaux | D3862: H3130 | E3862: Zwakgebufferde vennen | F3862: 500 | G3862: 830.92 | H3862: exceeding | I3862: 0.0039056 | J3862: 219.19698 | K3862: =_xlfn.CONCAT(C3862,"_",D3862) -> Leenderbos, Groote Heide & De Plateaux_H3130 | L3862: =VLOOKUP(D3862,DATA!A:F,5,FALSE) -> 0 | M3862: =VLOOKUP(D3862,DATA!A:F,6,FALSE) -> 3.5 | N3862: =100/(1+EXP(-L3862*(G3862-M3862))) -> 50 | O3862: =100/(1+EXP(-L3862*((G3862+I3862)-M3862))) -> 50 | P3862: =J3862/10000*I3862 -> 8.5609573e-05 | Q3862: =IF(AND(H3862<>"below",I3862>=0.005),M3862*P3862,0) -> 0
A3863: 1913605 | B3863: 136 | C3863: Leenderbos, Groote Heide & De Plateaux | D3863: H3160 | E3863: Zure vennen | F3863: 714 | G3863: 845.75 | H3863: exceeding | I3863: 0.003955 | J3863: 17.413345 | K3863: =_xlfn.CONCAT(C3863,"_",D3863) -> Leenderbos, Groote Heide & De Plateaux_H3160 | L3863: =VLOOKUP(D3863,DATA!A:F,5,FALSE) -> 0.010986713 | M3863: =VLOOKUP(D3863,DATA!A:F,6,FALSE) -> 982 | N3863: =100/(1+EXP(-L3863*(G3863-M3863))) -> 18.288242 | O3863: =100/(1+EXP(-L3863*((G3863+I3863)-M3863))) -> 18.288891 | P3863: =O3863-N3863 -> 0.00064934686 | Q3863: =IF(AND(H3863<>"below",I3863>=0.005),J3863*P3863/100,0) -> 0
A3864: 1913605 | B3864: 136 | C3864: Leenderbos, Groote Heide & De Plateaux | D3864: H4030 | E3864: Droge heiden | F3864: 714 | G3864: 845.75 | H3864: exceeding | I3864: 0.003955 | J3864: 138.53653 | K3864: =_xlfn.CONCAT(C3864,"_",D3864) -> Leenderbos, Groote Heide & De Plateaux_H4030 | L3864: =VLOOKUP(D3864,DATA!A:F,5,FALSE) -> 0.010986713 | M3864: =VLOOKUP(D3864,DATA!A:F,6,FALSE) -> 982 | N3864: =100/(1+EXP(-L3864*(G3864-M3864))) -> 18.288242 | O3864: =100/(1+EXP(-L3864*((G3864+I3864)-M3864))) -> 18.288891 | P3864: =O3864-N3864 -> 0.00064934686 | Q3864: =IF(AND(H3864<>"below",I3864>=0.005),J3864*P3864/100,0) -> 0
A3865: 1913606 | B3865: 136 | C3865: Leenderbos, Groote Heide & De Plateaux | D3865: H4030 | E3865: Droge heiden | F3865: 714 | G3865: 983.87 | H3865: exceeding | I3865: 0.0039891 | J3865: 19.617562 | K3865: =_xlfn.CONCAT(C3865,"_",D3865) -> Leenderbos, Groote Heide & De Plateaux_H4030 | L3865: =VLOOKUP(D3865,DATA!A:F,5,FALSE) -> 0.010986713 | M3865: =VLOOKUP(D3865,DATA!A:F,6,FALSE) -> 982 | N3865: =100/(1+EXP(-L3865*(G3865-M3865))) -> 50.513611 | O3865: =100/(1+EXP(-L3865*((G3865+I3865)-M3865))) -> 50.514706 | P3865: =O3865-N3865 -> 0.0010955615 | Q3865: =IF(AND(H3865<>"below",I3865>=0.005),J3865*P3865/100,0) -> 0
A3866: 1915130 | B3866: 136 | C3866: Leenderbos, Groote Heide & De Plateaux | D3866: H6510A | E3866: Glanshaver- en vossenstaarthooilanden (glanshaver) | F3866: 1357 | G3866: 1567.72 | H3866: exceeding | I3866: 0.0074644 | J3866: 865.8591 | K3866: =_xlfn.CONCAT(C3866,"_",D3866) -> Leenderbos, Groote Heide & De Plateaux_H6510A | L3866: =VLOOKUP(D3866,DATA!A:F,5,FALSE) -> 0.0069939168 | M3866: =VLOOKUP(D3866,DATA!A:F,6,FALSE) -> 1778 | N3866: =100/(1+EXP(-L3866*(G3866-M3866))) -> 18.683915 | O3866: =100/(1+EXP(-L3866*((G3866+I3866)-M3866))) -> 18.684709 | P3866: =O3866-N3866 -> 0.00079317098 | Q3866: =IF(AND(H3866<>"below",I3866>=0.005),J3866*P3866/100,0) -> 0.0068677431
A3867: 1915131 | B3867: 136 | C3867: Leenderbos, Groote Heide & De Plateaux | D3867: H4030 | E3867: Droge heiden | F3867: 714 | G3867: 1368.5 | H3867: exceeding | I3867: 0.0063985 | J3867: 218.01357 | K3867: =_xlfn.CONCAT(C3867,"_",D3867) -> Leenderbos, Groote Heide & De Plateaux_H4030 | L3867: =VLOOKUP(D3867,DATA!A:F,5,FALSE) -> 0.010986713 | M3867: =VLOOKUP(D3867,DATA!A:F,6,FALSE) -> 982 | N3867: =100/(1+EXP(-L3867*(G3867-M3867))) -> 98.588587 | O3867: =100/(1+EXP(-L3867*((G3867+I3867)-M3867))) -> 98.588685 | P3867: =O3867-N3867 -> 9.7816418e-05 | Q3867: =IF(AND(H3867<>"below",I3867>=0.005),J3867*P3867/100,0) -> 0.00021325306
A3868: 1915132 | B3868: 136 | C3868: Leenderbos, Groote Heide & De Plateaux | D3868: H4030 | E3868: Droge heiden | F3868: 714 | G3868: 1010.92 | H3868: exceeding | I3868: 0.0048098 | J3868: 384.32504 | K3868: =_xlfn.CONCAT(C3868,"_",D3868) -> Leenderbos, Groote Heide & De Plateaux_H4030 | L3868: =VLOOKUP(D3868,DATA!A:F,5,FALSE) -> 0.010986713 | M3868: =VLOOKUP(D3868,DATA!A:F,6,FALSE) -> 982 | N3868: =100/(1+EXP(-L3868*(G3868-M3868))) -> 57.877233 | O3868: =100/(1+EXP(-L3868*((G3868+I3868)-M3868))) -> 57.878522 | P3868: =O3868-N3868 -> 0.0012883018 | Q3868: =IF(AND(H3868<>"below",I3868>=0.005),J3868*P3868/100,0) -> 0
A3869: 1915133 | B3869: 136 | C3869: Leenderbos, Groote Heide & De Plateaux | D3869: H3130 | E3869: Zwakgebufferde vennen | F3869: 500 | G3869: 840.73 | H3869: exceeding | I3869: 0.0039629 | J3869: 2322.635 | K3869: =_xlfn.CONCAT(C3869,"_",D3869) -> Leenderbos, Groote Heide & De Plateaux_H3130 | L3869: =VLOOKUP(D3869,DATA!A:F,5,FALSE) -> 0 | M3869: =VLOOKUP(D3869,DATA!A:F,6,FALSE) -> 3.5 | N3869: =100/(1+EXP(-L3869*(G3869-M3869))) -> 50 | O3869: =100/(1+EXP(-L3869*((G3869+I3869)-M3869))) -> 50 | P3869: =J3869/10000*I3869 -> 0.00092043702 | Q3869: =IF(AND(H3869<>"below",I3869>=0.005),M3869*P3869,0) -> 0
A3870: 1915134 | B3870: 136 | C3870: Leenderbos, Groote Heide & De Plateaux | D3870: H4030 | E3870: Droge heiden | F3870: 714 | G3870: 839.65 | H3870: exceeding | I3870: 0.0039837 | J3870: 15.451159 | K3870: =_xlfn.CONCAT(C3870,"_",D3870) -> Leenderbos, Groote Heide & De Plateaux_H4030 | L3870: =VLOOKUP(D3870,DATA!A:F,5,FALSE) -> 0.010986713 | M3870: =VLOOKUP(D3870,DATA!A:F,6,FALSE) -> 982 | N3870: =100/(1+EXP(-L3870*(G3870-M3870))) -> 17.307936 | O3870: =100/(1+EXP(-L3870*((G3870+I3870)-M3870))) -> 17.308562 | P3870: =O3870-N3870 -> 0.0006264259 | Q3870: =IF(AND(H3870<>"below",I3870>=0.005),J3870*P3870/100,0) -> 0
A3871: 1915135 | B3871: 136 | C3871: Leenderbos, Groote Heide & De Plateaux | D3871: H3130 | E3871: Zwakgebufferde vennen | F3871: 500 | G3871: 852.49 | H3871: exceeding | I3871: 0.0038826 | J3871: 1846.385 | K3871: =_xlfn.CONCAT(C3871,"_",D3871) -> Leenderbos, Groote Heide & De Plateaux_H3130 | L3871: =VLOOKUP(D3871,DATA!A:F,5,FALSE) -> 0 | M3871: =VLOOKUP(D3871,DATA!A:F,6,FALSE) -> 3.5 | N3871: =100/(1+EXP(-L3871*(G3871-M3871))) -> 50 | O3871: =100/(1+EXP(-L3871*((G3871+I3871)-M3871))) -> 50 | P3871: =J3871/10000*I3871 -> 0.00071687744 | Q3871: =IF(AND(H3871<>"below",I3871>=0.005),M3871*P3871,0) -> 0
A3872: 1915135 | B3872: 136 | C3872: Leenderbos, Groote Heide & De Plateaux | D3872: H4030 | E3872: Droge heiden | F3872: 714 | G3872: 852.49 | H3872: exceeding | I3872: 0.0038826 | J3872: 1209.682 | K3872: =_xlfn.CONCAT(C3872,"_",D3872) -> Leenderbos, Groote Heide & De Plateaux_H4030 | L3872: =VLOOKUP(D3872,DATA!A:F,5,FALSE) -> 0.010986713 | M3872: =VLOOKUP(D3872,DATA!A:F,6,FALSE) -> 982 | N3872: =100/(1+EXP(-L3872*(G3872-M3872))) -> 19.420906 | O3872: =100/(1+EXP(-L3872*((G3872+I3872)-M3872))) -> 19.421573 | P3872: =O3872-N3872 -> 0.00066755636 | Q3872: =IF(AND(H3872<>"below",I3872>=0.005),J3872*P3872/100,0) -> 0
A3873: 1916661 | B3873: 136 | C3873: Leenderbos, Groote Heide & De Plateaux | D3873: H4030 | E3873: Droge heiden | F3873: 714 | G3873: 948.07 | H3873: exceeding | I3873: 0.0045153 | J3873: 241.13216 | K3873: =_xlfn.CONCAT(C3873,"_",D3873) -> Leenderbos, Groote Heide & De Plateaux_H4030 | L3873: =VLOOKUP(D3873,DATA!A:F,5,FALSE) -> 0.010986713 | M3873: =VLOOKUP(D3873,DATA!A:F,6,FALSE) -> 982 | N3873: =100/(1+EXP(-L3873*(G3873-M3873))) -> 40.786965 | O3873: =100/(1+EXP(-L3873*((G3873+I3873)-M3873))) -> 40.788163 | P3873: =O3873-N3873 -> 0.0011981055 | Q3873: =IF(AND(H3873<>"below",I3873>=0.005),J3873*P3873/100,0) -> 0
A3874: 1916663 | B3874: 136 | C3874: Leenderbos, Groote Heide & De Plateaux | D3874: H3130 | E3874: Zwakgebufferde vennen | F3874: 500 | G3874: 823.13 | H3874: exceeding | I3874: 0.003824 | J3874: 2465.6829 | K3874: =_xlfn.CONCAT(C3874,"_",D3874) -> Leenderbos, Groote Heide & De Plateaux_H3130 | L3874: =VLOOKUP(D3874,DATA!A:F,5,FALSE) -> 0 | M3874: =VLOOKUP(D3874,DATA!A:F,6,FALSE) -> 3.5 | N3874: =100/(1+EXP(-L3874*(G3874-M3874))) -> 50 | O3874: =100/(1+EXP(-L3874*((G3874+I3874)-M3874))) -> 50 | P3874: =J3874/10000*I3874 -> 0.00094287714 | Q3874: =IF(AND(H3874<>"below",I3874>=0.005),M3874*P3874,0) -> 0
A3875: 1916663 | B3875: 136 | C3875: Leenderbos, Groote Heide & De Plateaux | D3875: H4030 | E3875: Droge heiden | F3875: 714 | G3875: 823.13 | H3875: exceeding | I3875: 0.003824 | J3875: 1016.3134 | K3875: =_xlfn.CONCAT(C3875,"_",D3875) -> Leenderbos, Groote Heide & De Plateaux_H4030 | L3875: =VLOOKUP(D3875,DATA!A:F,5,FALSE) -> 0.010986713 | M3875: =VLOOKUP(D3875,DATA!A:F,6,FALSE) -> 982 | N3875: =100/(1+EXP(-L3875*(G3875-M3875))) -> 14.862086 | O3875: =100/(1+EXP(-L3875*((G3875+I3875)-M3875))) -> 14.862618 | P3875: =O3875-N3875 -> 0.00053161208 | Q3875: =IF(AND(H3875<>"below",I3875>=0.005),J3875*P3875/100,0) -> 0
A3876: 1916664 | B3876: 136 | C3876: Leenderbos, Groote Heide & De Plateaux | D3876: H4030 | E3876: Droge heiden | F3876: 714 | G3876: 963.83 | H3876: exceeding | I3876: 0.0038509 | J3876: 963.4371 | K3876: =_xlfn.CONCAT(C3876,"_",D3876) -> Leenderbos, Groote Heide & De Plateaux_H4030 | L3876: =VLOOKUP(D3876,DATA!A:F,5,FALSE) -> 0.010986713 | M3876: =VLOOKUP(D3876,DATA!A:F,6,FALSE) -> 982 | N3876: =100/(1+EXP(-L3876*(G3876-M3876))) -> 45.025794 | O3876: =100/(1+EXP(-L3876*((G3876+I3876)-M3876))) -> 45.026841 | P3876: =O3876-N3876 -> 0.0010472522 | Q3876: =IF(AND(H3876<>"below",I3876>=0.005),J3876*P3876/100,0) -> 0
A3877: 1918188 | B3877: 136 | C3877: Leenderbos, Groote Heide & De Plateaux | D3877: H6510A | E3877: Glanshaver- en vossenstaarthooilanden (glanshaver) | F3877: 1357 | G3877: 1592.62 | H3877: exceeding | I3877: 0.0076817 | J3877: 693.7289 | K3877: =_xlfn.CONCAT(C3877,"_",D3877) -> Leenderbos, Groote Heide & De Plateaux_H6510A | L3877: =VLOOKUP(D3877,DATA!A:F,5,FALSE) -> 0.0069939168 | M3877: =VLOOKUP(D3877,DATA!A:F,6,FALSE) -> 1778 | N3877: =100/(1+EXP(-L3877*(G3877-M3877))) -> 21.47492 | O3877: =100/(1+EXP(-L3877*((G3877+I3877)-M3877))) -> 21.475826 | P3877: =O3877-N3877 -> 0.00090599209 | Q3877: =IF(AND(H3877<>"below",I3877>=0.005),J3877*P3877/100,0) -> 0.006285129
A3878: 1918190 | B3878: 136 | C3878: Leenderbos, Groote Heide & De Plateaux | D3878: H4030 | E3878: Droge heiden | F3878: 714 | G3878: 1236.68 | H3878: exceeding | I3878: 0.0059352 | J3878: 123.81772 | K3878: =_xlfn.CONCAT(C3878,"_",D3878) -> Leenderbos, Groote Heide & De Plateaux_H4030 | L3878: =VLOOKUP(D3878,DATA!A:F,5,FALSE) -> 0.010986713 | M3878: =VLOOKUP(D3878,DATA!A:F,6,FALSE) -> 982 | N3878: =100/(1+EXP(-L3878*(G3878-M3878))) -> 94.257285 | O3878: =100/(1+EXP(-L3878*((G3878+I3878)-M3878))) -> 94.257638 | P3878: =O3878-N3878 -> 0.00035295781 | Q3878: =IF(AND(H3878<>"below",I3878>=0.005),J3878*P3878/100,0) -> 0.00043702432
A3879: 1918192 | B3879: 136 | C3879: Leenderbos, Groote Heide & De Plateaux | D3879: H3130 | E3879: Zwakgebufferde vennen | F3879: 500 | G3879: 831.39 | H3879: exceeding | I3879: 0.0039548 | J3879: 237.5423 | K3879: =_xlfn.CONCAT(C3879,"_",D3879) -> Leenderbos, Groote Heide & De Plateaux_H3130 | L3879: =VLOOKUP(D3879,DATA!A:F,5,FALSE) -> 0 | M3879: =VLOOKUP(D3879,DATA!A:F,6,FALSE) -> 3.5 | N3879: =100/(1+EXP(-L3879*(G3879-M3879))) -> 50 | O3879: =100/(1+EXP(-L3879*((G3879+I3879)-M3879))) -> 50 | P3879: =J3879/10000*I3879 -> 9.3943229e-05 | Q3879: =IF(AND(H3879<>"below",I3879>=0.005),M3879*P3879,0) -> 0
A3880: 1918192 | B3880: 136 | C3880: Leenderbos, Groote Heide & De Plateaux | D3880: H4030 | E3880: Droge heiden | F3880: 714 | G3880: 831.39 | H3880: exceeding | I3880: 0.0039548 | J3880: 1102.9711 | K3880: =_xlfn.CONCAT(C3880,"_",D3880) -> Leenderbos, Groote Heide & De Plateaux_H4030 | L3880: =VLOOKUP(D3880,DATA!A:F,5,FALSE) -> 0.010986713 | M3880: =VLOOKUP(D3880,DATA!A:F,6,FALSE) -> 982 | N3880: =100/(1+EXP(-L3880*(G3880-M3880))) -> 16.047356 | O3880: =100/(1+EXP(-L3880*((G3880+I3880)-M3880))) -> 16.047941 | P3880: =O3880-N3880 -> 0.00058537822 | Q3880: =IF(AND(H3880<>"below",I3880>=0.005),J3880*P3880/100,0) -> 0
A3881: 1918193 | B3881: 136 | C3881: Leenderbos, Groote Heide & De Plateaux | D3881: H3130 | E3881: Zwakgebufferde vennen | F3881: 500 | G3881: 827.03 | H3881: exceeding | I3881: 0.0037214 | J3881: 8258.652 | K3881: =_xlfn.CONCAT(C3881,"_",D3881) -> Leenderbos, Groote Heide & De Plateaux_H3130 | L3881: =VLOOKUP(D3881,DATA!A:F,5,FALSE) -> 0 | M3881: =VLOOKUP(D3881,DATA!A:F,6,FALSE) -> 3.5 | N3881: =100/(1+EXP(-L3881*(G3881-M3881))) -> 50 | O3881: =100/(1+EXP(-L3881*((G3881+I3881)-M3881))) -> 50 | P3881: =J3881/10000*I3881 -> 0.0030733748 | Q3881: =IF(AND(H3881<>"below",I3881>=0.005),M3881*P3881,0) -> 0
A3882: 1918193 | B3882: 136 | C3882: Leenderbos, Groote Heide & De Plateaux | D3882: H4030 | E3882: Droge heiden | F3882: 714 | G3882: 827.03 | H3882: exceeding | I3882: 0.0037214 | J3882: 261.20221 | K3882: =_xlfn.CONCAT(C3882,"_",D3882) -> Leenderbos, Groote Heide & De Plateaux_H4030 | L3882: =VLOOKUP(D3882,DATA!A:F,5,FALSE) -> 0.010986713 | M3882: =VLOOKUP(D3882,DATA!A:F,6,FALSE) -> 982 | N3882: =100/(1+EXP(-L3882*(G3882-M3882))) -> 15.412458 | O3882: =100/(1+EXP(-L3882*((G3882+I3882)-M3882))) -> 15.412991 | P3882: =O3882-N3882 -> 0.00053303849 | Q3882: =IF(AND(H3882<>"below",I3882>=0.005),J3882*P3882/100,0) -> 0
A3883: 1918194 | B3883: 136 | C3883: Leenderbos, Groote Heide & De Plateaux | D3883: H4030 | E3883: Droge heiden | F3883: 714 | G3883: 1013.54 | H3883: exceeding | I3883: 0.0038625 | J3883: 261.86623 | K3883: =_xlfn.CONCAT(C3883,"_",D3883) -> Leenderbos, Groote Heide & De Plateaux_H4030 | L3883: =VLOOKUP(D3883,DATA!A:F,5,FALSE) -> 0.010986713 | M3883: =VLOOKUP(D3883,DATA!A:F,6,FALSE) -> 982 | N3883: =100/(1+EXP(-L3883*(G3883-M3883))) -> 58.577366 | O3883: =100/(1+EXP(-L3883*((G3883+I3883)-M3883))) -> 58.578395 | P3883: =O3883-N3883 -> 0.0010296799 | Q3883: =IF(AND(H3883<>"below",I3883>=0.005),J3883*P3883/100,0) -> 0
A3884: 1919720 | B3884: 136 | C3884: Leenderbos, Groote Heide & De Plateaux | D3884: H3130 | E3884: Zwakgebufferde vennen | F3884: 500 | G3884: 846.82 | H3884: exceeding | I3884: 0.0040628 | J3884: 64.793816 | K3884: =_xlfn.CONCAT(C3884,"_",D3884) -> Leenderbos, Groote Heide & De Plateaux_H3130 | L3884: =VLOOKUP(D3884,DATA!A:F,5,FALSE) -> 0 | M3884: =VLOOKUP(D3884,DATA!A:F,6,FALSE) -> 3.5 | N3884: =100/(1+EXP(-L3884*(G3884-M3884))) -> 50 | O3884: =100/(1+EXP(-L3884*((G3884+I3884)-M3884))) -> 50 | P3884: =J3884/10000*I3884 -> 2.6324432e-05 | Q3884: =IF(AND(H3884<>"below",I3884>=0.005),M3884*P3884,0) -> 0
A3885: 1919720 | B3885: 136 | C3885: Leenderbos, Groote Heide & De Plateaux | D3885: H4030 | E3885: Droge heiden | F3885: 714 | G3885: 846.82 | H3885: exceeding | I3885: 0.0040628 | J3885: 917.62965 | K3885: =_xlfn.CONCAT(C3885,"_",D3885) -> Leenderbos, Groote Heide & De Plateaux_H4030 | L3885: =VLOOKUP(D3885,DATA!A:F,5,FALSE) -> 0.010986713 | M3885: =VLOOKUP(D3885,DATA!A:F,6,FALSE) -> 982 | N3885: =100/(1+EXP(-L3885*(G3885-M3885))) -> 18.464571 | O3885: =100/(1+EXP(-L3885*((G3885+I3885)-M3885))) -> 18.465243 | P3885: =O3885-N3885 -> 0.00067202419 | Q3885: =IF(AND(H3885<>"below",I3885>=0.005),J3885*P3885/100,0) -> 0
A3886: 1919721 | B3886: 136 | C3886: Leenderbos, Groote Heide & De Plateaux | D3886: H3130 | E3886: Zwakgebufferde vennen | F3886: 500 | G3886: 797.39 | H3886: exceeding | I3886: 0.0036509 | J3886: 6062.32 | K3886: =_xlfn.CONCAT(C3886,"_",D3886) -> Leenderbos, Groote Heide & De Plateaux_H3130 | L3886: =VLOOKUP(D3886,DATA!A:F,5,FALSE) -> 0 | M3886: =VLOOKUP(D3886,DATA!A:F,6,FALSE) -> 3.5 | N3886: =100/(1+EXP(-L3886*(G3886-M3886))) -> 50 | O3886: =100/(1+EXP(-L3886*((G3886+I3886)-M3886))) -> 50 | P3886: =J3886/10000*I3886 -> 0.0022132924 | Q3886: =IF(AND(H3886<>"below",I3886>=0.005),M3886*P3886,0) -> 0
A3887: 1919721 | B3887: 136 | C3887: Leenderbos, Groote Heide & De Plateaux | D3887: H4030 | E3887: Droge heiden | F3887: 714 | G3887: 797.39 | H3887: exceeding | I3887: 0.0036509 | J3887: 590.652 | K3887: =_xlfn.CONCAT(C3887,"_",D3887) -> Leenderbos, Groote Heide & De Plateaux_H4030 | L3887: =VLOOKUP(D3887,DATA!A:F,5,FALSE) -> 0.010986713 | M3887: =VLOOKUP(D3887,DATA!A:F,6,FALSE) -> 982 | N3887: =100/(1+EXP(-L3887*(G3887-M3887))) -> 11.626789 | O3887: =100/(1+EXP(-L3887*((G3887+I3887)-M3887))) -> 11.627201 | P3887: =O3887-N3887 -> 0.00041214954 | Q3887: =IF(AND(H3887<>"below",I3887>=0.005),J3887*P3887/100,0) -> 0
A3888: 1919722 | B3888: 136 | C3888: Leenderbos, Groote Heide & De Plateaux | D3888: H3130 | E3888: Zwakgebufferde vennen | F3888: 500 | G3888: 919.65 | H3888: exceeding | I3888: 0.0036267 | J3888: 1408.9137 | K3888: =_xlfn.CONCAT(C3888,"_",D3888) -> Leenderbos, Groote Heide & De Plateaux_H3130 | L3888: =VLOOKUP(D3888,DATA!A:F,5,FALSE) -> 0 | M3888: =VLOOKUP(D3888,DATA!A:F,6,FALSE) -> 3.5 | N3888: =100/(1+EXP(-L3888*(G3888-M3888))) -> 50 | O3888: =100/(1+EXP(-L3888*((G3888+I3888)-M3888))) -> 50 | P3888: =J3888/10000*I3888 -> 0.00051097073 | Q3888: =IF(AND(H3888<>"below",I3888>=0.005),M3888*P3888,0) -> 0
A3889: 1919722 | B3889: 136 | C3889: Leenderbos, Groote Heide & De Plateaux | D3889: H4030 | E3889: Droge heiden | F3889: 714 | G3889: 919.65 | H3889: exceeding | I3889: 0.0036267 | J3889: 1288.6629 | K3889: =_xlfn.CONCAT(C3889,"_",D3889) -> Leenderbos, Groote Heide & De Plateaux_H4030 | L3889: =VLOOKUP(D3889,DATA!A:F,5,FALSE) -> 0.010986713 | M3889: =VLOOKUP(D3889,DATA!A:F,6,FALSE) -> 982 | N3889: =100/(1+EXP(-L3889*(G3889-M3889))) -> 33.514147 | O3889: =100/(1+EXP(-L3889*((G3889+I3889)-M3889))) -> 33.515035 | P3889: =O3889-N3889 -> 0.00088785014 | Q3889: =IF(AND(H3889<>"below",I3889>=0.005),J3889*P3889/100,0) -> 0
A3890: 1921249 | B3890: 136 | C3890: Leenderbos, Groote Heide & De Plateaux | D3890: H3130 | E3890: Zwakgebufferde vennen | F3890: 500 | G3890: 889.98 | H3890: exceeding | I3890: 0.0041996 | J3890: 1434.3904 | K3890: =_xlfn.CONCAT(C3890,"_",D3890) -> Leenderbos, Groote Heide & De Plateaux_H3130 | L3890: =VLOOKUP(D3890,DATA!A:F,5,FALSE) -> 0 | M3890: =VLOOKUP(D3890,DATA!A:F,6,FALSE) -> 3.5 | N3890: =100/(1+EXP(-L3890*(G3890-M3890))) -> 50 | O3890: =100/(1+EXP(-L3890*((G3890+I3890)-M3890))) -> 50 | P3890: =J3890/10000*I3890 -> 0.00060238659 | Q3890: =IF(AND(H3890<>"below",I3890>=0.005),M3890*P3890,0) -> 0
A3891: 1921249 | B3891: 136 | C3891: Leenderbos, Groote Heide & De Plateaux | D3891: H4030 | E3891: Droge heiden | F3891: 714 | G3891: 889.98 | H3891: exceeding | I3891: 0.0041996 | J3891: 431.72685 | K3891: =_xlfn.CONCAT(C3891,"_",D3891) -> Leenderbos, Groote Heide & De Plateaux_H4030 | L3891: =VLOOKUP(D3891,DATA!A:F,5,FALSE) -> 0.010986713 | M3891: =VLOOKUP(D3891,DATA!A:F,6,FALSE) -> 982 | N3891: =100/(1+EXP(-L3891*(G3891-M3891))) -> 26.678472 | O3891: =100/(1+EXP(-L3891*((G3891+I3891)-M3891))) -> 26.679375 | P3891: =O3891-N3891 -> 0.00090255324 | Q3891: =IF(AND(H3891<>"below",I3891>=0.005),J3891*P3891/100,0) -> 0
A3892: 1921250 | B3892: 136 | C3892: Leenderbos, Groote Heide & De Plateaux | D3892: H3130 | E3892: Zwakgebufferde vennen | F3892: 500 | G3892: 819.52 | H3892: exceeding | I3892: 0.0038869 | J3892: 3437.324 | K3892: =_xlfn.CONCAT(C3892,"_",D3892) -> Leenderbos, Groote Heide & De Plateaux_H3130 | L3892: =VLOOKUP(D3892,DATA!A:F,5,FALSE) -> 0 | M3892: =VLOOKUP(D3892,DATA!A:F,6,FALSE) -> 3.5 | N3892: =100/(1+EXP(-L3892*(G3892-M3892))) -> 50 | O3892: =100/(1+EXP(-L3892*((G3892+I3892)-M3892))) -> 50 | P3892: =J3892/10000*I3892 -> 0.0013360535 | Q3892: =IF(AND(H3892<>"below",I3892>=0.005),M3892*P3892,0) -> 0
A3893: 1921250 | B3893: 136 | C3893: Leenderbos, Groote Heide & De Plateaux | D3893: H4030 | E3893: Droge heiden | F3893: 714 | G3893: 819.52 | H3893: exceeding | I3893: 0.0038869 | J3893: 984.40144 | K3893: =_xlfn.CONCAT(C3893,"_",D3893) -> Leenderbos, Groote Heide & De Plateaux_H4030 | L3893: =VLOOKUP(D3893,DATA!A:F,5,FALSE) -> 0.010986713 | M3893: =VLOOKUP(D3893,DATA!A:F,6,FALSE) -> 982 | N3893: =100/(1+EXP(-L3893*(G3893-M3893))) -> 14.367194 | O3893: =100/(1+EXP(-L3893*((G3893+I3893)-M3893))) -> 14.367719 | P3893: =O3893-N3893 -> 0.00052539975 | Q3893: =IF(AND(H3893<>"below",I3893>=0.005),J3893*P3893/100,0) -> 0
A3894: 1921251 | B3894: 136 | C3894: Leenderbos, Groote Heide & De Plateaux | D3894: H3130 | E3894: Zwakgebufferde vennen | F3894: 500 | G3894: 786.08 | H3894: exceeding | I3894: 0.0034434 | J3894: 3540.9185 | K3894: =_xlfn.CONCAT(C3894,"_",D3894) -> Leenderbos, Groote Heide & De Plateaux_H3130 | L3894: =VLOOKUP(D3894,DATA!A:F,5,FALSE) -> 0 | M3894: =VLOOKUP(D3894,DATA!A:F,6,FALSE) -> 3.5 | N3894: =100/(1+EXP(-L3894*(G3894-M3894))) -> 50 | O3894: =100/(1+EXP(-L3894*((G3894+I3894)-M3894))) -> 50 | P3894: =J3894/10000*I3894 -> 0.0012192799 | Q3894: =IF(AND(H3894<>"below",I3894>=0.005),M3894*P3894,0) -> 0
A3895: 1921251 | B3895: 136 | C3895: Leenderbos, Groote Heide & De Plateaux | D3895: H4030 | E3895: Droge heiden | F3895: 714 | G3895: 786.08 | H3895: exceeding | I3895: 0.0034434 | J3895: 968.86222 | K3895: =_xlfn.CONCAT(C3895,"_",D3895) -> Leenderbos, Groote Heide & De Plateaux_H4030 | L3895: =VLOOKUP(D3895,DATA!A:F,5,FALSE) -> 0.010986713 | M3895: =VLOOKUP(D3895,DATA!A:F,6,FALSE) -> 982 | N3895: =100/(1+EXP(-L3895*(G3895-M3895))) -> 10.409628 | O3895: =100/(1+EXP(-L3895*((G3895+I3895)-M3895))) -> 10.409981 | P3895: =O3895-N3895 -> 0.00035282414 | Q3895: =IF(AND(H3895<>"below",I3895>=0.005),J3895*P3895/100,0) -> 0
A3896: 1921252 | B3896: 136 | C3896: Leenderbos, Groote Heide & De Plateaux | D3896: H3130 | E3896: Zwakgebufferde vennen | F3896: 500 | G3896: 961.06 | H3896: exceeding | I3896: 0.0037089 | J3896: 2542.2498 | K3896: =_xlfn.CONCAT(C3896,"_",D3896) -> Leenderbos, Groote Heide & De Plateaux_H3130 | L3896: =VLOOKUP(D3896,DATA!A:F,5,FALSE) -> 0 | M3896: =VLOOKUP(D3896,DATA!A:F,6,FALSE) -> 3.5 | N3896: =100/(1+EXP(-L3896*(G3896-M3896))) -> 50 | O3896: =100/(1+EXP(-L3896*((G3896+I3896)-M3896))) -> 50 | P3896: =J3896/10000*I3896 -> 0.00094289503 | Q3896: =IF(AND(H3896<>"below",I3896>=0.005),M3896*P3896,0) -> 0
A3897: 1921252 | B3897: 136 | C3897: Leenderbos, Groote Heide & De Plateaux | D3897: H4030 | E3897: Droge heiden | F3897: 714 | G3897: 961.06 | H3897: exceeding | I3897: 0.0037089 | J3897: 894.27906 | K3897: =_xlfn.CONCAT(C3897,"_",D3897) -> Leenderbos, Groote Heide & De Plateaux_H4030 | L3897: =VLOOKUP(D3897,DATA!A:F,5,FALSE) -> 0.010986713 | M3897: =VLOOKUP(D3897,DATA!A:F,6,FALSE) -> 982 | N3897: =100/(1+EXP(-L3897*(G3897-M3897))) -> 44.273691 | O3897: =100/(1+EXP(-L3897*((G3897+I3897)-M3897))) -> 44.274696 | P3897: =O3897-N3897 -> 0.0010053561 | Q3897: =IF(AND(H3897<>"below",I3897>=0.005),J3897*P3897/100,0) -> 0
A3898: 1922777 | B3898: 136 | C3898: Leenderbos, Groote Heide & De Plateaux | D3898: H4030 | E3898: Droge heiden | F3898: 714 | G3898: 976.83 | H3898: exceeding | I3898: 0.0046961 | J3898: 385.4676 | K3898: =_xlfn.CONCAT(C3898,"_",D3898) -> Leenderbos, Groote Heide & De Plateaux_H4030 | L3898: =VLOOKUP(D3898,DATA!A:F,5,FALSE) -> 0.010986713 | M3898: =VLOOKUP(D3898,DATA!A:F,6,FALSE) -> 982 | N3898: =100/(1+EXP(-L3898*(G3898-M3898))) -> 48.580349 | O3898: =100/(1+EXP(-L3898*((G3898+I3898)-M3898))) -> 48.581638 | P3898: =O3898-N3898 -> 0.0012888286 | Q3898: =IF(AND(H3898<>"below",I3898>=0.005),J3898*P3898/100,0) -> 0
A3899: 1922778 | B3899: 136 | C3899: Leenderbos, Groote Heide & De Plateaux | D3899: H3130 | E3899: Zwakgebufferde vennen | F3899: 500 | G3899: 819.86 | H3899: exceeding | I3899: 0.0038767 | J3899: 1160.5691 | K3899: =_xlfn.CONCAT(C3899,"_",D3899) -> Leenderbos, Groote Heide & De Plateaux_H3130 | L3899: =VLOOKUP(D3899,DATA!A:F,5,FALSE) -> 0 | M3899: =VLOOKUP(D3899,DATA!A:F,6,FALSE) -> 3.5 | N3899: =100/(1+EXP(-L3899*(G3899-M3899))) -> 50 | O3899: =100/(1+EXP(-L3899*((G3899+I3899)-M3899))) -> 50 | P3899: =J3899/10000*I3899 -> 0.00044991782 | Q3899: =IF(AND(H3899<>"below",I3899>=0.005),M3899*P3899,0) -> 0
A3900: 1922778 | B3900: 136 | C3900: Leenderbos, Groote Heide & De Plateaux | D3900: H4030 | E3900: Droge heiden | F3900: 714 | G3900: 819.86 | H3900: exceeding | I3900: 0.0038767 | J3900: 1325.9146 | K3900: =_xlfn.CONCAT(C3900,"_",D3900) -> Leenderbos, Groote Heide & De Plateaux_H4030 | L3900: =VLOOKUP(D3900,DATA!A:F,5,FALSE) -> 0.010986713 | M3900: =VLOOKUP(D3900,DATA!A:F,6,FALSE) -> 982 | N3900: =100/(1+EXP(-L3900*(G3900-M3900))) -> 14.413213 | O3900: =100/(1+EXP(-L3900*((G3900+I3900)-M3900))) -> 14.413738 | P3900: =O3900-N3900 -> 0.00052541693 | Q3900: =IF(AND(H3900<>"below",I3900>=0.005),J3900*P3900/100,0) -> 0
A3901: 1922779 | B3901: 136 | C3901: Leenderbos, Groote Heide & De Plateaux | D3901: H3130 | E3901: Zwakgebufferde vennen | F3901: 500 | G3901: 789.96 | H3901: exceeding | I3901: 0.0036227 | J3901: 7885.91 | K3901: =_xlfn.CONCAT(C3901,"_",D3901) -> Leenderbos, Groote Heide & De Plateaux_H3130 | L3901: =VLOOKUP(D3901,DATA!A:F,5,FALSE) -> 0 | M3901: =VLOOKUP(D3901,DATA!A:F,6,FALSE) -> 3.5 | N3901: =100/(1+EXP(-L3901*(G3901-M3901))) -> 50 | O3901: =100/(1+EXP(-L3901*((G3901+I3901)-M3901))) -> 50 | P3901: =J3901/10000*I3901 -> 0.0028568286 | Q3901: =IF(AND(H3901<>"below",I3901>=0.005),M3901*P3901,0) -> 0
A3902: 1922779 | B3902: 136 | C3902: Leenderbos, Groote Heide & De Plateaux | D3902: H4030 | E3902: Droge heiden | F3902: 714 | G3902: 789.96 | H3902: exceeding | I3902: 0.0036227 | J3902: 317.11347 | K3902: =_xlfn.CONCAT(C3902,"_",D3902) -> Leenderbos, Groote Heide & De Plateaux_H4030 | L3902: =VLOOKUP(D3902,DATA!A:F,5,FALSE) -> 0.010986713 | M3902: =VLOOKUP(D3902,DATA!A:F,6,FALSE) -> 982 | N3902: =100/(1+EXP(-L3902*(G3902-M3902))) -> 10.813944 | O3902: =100/(1+EXP(-L3902*((G3902+I3902)-M3902))) -> 10.814328 | P3902: =O3902-N3902 -> 0.00038387337 | Q3902: =IF(AND(H3902<>"below",I3902>=0.005),J3902*P3902/100,0) -> 0
A3903: 1922780 | B3903: 136 | C3903: Leenderbos, Groote Heide & De Plateaux | D3903: H3130 | E3903: Zwakgebufferde vennen | F3903: 500 | G3903: 896.5 | H3903: exceeding | I3903: 0.0035504 | J3903: 2758.0984 | K3903: =_xlfn.CONCAT(C3903,"_",D3903) -> Leenderbos, Groote Heide & De Plateaux_H3130 | L3903: =VLOOKUP(D3903,DATA!A:F,5,FALSE) -> 0 | M3903: =VLOOKUP(D3903,DATA!A:F,6,FALSE) -> 3.5 | N3903: =100/(1+EXP(-L3903*(G3903-M3903))) -> 50 | O3903: =100/(1+EXP(-L3903*((G3903+I3903)-M3903))) -> 50 | P3903: =J3903/10000*I3903 -> 0.00097923526 | Q3903: =IF(AND(H3903<>"below",I3903>=0.005),M3903*P3903,0) -> 0
A3904: 1922780 | B3904: 136 | C3904: Leenderbos, Groote Heide & De Plateaux | D3904: H4030 | E3904: Droge heiden | F3904: 714 | G3904: 896.5 | H3904: exceeding | I3904: 0.0035504 | J3904: 1086.2852 | K3904: =_xlfn.CONCAT(C3904,"_",D3904) -> Leenderbos, Groote Heide & De Plateaux_H4030 | L3904: =VLOOKUP(D3904,DATA!A:F,5,FALSE) -> 0.010986713 | M3904: =VLOOKUP(D3904,DATA!A:F,6,FALSE) -> 982 | N3904: =100/(1+EXP(-L3904*(G3904-M3904))) -> 28.102884 | O3904: =100/(1+EXP(-L3904*((G3904+I3904)-M3904))) -> 28.103673 | P3904: =O3904-N3904 -> 0.00078815407 | Q3904: =IF(AND(H3904<>"below",I3904>=0.005),J3904*P3904/100,0) -> 0
A3905: 1922781 | B3905: 136 | C3905: Leenderbos, Groote Heide & De Plateaux | D3905: H3130 | E3905: Zwakgebufferde vennen | F3905: 500 | G3905: 1000.84 | H3905: exceeding | I3905: 0.0038043 | J3905: 2446.9028 | K3905: =_xlfn.CONCAT(C3905,"_",D3905) -> Leenderbos, Groote Heide & De Plateaux_H3130 | L3905: =VLOOKUP(D3905,DATA!A:F,5,FALSE) -> 0 | M3905: =VLOOKUP(D3905,DATA!A:F,6,FALSE) -> 3.5 | N3905: =100/(1+EXP(-L3905*(G3905-M3905))) -> 50 | O3905: =100/(1+EXP(-L3905*((G3905+I3905)-M3905))) -> 50 | P3905: =J3905/10000*I3905 -> 0.00093087523 | Q3905: =IF(AND(H3905<>"below",I3905>=0.005),M3905*P3905,0) -> 0
A3906: 1922781 | B3906: 136 | C3906: Leenderbos, Groote Heide & De Plateaux | D3906: H4030 | E3906: Droge heiden | F3906: 714 | G3906: 1000.84 | H3906: exceeding | I3906: 0.0038043 | J3906: 214.84047 | K3906: =_xlfn.CONCAT(C3906,"_",D3906) -> Leenderbos, Groote Heide & De Plateaux_H4030 | L3906: =VLOOKUP(D3906,DATA!A:F,5,FALSE) -> 0.010986713 | M3906: =VLOOKUP(D3906,DATA!A:F,6,FALSE) -> 982 | N3906: =100/(1+EXP(-L3906*(G3906-M3906))) -> 55.156345 | O3906: =100/(1+EXP(-L3906*((G3906+I3906)-M3906))) -> 55.157378 | P3906: =O3906-N3906 -> 0.0010338037 | Q3906: =IF(AND(H3906<>"below",I3906>=0.005),J3906*P3906/100,0) -> 0
A3907: 1924306 | B3907: 136 | C3907: Leenderbos, Groote Heide & De Plateaux | D3907: H4010A | E3907: Vochtige heiden (hogere zandgronden) | F3907: 1071 | G3907: 1140.92 | H3907: exceeding | I3907: 0.0054329 | J3907: 3.4210848 | K3907: =_xlfn.CONCAT(C3907,"_",D3907) -> Leenderbos, Groote Heide & De Plateaux_H4010A | L3907: =VLOOKUP(D3907,DATA!A:F,5,FALSE) -> 0.013726988 | M3907: =VLOOKUP(D3907,DATA!A:F,6,FALSE) -> 1285.5 | N3907: =100/(1+EXP(-L3907*(G3907-M3907))) -> 12.082423 | O3907: =100/(1+EXP(-L3907*((G3907+I3907)-M3907))) -> 12.083216 | P3907: =O3907-N3907 -> 0.00079222586 | Q3907: =IF(AND(H3907<>"below",I3907>=0.005),J3907*P3907/100,0) -> 2.7102718e-05
A3908: 1924306 | B3908: 136 | C3908: Leenderbos, Groote Heide & De Plateaux | D3908: H4030 | E3908: Droge heiden | F3908: 714 | G3908: 1140.92 | H3908: exceeding | I3908: 0.0054329 | J3908: 1841.2151 | K3908: =_xlfn.CONCAT(C3908,"_",D3908) -> Leenderbos, Groote Heide & De Plateaux_H4030 | L3908: =VLOOKUP(D3908,DATA!A:F,5,FALSE) -> 0.010986713 | M3908: =VLOOKUP(D3908,DATA!A:F,6,FALSE) -> 982 | N3908: =100/(1+EXP(-L3908*(G3908-M3908))) -> 85.144863 | O3908: =100/(1+EXP(-L3908*((G3908+I3908)-M3908))) -> 85.145618 | P3908: =O3908-N3908 -> 0.00075496266 | Q3908: =IF(AND(H3908<>"below",I3908>=0.005),J3908*P3908/100,0) -> 0.013900487
A3909: 1924306 | B3909: 136 | C3909: Leenderbos, Groote Heide & De Plateaux | D3909: H7150 | E3909: Pioniervegetaties met snavelbiezen | F3909: 1071 | G3909: 1140.92 | H3909: exceeding | I3909: 0.0054329 | J3909: 1.5965062 | K3909: =_xlfn.CONCAT(C3909,"_",D3909) -> Leenderbos, Groote Heide & De Plateaux_H7150 | L3909: =VLOOKUP(D3909,DATA!A:F,5,FALSE) -> 0.013726988 | M3909: =VLOOKUP(D3909,DATA!A:F,6,FALSE) -> 1285.5 | N3909: =100/(1+EXP(-L3909*(G3909-M3909))) -> 12.082423 | O3909: =100/(1+EXP(-L3909*((G3909+I3909)-M3909))) -> 12.083216 | P3909: =O3909-N3909 -> 0.00079222586 | Q3909: =IF(AND(H3909<>"below",I3909>=0.005),J3909*P3909/100,0) -> 1.2647935e-05
A3910: 1924307 | B3910: 136 | C3910: Leenderbos, Groote Heide & De Plateaux | D3910: H4030 | E3910: Droge heiden | F3910: 714 | G3910: 836.28 | H3910: exceeding | I3910: 0.0039968 | J3910: 517.74896 | K3910: =_xlfn.CONCAT(C3910,"_",D3910) -> Leenderbos, Groote Heide & De Plateaux_H4030 | L3910: =VLOOKUP(D3910,DATA!A:F,5,FALSE) -> 0.010986713 | M3910: =VLOOKUP(D3910,DATA!A:F,6,FALSE) -> 982 | N3910: =100/(1+EXP(-L3910*(G3910-M3910))) -> 16.784417 | O3910: =100/(1+EXP(-L3910*((G3910+I3910)-M3910))) -> 16.78503 | P3910: =O3910-N3910 -> 0.00061333455 | Q3910: =IF(AND(H3910<>"below",I3910>=0.005),J3910*P3910/100,0) -> 0
A3911: 1924308 | B3911: 136 | C3911: Leenderbos, Groote Heide & De Plateaux | D3911: H3130 | E3911: Zwakgebufferde vennen | F3911: 500 | G3911: 789.6 | H3911: exceeding | I3911: 0.0036757 | J3911: 1322.4393 | K3911: =_xlfn.CONCAT(C3911,"_",D3911) -> Leenderbos, Groote Heide & De Plateaux_H3130 | L3911: =VLOOKUP(D3911,DATA!A:F,5,FALSE) -> 0 | M3911: =VLOOKUP(D3911,DATA!A:F,6,FALSE) -> 3.5 | N3911: =100/(1+EXP(-L3911*(G3911-M3911))) -> 50 | O3911: =100/(1+EXP(-L3911*((G3911+I3911)-M3911))) -> 50 | P3911: =J3911/10000*I3911 -> 0.00048608901 | Q3911: =IF(AND(H3911<>"below",I3911>=0.005),M3911*P3911,0) -> 0
A3912: 1924308 | B3912: 136 | C3912: Leenderbos, Groote Heide & De Plateaux | D3912: H4030 | E3912: Droge heiden | F3912: 714 | G3912: 789.6 | H3912: exceeding | I3912: 0.0036757 | J3912: 1301.6341 | K3912: =_xlfn.CONCAT(C3912,"_",D3912) -> Leenderbos, Groote Heide & De Plateaux_H4030 | L3912: =VLOOKUP(D3912,DATA!A:F,5,FALSE) -> 0.010986713 | M3912: =VLOOKUP(D3912,DATA!A:F,6,FALSE) -> 982 | N3912: =100/(1+EXP(-L3912*(G3912-M3912))) -> 10.775857 | O3912: =100/(1+EXP(-L3912*((G3912+I3912)-M3912))) -> 10.776245 | P3912: =O3912-N3912 -> 0.00038828347 | Q3912: =IF(AND(H3912<>"below",I3912>=0.005),J3912*P3912/100,0) -> 0
A3913: 1924309 | B3913: 136 | C3913: Leenderbos, Groote Heide & De Plateaux | D3913: H3130 | E3913: Zwakgebufferde vennen | F3913: 500 | G3913: 776.38 | H3913: exceeding | I3913: 0.0034179 | J3913: 6883.372 | K3913: =_xlfn.CONCAT(C3913,"_",D3913) -> Leenderbos, Groote Heide & De Plateaux_H3130 | L3913: =VLOOKUP(D3913,DATA!A:F,5,FALSE) -> 0 | M3913: =VLOOKUP(D3913,DATA!A:F,6,FALSE) -> 3.5 | N3913: =100/(1+EXP(-L3913*(G3913-M3913))) -> 50 | O3913: =100/(1+EXP(-L3913*((G3913+I3913)-M3913))) -> 50 | P3913: =J3913/10000*I3913 -> 0.0023526677 | Q3913: =IF(AND(H3913<>"below",I3913>=0.005),M3913*P3913,0) -> 0
A3914: 1924309 | B3914: 136 | C3914: Leenderbos, Groote Heide & De Plateaux | D3914: H4030 | E3914: Droge heiden | F3914: 714 | G3914: 776.38 | H3914: exceeding | I3914: 0.0034179 | J3914: 467.49423 | K3914: =_xlfn.CONCAT(C3914,"_",D3914) -> Leenderbos, Groote Heide & De Plateaux_H4030 | L3914: =VLOOKUP(D3914,DATA!A:F,5,FALSE) -> 0.010986713 | M3914: =VLOOKUP(D3914,DATA!A:F,6,FALSE) -> 982 | N3914: =100/(1+EXP(-L3914*(G3914-M3914))) -> 9.4568443 | O3914: =100/(1+EXP(-L3914*((G3914+I3914)-M3914))) -> 9.4571659 | P3914: =O3914-N3914 -> 0.00032154044 | Q3914: =IF(AND(H3914<>"below",I3914>=0.005),J3914*P3914/100,0) -> 0
A3915: 1924310 | B3915: 136 | C3915: Leenderbos, Groote Heide & De Plateaux | D3915: H3130 | E3915: Zwakgebufferde vennen | F3915: 500 | G3915: 943.33 | H3915: exceeding | I3915: 0.0035828 | J3915: 1023.0179 | K3915: =_xlfn.CONCAT(C3915,"_",D3915) -> Leenderbos, Groote Heide & De Plateaux_H3130 | L3915: =VLOOKUP(D3915,DATA!A:F,5,FALSE) -> 0 | M3915: =VLOOKUP(D3915,DATA!A:F,6,FALSE) -> 3.5 | N3915: =100/(1+EXP(-L3915*(G3915-M3915))) -> 50 | O3915: =100/(1+EXP(-L3915*((G3915+I3915)-M3915))) -> 50 | P3915: =J3915/10000*I3915 -> 0.00036652687 | Q3915: =IF(AND(H3915<>"below",I3915>=0.005),M3915*P3915,0) -> 0
A3916: 1924310 | B3916: 136 | C3916: Leenderbos, Groote Heide & De Plateaux | D3916: H4030 | E3916: Droge heiden | F3916: 714 | G3916: 943.33 | H3916: exceeding | I3916: 0.0035828 | J3916: 1346.5473 | K3916: =_xlfn.CONCAT(C3916,"_",D3916) -> Leenderbos, Groote Heide & De Plateaux_H4030 | L3916: =VLOOKUP(D3916,DATA!A:F,5,FALSE) -> 0.010986713 | M3916: =VLOOKUP(D3916,DATA!A:F,6,FALSE) -> 982 | N3916: =100/(1+EXP(-L3916*(G3916-M3916))) -> 39.53553 | O3916: =100/(1+EXP(-L3916*((G3916+I3916)-M3916))) -> 39.536471 | P3916: =O3916-N3916 -> 0.000940979 | Q3916: =IF(AND(H3916<>"below",I3916>=0.005),J3916*P3916/100,0) -> 0
A3917: 1924311 | B3917: 136 | C3917: Leenderbos, Groote Heide & De Plateaux | D3917: H3130 | E3917: Zwakgebufferde vennen | F3917: 500 | G3917: 1263.67 | H3917: exceeding | I3917: 0.0045739 | J3917: 59.03909 | K3917: =_xlfn.CONCAT(C3917,"_",D3917) -> Leenderbos, Groote Heide & De Plateaux_H3130 | L3917: =VLOOKUP(D3917,DATA!A:F,5,FALSE) -> 0 | M3917: =VLOOKUP(D3917,DATA!A:F,6,FALSE) -> 3.5 | N3917: =100/(1+EXP(-L3917*(G3917-M3917))) -> 50 | O3917: =100/(1+EXP(-L3917*((G3917+I3917)-M3917))) -> 50 | P3917: =J3917/10000*I3917 -> 2.7003889e-05 | Q3917: =IF(AND(H3917<>"below",I3917>=0.005),M3917*P3917,0) -> 0
A3918: 1924311 | B3918: 136 | C3918: Leenderbos, Groote Heide & De Plateaux | D3918: H4010A | E3918: Vochtige heiden (hogere zandgronden) | F3918: 1071 | G3918: 1263.67 | H3918: exceeding | I3918: 0.0045739 | J3918: 2.186501 | K3918: =_xlfn.CONCAT(C3918,"_",D3918) -> Leenderbos, Groote Heide & De Plateaux_H4010A | L3918: =VLOOKUP(D3918,DATA!A:F,5,FALSE) -> 0.013726988 | M3918: =VLOOKUP(D3918,DATA!A:F,6,FALSE) -> 1285.5 | N3918: =100/(1+EXP(-L3918*(G3918-M3918))) -> 42.564056 | O3918: =100/(1+EXP(-L3918*((G3918+I3918)-M3918))) -> 42.565591 | P3918: =O3918-N3918 -> 0.0015349376 | Q3918: =IF(AND(H3918<>"below",I3918>=0.005),J3918*P3918/100,0) -> 0
A3919: 1924311 | B3919: 136 | C3919: Leenderbos, Groote Heide & De Plateaux | D3919: H4030 | E3919: Droge heiden | F3919: 714 | G3919: 1263.67 | H3919: exceeding | I3919: 0.0045739 | J3919: 2.186501 | K3919: =_xlfn.CONCAT(C3919,"_",D3919) -> Leenderbos, Groote Heide & De Plateaux_H4030 | L3919: =VLOOKUP(D3919,DATA!A:F,5,FALSE) -> 0.010986713 | M3919: =VLOOKUP(D3919,DATA!A:F,6,FALSE) -> 982 | N3919: =100/(1+EXP(-L3919*(G3919-M3919))) -> 95.667058 | O3919: =100/(1+EXP(-L3919*((G3919+I3919)-M3919))) -> 95.667267 | P3919: =O3919-N3919 -> 0.00020830022 | Q3919: =IF(AND(H3919<>"below",I3919>=0.005),J3919*P3919/100,0) -> 0
A3920: 1924311 | B3920: 136 | C3920: Leenderbos, Groote Heide & De Plateaux | D3920: H7150 | E3920: Pioniervegetaties met snavelbiezen | F3920: 1071 | G3920: 1263.67 | H3920: exceeding | I3920: 0.0045739 | J3920: 1.0203671 | K3920: =_xlfn.CONCAT(C3920,"_",D3920) -> Leenderbos, Groote Heide & De Plateaux_H7150 | L3920: =VLOOKUP(D3920,DATA!A:F,5,FALSE) -> 0.013726988 | M3920: =VLOOKUP(D3920,DATA!A:F,6,FALSE) -> 1285.5 | N3920: =100/(1+EXP(-L3920*(G3920-M3920))) -> 42.564056 | O3920: =100/(1+EXP(-L3920*((G3920+I3920)-M3920))) -> 42.565591 | P3920: =O3920-N3920 -> 0.0015349376 | Q3920: =IF(AND(H3920<>"below",I3920>=0.005),J3920*P3920/100,0) -> 0
A3921: 1925834 | B3921: 136 | C3921: Leenderbos, Groote Heide & De Plateaux | D3921: H4030 | E3921: Droge heiden | F3921: 714 | G3921: 1515.62 | H3921: exceeding | I3921: 0.0072679 | J3921: 34.243214 | K3921: =_xlfn.CONCAT(C3921,"_",D3921) -> Leenderbos, Groote Heide & De Plateaux_H4030 | L3921: =VLOOKUP(D3921,DATA!A:F,5,FALSE) -> 0.010986713 | M3921: =VLOOKUP(D3921,DATA!A:F,6,FALSE) -> 982 | N3921: =100/(1+EXP(-L3921*(G3921-M3921))) -> 99.716459 | O3921: =100/(1+EXP(-L3921*((G3921+I3921)-M3921))) -> 99.716482 | P3921: =O3921-N3921 -> 2.2575743e-05 | Q3921: =IF(AND(H3921<>"below",I3921>=0.005),J3921*P3921/100,0) -> 7.7306601e-06
A3922: 1925835 | B3922: 136 | C3922: Leenderbos, Groote Heide & De Plateaux | D3922: H4030 | E3922: Droge heiden | F3922: 714 | G3922: 890.67 | H3922: exceeding | I3922: 0.0043277 | J3922: 3435.1444 | K3922: =_xlfn.CONCAT(C3922,"_",D3922) -> Leenderbos, Groote Heide & De Plateaux_H4030 | L3922: =VLOOKUP(D3922,DATA!A:F,5,FALSE) -> 0.010986713 | M3922: =VLOOKUP(D3922,DATA!A:F,6,FALSE) -> 982 | N3922: =100/(1+EXP(-L3922*(G3922-M3922))) -> 26.827023 | O3922: =100/(1+EXP(-L3922*((G3922+I3922)-M3922))) -> 26.827957 | P3922: =O3922-N3922 -> 0.000933368 | Q3922: =IF(AND(H3922<>"below",I3922>=0.005),J3922*P3922/100,0) -> 0
A3923: 1925836 | B3923: 136 | C3923: Leenderbos, Groote Heide & De Plateaux | D3923: H3130 | E3923: Zwakgebufferde vennen | F3923: 500 | G3923: 801.06 | H3923: exceeding | I3923: 0.0037901 | J3923: 4967.2935 | K3923: =_xlfn.CONCAT(C3923,"_",D3923) -> Leenderbos, Groote Heide & De Plateaux_H3130 | L3923: =VLOOKUP(D3923,DATA!A:F,5,FALSE) -> 0 | M3923: =VLOOKUP(D3923,DATA!A:F,6,FALSE) -> 3.5 | N3923: =100/(1+EXP(-L3923*(G3923-M3923))) -> 50 | O3923: =100/(1+EXP(-L3923*((G3923+I3923)-M3923))) -> 50 | P3923: =J3923/10000*I3923 -> 0.0018826539 | Q3923: =IF(AND(H3923<>"below",I3923>=0.005),M3923*P3923,0) -> 0
A3924: 1925836 | B3924: 136 | C3924: Leenderbos, Groote Heide & De Plateaux | D3924: H4030 | E3924: Droge heiden | F3924: 714 | G3924: 801.06 | H3924: exceeding | I3924: 0.0037901 | J3924: 708.3111 | K3924: =_xlfn.CONCAT(C3924,"_",D3924) -> Leenderbos, Groote Heide & De Plateaux_H4030 | L3924: =VLOOKUP(D3924,DATA!A:F,5,FALSE) -> 0.010986713 | M3924: =VLOOKUP(D3924,DATA!A:F,6,FALSE) -> 982 | N3924: =100/(1+EXP(-L3924*(G3924-M3924))) -> 12.047542 | O3924: =100/(1+EXP(-L3924*((G3924+I3924)-M3924))) -> 12.047983 | P3924: =O3924-N3924 -> 0.00044123679 | Q3924: =IF(AND(H3924<>"below",I3924>=0.005),J3924*P3924/100,0) -> 0
A3925: 1925837 | B3925: 136 | C3925: Leenderbos, Groote Heide & De Plateaux | D3925: H3130 | E3925: Zwakgebufferde vennen | F3925: 500 | G3925: 766.69 | H3925: exceeding | I3925: 0.0034834 | J3925: 4925.4233 | K3925: =_xlfn.CONCAT(C3925,"_",D3925) -> Leenderbos, Groote Heide & De Plateaux_H3130 | L3925: =VLOOKUP(D3925,DATA!A:F,5,FALSE) -> 0 | M3925: =VLOOKUP(D3925,DATA!A:F,6,FALSE) -> 3.5 | N3925: =100/(1+EXP(-L3925*(G3925-M3925))) -> 50 | O3925: =100/(1+EXP(-L3925*((G3925+I3925)-M3925))) -> 50 | P3925: =J3925/10000*I3925 -> 0.001715722 | Q3925: =IF(AND(H3925<>"below",I3925>=0.005),M3925*P3925,0) -> 0
A3926: 1925837 | B3926: 136 | C3926: Leenderbos, Groote Heide & De Plateaux | D3926: H4030 | E3926: Droge heiden | F3926: 714 | G3926: 766.69 | H3926: exceeding | I3926: 0.0034834 | J3926: 761.1865 | K3926: =_xlfn.CONCAT(C3926,"_",D3926) -> Leenderbos, Groote Heide & De Plateaux_H4030 | L3926: =VLOOKUP(D3926,DATA!A:F,5,FALSE) -> 0.010986713 | M3926: =VLOOKUP(D3926,DATA!A:F,6,FALSE) -> 982 | N3926: =100/(1+EXP(-L3926*(G3926-M3926))) -> 8.5837757 | O3926: =100/(1+EXP(-L3926*((G3926+I3926)-M3926))) -> 8.5840761 | P3926: =O3926-N3926 -> 0.00030031681 | Q3926: =IF(AND(H3926<>"below",I3926>=0.005),J3926*P3926/100,0) -> 0
...

Sheet DATA
A1: ID | B1: KDW | C1: BG | D1: ABG | E1: B | F1: u | G1: MIN [m2] | H1: ONZEKERHEID | I1: TRUE
A2: H3160 | B2: 714 | C2: 1250 | D2: =C2+1150 -> 2400 | E2: =(LN(5/(100-5))-LN(95/(100-95)))/(B2-C2) -> 0.010986713 | F2: =B2-(LN(5/(100-5))/E2) -> 982 | G2: =IF(OR(A2=H6097,A2=7220),10,100) -> 100 | H2: 2 | I2: in beide | L2: Letterlijk zoals opgenomen in achtergrondnotitie SEM methodiek
A3: ZGH3160 | B3: 714 | C3: 1250 | D3: =C3+1150 -> 2400 | E3: =(LN(5/(100-5))-LN(95/(100-95)))/(B3-C3) -> 0.010986713 | F3: =B3-(LN(5/(100-5))/E3) -> 982 | G3: =IF(OR(A3=H6098,A3=7220),10,100) -> 100 | H3: 2 | I3: in beide | L3: Kent een aangepaste KDW, maar analoog aan achtergrondnotitie SEM methodiek
A4: H2130B | B4: 714 | C4: 1250 | D4: =C4+1150 -> 2400 | E4: =(LN(5/(100-5))-LN(95/(100-95)))/(B4-C4) -> 0.010986713 | F4: =B4-(LN(5/(100-5))/E4) -> 982 | I4: in beide | L4: Biomassa methode
A5: ZGH2130B | B5: 714 | C5: 1250 | D5: =C5+1150 -> 2400 | E5: =(LN(5/(100-5))-LN(95/(100-95)))/(B5-C5) -> 0.010986713 | F5: =B5-(LN(5/(100-5))/E5) -> 982 | I5: in beide | L5: Niet aanwezig, geen bijdrage en/of niet overspannen in huidige dataset
A6: H2330 | B6: 714 | C6: 1250 | D6: =C6+1150 -> 2400 | E6: =(LN(5/(100-5))-LN(95/(100-95)))/(B6-C6) -> 0.010986713 | F6: =B6-(LN(5/(100-5))/E6) -> 982 | G6: =IF(OR(A6=H6101,A6=7220),10,100) -> 100 | H6: 2 | I6: in beide
A7: ZGH2330 | B7: 714 | C7: 1250 | D7: =C7+1150 -> 2400 | E7: =(LN(5/(100-5))-LN(95/(100-95)))/(B7-C7) -> 0.010986713 | F7: =B7-(LN(5/(100-5))/E7) -> 982 | G7: =IF(OR(A7=H6102,A7=7220),10,100) -> 100 | H7: 2 | I7: in beide
A8: H4010B | B8: 786 | C8: 1250 | D8: =C8+1150 -> 2400 | E8: =(LN(5/(100-5))-LN(95/(100-95)))/(B8-C8) -> 0.012691547 | F8: =B8-(LN(5/(100-5))/E8) -> 1018 | I8: in beide
A9: ZGH4010B | B9: 786 | C9: 1250 | D9: =C9+1150 -> 2400 | E9: =(LN(5/(100-5))-LN(95/(100-95)))/(B9-C9) -> 0.012691547 | F9: =B9-(LN(5/(100-5))/E9) -> 1018 | I9: in beide
A10: H7110A | B10: 500 | C10: 1000 | D10: =C10+1150 -> 2150 | E10: =(LN(5/(100-5))-LN(95/(100-95)))/(B10-C10) -> 0.011777756 | F10: =B10-(LN(5/(100-5))/E10) -> 750 | I10: in beide
A11: ZGH7110A | B11: 500 | C11: 1000 | D11: =C11+1150 -> 2150 | E11: =(LN(5/(100-5))-LN(95/(100-95)))/(B11-C11) -> 0.011777756 | F11: =B11-(LN(5/(100-5))/E11) -> 750 | I11: in beide
A12: H7120ah | B12: 500 | C12: 1000 | D12: =C12+1150 -> 2150 | E12: =(LN(5/(100-5))-LN(95/(100-95)))/(B12-C12) -> 0.011777756 | F12: =B12-(LN(5/(100-5))/E12) -> 750 | I12: in beide
A13: ZGH7120ah | B13: 500 | C13: 1000 | D13: =C13+1150 -> 2150 | E13: =(LN(5/(100-5))-LN(95/(100-95)))/(B13-C13) -> 0.011777756 | F13: =B13-(LN(5/(100-5))/E13) -> 750 | I13: in beide
A14: H7110B | B14: 714 | C14: 1250 | D14: =C14+1150 -> 2400 | E14: =(LN(5/(100-5))-LN(95/(100-95)))/(B14-C14) -> 0.010986713 | F14: =B14-(LN(5/(100-5))/E14) -> 982 | G14: =IF(OR(A14=H6109,A14=7220),10,100) -> 100 | H14: 2 | I14: in beide
A15: ZGH7110B | B15: 714 | C15: 1250 | D15: =C15+1150 -> 2400 | E15: =(LN(5/(100-5))-LN(95/(100-95)))/(B15-C15) -> 0.010986713 | F15: =B15-(LN(5/(100-5))/E15) -> 982 | G15: =IF(OR(A15=H6110,A15=7220),10,100) -> 100 | H15: 2 | I15: in beide
A16: H7140B | B16: 714 | C16: 1250 | D16: =C16+1150 -> 2400 | E16: =(LN(5/(100-5))-LN(95/(100-95)))/(B16-C16) -> 0.010986713 | F16: =B16-(LN(5/(100-5))/E16) -> 982 | I16: in lijst
A17: ZGH7140B | B17: 714 | C17: 1250 | D17: =C17+1150 -> 2400 | E17: =(LN(5/(100-5))-LN(95/(100-95)))/(B17-C17) -> 0.010986713 | F17: =B17-(LN(5/(100-5))/E17) -> 982 | I17: in lijst
A18: H7120vh | B18: 1214 | C18: 1500 | D18: =C18+1150 -> 2650 | E18: =(LN(5/(100-5))-LN(95/(100-95)))/(B18-C18) -> 0.020590482 | F18: =B18-(LN(5/(100-5))/E18) -> 1357 | I18: in beide
A19: ZGH7120vh | B19: 1214 | C19: 1500 | D19: =C19+1150 -> 2650 | E19: =(LN(5/(100-5))-LN(95/(100-95)))/(B19-C19) -> 0.020590482 | F19: =B19-(LN(5/(100-5))/E19) -> 1357 | I19: in beide
A20: H2140A | B20: 1071 | C20: 1500 | D20: =C20+1150 -> 2650 | E20: =(LN(5/(100-5))-LN(95/(100-95)))/(B20-C20) -> 0.013726988 | F20: =B20-(LN(5/(100-5))/E20) -> 1285.5 | I20: in beide
A21: ZGH2140A | B21: 1071 | C21: 1500 | D21: =C21+1150 -> 2650 | E21: =(LN(5/(100-5))-LN(95/(100-95)))/(B21-C21) -> 0.013726988 | F21: =B21-(LN(5/(100-5))/E21) -> 1285.5 | I21: in beide
A22: H2140B | B22: 1071 | C22: 1500 | D22: =C22+1150 -> 2650 | E22: =(LN(5/(100-5))-LN(95/(100-95)))/(B22-C22) -> 0.013726988 | F22: =B22-(LN(5/(100-5))/E22) -> 1285.5 | I22: in beide
A23: ZGH2140B | B23: 1071 | C23: 1500 | D23: =C23+1150 -> 2650 | E23: =(LN(5/(100-5))-LN(95/(100-95)))/(B23-C23) -> 0.013726988 | F23: =B23-(LN(5/(100-5))/E23) -> 1285.5 | I23: in beide
A24: H2150 | B24: 1071 | C24: 1500 | D24: =C24+1150 -> 2650 | E24: =(LN(5/(100-5))-LN(95/(100-95)))/(B24-C24) -> 0.013726988 | F24: =B24-(LN(5/(100-5))/E24) -> 1285.5 | I24: in beide
A25: ZGH2150 | B25: 1071 | C25: 1500 | D25: =C25+1150 -> 2650 | E25: =(LN(5/(100-5))-LN(95/(100-95)))/(B25-C25) -> 0.013726988 | F25: =B25-(LN(5/(100-5))/E25) -> 1285.5 | I25: in beide
A26: H2190C | B26: 1071 | C26: 1500 | D26: =C26+1150 -> 2650 | E26: =(LN(5/(100-5))-LN(95/(100-95)))/(B26-C26) -> 0.013726988 | F26: =B26-(LN(5/(100-5))/E26) -> 1285.5 | I26: in beide
A27: ZGH2190C | B27: 1071 | C27: 1500 | D27: =C27+1150 -> 2650 | E27: =(LN(5/(100-5))-LN(95/(100-95)))/(B27-C27) -> 0.013726988 | F27: =B27-(LN(5/(100-5))/E27) -> 1285.5 | I27: in beide
... A31: ZGH2180Abe | B31: 1071 | C31: 1500 | D31: =C31+1150 -> 2650 | E31: =(LN(5/(100-5))-LN(95/(100-95)))/(B31-C31) -> 0.013726988 | F31: =B31-(LN(5/(100-5))/E31) -> 1285.5 | I31: in beide
A32: H2310 | B32: 714 | C32: 1250 | D32: =C32+1150 -> 2400 | E32: =(LN(5/(100-5))-LN(95/(100-95)))/(B32-C32) -> 0.010986713 | F32: =B32-(LN(5/(100-5))/E32) -> 982 | G32: =IF(OR(A32=H6127,A32=7220),10,100) -> 100 | H32: 2 | I32: in beide
A33: ZGH2310 | B33: 714 | C33: 1250 | D33: =C33+1150 -> 2400 | E33: =(LN(5/(100-5))-LN(95/(100-95)))/(B33-C33) -> 0.010986713 | F33: =B33-(LN(5/(100-5))/E33) -> 982 | G33: =IF(OR(A33=H6128,A33=7220),10,100) -> 100 | H33: 2 | I33: in beide
A34: H2320 | B34: 1071 | C34: 1500 | D34: =C34+1150 -> 2650 | E34: =(LN(5/(100-5))-LN(95/(100-95)))/(B34-C34) -> 0.013726988 | F34: =B34-(LN(5/(100-5))/E34) -> 1285.5 | I34: in beide
A35: ZGH2320 | B35: 1071 | C35: 1500 | D35: =C35+1150 -> 2650 | E35: =(LN(5/(100-5))-LN(95/(100-95)))/(B35-C35) -> 0.013726988 | F35: =B35-(LN(5/(100-5))/E35) -> 1285.5 | I35: in beide
A36: H4030 | B36: 714 | C36: 1250 | D36: =C36+1150 -> 2400 | E36: =(LN(5/(100-5))-LN(95/(100-95)))/(B36-C36) -> 0.010986713 | F36: =B36-(LN(5/(100-5))/E36) -> 982 | G36: =IF(OR(A36=H6131,A36=7220),10,100) -> 100 | H36: 2 | I36: in beide
A37: ZGH4030 | B37: 714 | C37: 1250 | D37: =C37+1150 -> 2400 | E37: =(LN(5/(100-5))-LN(95/(100-95)))/(B37-C37) -> 0.010986713 | F37: =B37-(LN(5/(100-5))/E37) -> 982 | G37: =IF(OR(A37=H6132,A37=7220),10,100) -> 100 | H37: 2 | I37: in beide
A38: H5130 | B38: 1071 | C38: 1500 | D38: =C38+1150 -> 2650 | E38: =(LN(5/(100-5))-LN(95/(100-95)))/(B38-C38) -> 0.013726988 | F38: =B38-(LN(5/(100-5))/E38) -> 1285.5 | I38: in beide
A39: ZGH5130 | B39: 1071 | C39: 1500 | D39: =C39+1150 -> 2650 | E39: =(LN(5/(100-5))-LN(95/(100-95)))/(B39-C39) -> 0.013726988 | F39: =B39-(LN(5/(100-5))/E39) -> 1285.5 | I39: in beide
A40: H6130 | B40: 1071 | C40: 1500 | D40: =C40+1150 -> 2650 | E40: =(LN(5/(100-5))-LN(95/(100-95)))/(B40-C40) -> 0.013726988 | F40: =B40-(LN(5/(100-5))/E40) -> 1285.5 | I40: in beide
A41: ZGH6130 | B41: 1071 | C41: 1500 | D41: =C41+1150 -> 2650 | E41: =(LN(5/(100-5))-LN(95/(100-95)))/(B41-C41) -> 0.013726988 | F41: =B41-(LN(5/(100-5))/E41) -> 1285.5 | I41: in beide
A42: H7140A | B42: 1214 | C42: 1500 | D42: =C42+1150 -> 2650 | E42: =(LN(5/(100-5))-LN(95/(100-95)))/(B42-C42) -> 0.020590482 | F42: =B42-(LN(5/(100-5))/E42) -> 1357 | G42: =IF(OR(A42=H6137,A42=7220),10,100) -> 100 | H42: 2 | I42: in lijst
A43: ZGH7140A | B43: 1214 | C43: 1500 | D43: =C43+1150 -> 2650 | E43: =(LN(5/(100-5))-LN(95/(100-95)))/(B43-C43) -> 0.020590482 | F43: =B43-(LN(5/(100-5))/E43) -> 1357 | G43: =IF(OR(A43=H6138,A43=7220),10,100) -> 100 | H43: 2 | I43: in lijst
A44: H6410 | B44: 786 | C44: 1250 | D44: =C44+1150 -> 2400 | E44: =(LN(5/(100-5))-LN(95/(100-95)))/(B44-C44) -> 0.012691547 | F44: =B44-(LN(5/(100-5))/E44) -> 1018 | G44: 100 | H44: 2 | I44: in grafiek
A45: ZGH6410 | B45: 786 | C45: 1250 | D45: =C45+1150 -> 2400 | E45: =(LN(5/(100-5))-LN(95/(100-95)))/(B45-C45) -> 0.012691547 | F45: =B45-(LN(5/(100-5))/E45) -> 1018 | G45: 100 | H45: 2 | I45: in grafiek
A46: H9190 | B46: 1071 | C46: 1500 | D46: =C46+1150 -> 2650 | E46: =(LN(5/(100-5))-LN(95/(100-95)))/(B46-C46) -> 0.013726988 | F46: =B46-(LN(5/(100-5))/E46) -> 1285.5 | G46: 1000 | H46: 2 | I46: in beide
A47: ZGH9190 | B47: 1071 | C47: 1500 | D47: =C47+1150 -> 2650 | E47: =(LN(5/(100-5))-LN(95/(100-95)))/(B47-C47) -> 0.013726988 | F47: =B47-(LN(5/(100-5))/E47) -> 1285.5 | G47: 1000 | H47: 2 | I47: in beide
A48: H7230 | B48: 1143 | C48: 1500 | D48: =C48+1150 -> 2650 | E48: =(LN(5/(100-5))-LN(95/(100-95)))/(B48-C48) -> 0.016495456 | F48: =B48-(LN(5/(100-5))/E48) -> 1321.5 | I48: in beide
A49: ZGH7230 | B49: 1143 | C49: 1500 | D49: =C49+1150 -> 2650 | E49: =(LN(5/(100-5))-LN(95/(100-95)))/(B49-C49) -> 0.016495456 | F49: =B49-(LN(5/(100-5))/E49) -> 1321.5 | I49: in beide
A50: H4010A | B50: 1071 | C50: 1500 | D50: =C50+1150 -> 2650 | E50: =(LN(5/(100-5))-LN(95/(100-95)))/(B50-C50) -> 0.013726988 | F50: =B50-(LN(5/(100-5))/E50) -> 1285.5 | G50: =IF(OR(A50=H6143,A50=7220),10,100) -> 100 | H50: 2 | I50: in beide
A51: ZGH4010A | B51: 1071 | C51: 1500 | D51: =C51+1150 -> 2650 | E51: =(LN(5/(100-5))-LN(95/(100-95)))/(B51-C51) -> 0.013726988 | F51: =B51-(LN(5/(100-5))/E51) -> 1285.5 | G51: =IF(OR(A51=H6144,A51=7220),10,100) -> 100 | H51: 2 | I51: in beide
A52: H6120 | B52: 1286 | C52: 1986 | D52: =C52+1150 -> 3136 | E52: =(LN(5/(100-5))-LN(95/(100-95)))/(B52-C52) -> 0.0084126828 | F52: =B52-(LN(5/(100-5))/E52) -> 1636 | I52: in beide
A53: ZGH6120 | B53: 1286 | C53: 1986 | D53: =C53+1150 -> 3136 | E53: =(LN(5/(100-5))-LN(95/(100-95)))/(B53-C53) -> 0.0084126828 | F53: =B53-(LN(5/(100-5))/E53) -> 1636 | I53: in beide
A54: H2110 | B54: 1429 | C54: 2199 | D54: =C54+1150 -> 3349 | E54: =(LN(5/(100-5))-LN(95/(100-95)))/(B54-C54) -> 0.0076478935 | F54: =B54-(LN(5/(100-5))/E54) -> 1814 | I54: in beide
A55: ZGH2110 | B55: 1429 | C55: 2199 | D55: =C55+1150 -> 3349 | E55: =(LN(5/(100-5))-LN(95/(100-95)))/(B55-C55) -> 0.0076478935 | F55: =B55-(LN(5/(100-5))/E55) -> 1814 | I55: in beide
A56: H2120 | B56: 1429 | C56: 1800 | D56: =C56+1150 -> 2950 | E56: =(LN(5/(100-5))-LN(95/(100-95)))/(B56-C56) -> 0.015872986 | F56: =B56-(LN(5/(100-5))/E56) -> 1614.5 | I56: in beide
A57: ZGH2120 | B57: 1429 | C57: 1800 | D57: =C57+1150 -> 2950 | E57: =(LN(5/(100-5))-LN(95/(100-95)))/(B57-C57) -> 0.015872986 | F57: =B57-(LN(5/(100-5))/E57) -> 1614.5 | I57: in beide
A58: H2180Ao | B58: 1429 | C58: 2199 | D58: =C58+1150 -> 3349 | E58: =(LN(5/(100-5))-LN(95/(100-95)))/(B58-C58) -> 0.0076478935 | F58: =B58-(LN(5/(100-5))/E58) -> 1814 | I58: in beide
A59: ZGH2180Ao | B59: 1429 | C59: 2199 | D59: =C59+1150 -> 3349 | E59: =(LN(5/(100-5))-LN(95/(100-95)))/(B59-C59) -> 0.0076478935 | F59: =B59-(LN(5/(100-5))/E59) -> 1814 | I59: in beide
A60: H2190B | B60: 1429 | C60: 2199 | D60: =C60+1150 -> 3349 | E60: =(LN(5/(100-5))-LN(95/(100-95)))/(B60-C60) -> 0.0076478935 | F60: =B60-(LN(5/(100-5))/E60) -> 1814 | I60: in beide
A61: ZGH2190B | B61: 1429 | C61: 2199 | D61: =C61+1150 -> 3349 | E61: =(LN(5/(100-5))-LN(95/(100-95)))/(B61-C61) -> 0.0076478935 | F61: =B61-(LN(5/(100-5))/E61) -> 1814 | I61: in beide
A62: H6110 | B62: 1429 | C62: 2199 | D62: =C62+1150 -> 3349 | E62: =(LN(5/(100-5))-LN(95/(100-95)))/(B62-C62) -> 0.0076478935 | F62: =B62-(LN(5/(100-5))/E62) -> 1814 | I62: in beide
A63: ZGH6110 | B63: 1429 | C63: 2199 | D63: =C63+1150 -> 3349 | E63: =(LN(5/(100-5))-LN(95/(100-95)))/(B63-C63) -> 0.0076478935 | F63: =B63-(LN(5/(100-5))/E63) -> 1814 | I63: in beide
A64: H6510A | B64: 1357 | C64: 2199 | D64: =C64+1150 -> 3349 | E64: =(LN(5/(100-5))-LN(95/(100-95)))/(B64-C64) -> 0.0069939168 | F64: =B64-(LN(5/(100-5))/E64) -> 1778 | G64: =IF(OR(A64=H6157,A64=7220),10,100) -> 100 | H64: 2 | I64: in beide
A65: ZGH6510A | B65: 1357 | C65: 2199 | D65: =C65+1150 -> 3349 | E65: =(LN(5/(100-5))-LN(95/(100-95)))/(B65-C65) -> 0.0069939168 | F65: =B65-(LN(5/(100-5))/E65) -> 1778 | G65: =IF(OR(A65=H6158,A65=7220),10,100) -> 100 | H65: 2 | I65: in beide
A66: H7150 | B66: 1071 | C66: 1500 | D66: =C66+1150 -> 2650 | E66: =(LN(5/(100-5))-LN(95/(100-95)))/(B66-C66) -> 0.013726988 | F66: =B66-(LN(5/(100-5))/E66) -> 1285.5 | G66: =IF(OR(A66=H6159,A66=7220),10,100) -> 100 | H66: 2 | I66: in beide
A67: ZGH7150 | B67: 1071 | C67: 1500 | D67: =C67+1150 -> 2650 | E67: =(LN(5/(100-5))-LN(95/(100-95)))/(B67-C67) -> 0.013726988 | F67: =B67-(LN(5/(100-5))/E67) -> 1285.5 | G67: =IF(OR(A67=H6160,A67=7220),10,100) -> 100 | H67: 2 | I67: in beide
A68: H9110 | B68: 1429 | C68: 2199 | D68: =C68+1150 -> 3349 | E68: =(LN(5/(100-5))-LN(95/(100-95)))/(B68-C68) -> 0.0076478935 | F68: =B68-(LN(5/(100-5))/E68) -> 1814 | I68: in beide
A69: ZGH9110 | B69: 1429 | C69: 2199 | D69: =C69+1150 -> 3349 | E69: =(LN(5/(100-5))-LN(95/(100-95)))/(B69-C69) -> 0.0076478935 | F69: =B69-(LN(5/(100-5))/E69) -> 1814 | I69: in beide
A70: H9120 | B70: 1071 | C70: 1500 | D70: =C70+1150 -> 2650 | E70: =(LN(5/(100-5))-LN(95/(100-95)))/(B70-C70) -> 0.013726988 | F70: =B70-(LN(5/(100-5))/E70) -> 1285.5 | G70: 1000 | H70: 2 | I70: in beide
A71: ZGH9120 | B71: 1071 | C71: 1500 | D71: =C71+1150 -> 2650 | E71: =(LN(5/(100-5))-LN(95/(100-95)))/(B71-C71) -> 0.013726988 | F71: =B71-(LN(5/(100-5))/E71) -> 1285.5 | G71: 1000 | H71: 2 | I71: in beide
A72: H9160A | B72: 1429 | C72: 2199 | D72: =C72+1150 -> 3349 | E72: =(LN(5/(100-5))-LN(95/(100-95)))/(B72-C72) -> 0.0076478935 | F72: =B72-(LN(5/(100-5))/E72) -> 1814 | G72: 1000 | H72: 2 | I72: in beide
A73: ZGH9160A | B73: 1429 | C73: 2199 | D73: =C73+1150 -> 3349 | E73: =(LN(5/(100-5))-LN(95/(100-95)))/(B73-C73) -> 0.0076478935 | F73: =B73-(LN(5/(100-5))/E73) -> 1814 | G73: 1000 | H73: 2 | I73: in beide
A74: H9160B | B74: 1429 | C74: 2199 | D74: =C74+1150 -> 3349 | E74: =(LN(5/(100-5))-LN(95/(100-95)))/(B74-C74) -> 0.0076478935 | F74: =B74-(LN(5/(100-5))/E74) -> 1814 | I74: in beide
A75: ZGH9160B | B75: 1429 | C75: 2199 | D75: =C75+1150 -> 3349 | E75: =(LN(5/(100-5))-LN(95/(100-95)))/(B75-C75) -> 0.0076478935 | F75: =B75-(LN(5/(100-5))/E75) -> 1814 | I75: in beide
A76: H1310B | B76: 1500 | C76: 2270 | D76: =C76+1150 -> 3420 | E76: =(LN(5/(100-5))-LN(95/(100-95)))/(B76-C76) -> 0.0076478935 | F76: =B76-(LN(5/(100-5))/E76) -> 1885 | I76: in beide
A77: ZGH1310B | B77: 1500 | C77: 2270 | D77: =C77+1150 -> 3420 | E77: =(LN(5/(100-5))-LN(95/(100-95)))/(B77-C77) -> 0.0076478935 | F77: =B77-(LN(5/(100-5))/E77) -> 1885 | I77: in beide
A78: H6210 | B78: 1500 | C78: 2270 | D78: =C78+1150 -> 3420 | E78: =(LN(5/(100-5))-LN(95/(100-95)))/(B78-C78) -> 0.0076478935 | F78: =B78-(LN(5/(100-5))/E78) -> 1885 | I78: in beide
A79: ZGH6210 | B79: 1500 | C79: 2270 | D79: =C79+1150 -> 3420 | E79: =(LN(5/(100-5))-LN(95/(100-95)))/(B79-C79) -> 0.0076478935 | F79: =B79-(LN(5/(100-5))/E79) -> 1885 | I79: in beide
A80: H1330A | B80: 1571 | C80: 2341 | D80: =C80+1150 -> 3491 | E80: =(LN(5/(100-5))-LN(95/(100-95)))/(B80-C80) -> 0.0076478935 | F80: =B80-(LN(5/(100-5))/E80) -> 1956 | I80: in beide
A81: ZGH1330A | B81: 1571 | C81: 2341 | D81: =C81+1150 -> 3491 | E81: =(LN(5/(100-5))-LN(95/(100-95)))/(B81-C81) -> 0.0076478935 | F81: =B81-(LN(5/(100-5))/E81) -> 1956 | I81: in beide
A82: H1330B | B82: 1571 | C82: 2341 | D82: =C82+1150 -> 3491 | E82: =(LN(5/(100-5))-LN(95/(100-95)))/(B82-C82) -> 0.0076478935 | F82: =B82-(LN(5/(100-5))/E82) -> 1956 | I82: in beide
A83: ZGH1330B | B83: 1571 | C83: 2341 | D83: =C83+1150 -> 3491 | E83: =(LN(5/(100-5))-LN(95/(100-95)))/(B83-C83) -> 0.0076478935 | F83: =B83-(LN(5/(100-5))/E83) -> 1956 | I83: in beide
A84: H6510B | B84: 1571 | C84: 2341 | D84: =C84+1150 -> 3491 | E84: =(LN(5/(100-5))-LN(95/(100-95)))/(B84-C84) -> 0.0076478935 | F84: =B84-(LN(5/(100-5))/E84) -> 1956 | I84: in beide
A85: ZGH6510B | B85: 1571 | C85: 2341 | D85: =C85+1150 -> 3491 | E85: =(LN(5/(100-5))-LN(95/(100-95)))/(B85-C85) -> 0.0076478935 | F85: =B85-(LN(5/(100-5))/E85) -> 1956 | I85: in beide
A86: H7210 | B86: 1429 | C86: 2199 | D86: =C86+1150 -> 3349 | E86: =(LN(5/(100-5))-LN(95/(100-95)))/(B86-C86) -> 0.0076478935 | F86: =B86-(LN(5/(100-5))/E86) -> 1814 | G86: =IF(OR(A86=H6179,A86=7220),10,100) -> 100 | H86: 2 | I86: in beide
A87: ZGH7210 | B87: 1429 | C87: 2199 | D87: =C87+1150 -> 3349 | E87: =(LN(5/(100-5))-LN(95/(100-95)))/(B87-C87) -> 0.0076478935 | F87: =B87-(LN(5/(100-5))/E87) -> 1814 | G87: =IF(OR(A87=H6180,A87=7220),10,100) -> 100 | H87: 2 | I87: in beide
A88: H1310A | B88: 1643 | C88: 2413 | D88: =C88+1150 -> 3563 | E88: =(LN(5/(100-5))-LN(95/(100-95)))/(B88-C88) -> 0.0076478935 | F88: =B88-(LN(5/(100-5))/E88) -> 2028 | I88: in beide
A89: ZGH1310A | B89: 1643 | C89: 2413 | D89: =C89+1150 -> 3563 | E89: =(LN(5/(100-5))-LN(95/(100-95)))/(B89-C89) -> 0.0076478935 | F89: =B89-(LN(5/(100-5))/E89) -> 2028 | I89: in beide
A90: H1320 | B90: 1643 | C90: 2413 | D90: =C90+1150 -> 3563 | E90: =(LN(5/(100-5))-LN(95/(100-95)))/(B90-C90) -> 0.0076478935 | F90: =B90-(LN(5/(100-5))/E90) -> 2028 | I90: in beide
A91: ZGH1320 | B91: 1643 | C91: 2413 | D91: =C91+1150 -> 3563 | E91: =(LN(5/(100-5))-LN(95/(100-95)))/(B91-C91) -> 0.0076478935 | F91: =B91-(LN(5/(100-5))/E91) -> 2028 | I91: in beide
A92: H2180C | B92: 1786 | C92: 2636 | D92: =C92+1150 -> 3786 | E92: =(LN(5/(100-5))-LN(95/(100-95)))/(B92-C92) -> 0.0069280917 | F92: =B92-(LN(5/(100-5))/E92) -> 2211 | I92: in beide
A93: ZGH2180C | B93: 1786 | C93: 2636 | D93: =C93+1150 -> 3786 | E93: =(LN(5/(100-5))-LN(95/(100-95)))/(B93-C93) -> 0.0069280917 | F93: =B93-(LN(5/(100-5))/E93) -> 2211 | I93: in beide
A94: H7120hb | B94: 1786 | C94: 2636 | D94: =C94+1150 -> 3786 | E94: =(LN(5/(100-5))-LN(95/(100-95)))/(B94-C94) -> 0.0069280917 | F94: =B94-(LN(5/(100-5))/E94) -> 2211 | I94: in beide
A95: ZGH7120hb | B95: 1786 | C95: 2636 | D95: =C95+1150 -> 3786 | E95: =(LN(5/(100-5))-LN(95/(100-95)))/(B95-C95) -> 0.0069280917 | F95: =B95-(LN(5/(100-5))/E95) -> 2211 | I95: in beide
A96: H91D0 | B96: 1786 | C96: 2636 | D96: =C96+1150 -> 3786 | E96: =(LN(5/(100-5))-LN(95/(100-95)))/(B96-C96) -> 0.0069280917 | F96: =B96-(LN(5/(100-5))/E96) -> 2211 | G96: 1000 | H96: 2 | I96: in beide
A97: ZGH91D0 | B97: 1786 | C97: 2636 | D97: =C97+1150 -> 3786 | E97: =(LN(5/(100-5))-LN(95/(100-95)))/(B97-C97) -> 0.0069280917 | F97: =B97-(LN(5/(100-5))/E97) -> 2211 | G97: 1000 | H97: 2 | I97: in beide
A98: H6430C | B98: 1857 | C98: 2707 | D98: =C98+1150 -> 3857 | E98: =(LN(5/(100-5))-LN(95/(100-95)))/(B98-C98) -> 0.0069280917 | F98: =B98-(LN(5/(100-5))/E98) -> 2282 | I98: in beide
A99: ZGH6430C | B99: 1857 | C99: 2707 | D99: =C99+1150 -> 3857 | E99: =(LN(5/(100-5))-LN(95/(100-95)))/(B99-C99) -> 0.0069280917 | F99: =B99-(LN(5/(100-5))/E99) -> 2282 | I99: in beide
A100: H91E0C | B100: 1857 | C100: 2707 | D100: =C100+1150 -> 3857 | E100: =(LN(5/(100-5))-LN(95/(100-95)))/(B100-C100) -> 0.0069280917 | F100: =B100-(LN(5/(100-5))/E100) -> 2282 | G100: 1000 | H100: 2 | I100: in beide
A101: ZGH91E0C | B101: 1857 | C101: 2707 | D101: =C101+1150 -> 3857 | E101: =(LN(5/(100-5))-LN(95/(100-95)))/(B101-C101) -> 0.0069280917 | F101: =B101-(LN(5/(100-5))/E101) -> 2282 | G101: 1000 | H101: 2 | I101: in beide
A102: H2160 | B102: 2000 | C102: 2850 | D102: =C102+1150 -> 4000 | E102: =(LN(5/(100-5))-LN(95/(100-95)))/(B102-C102) -> 0.0069280917 | F102: =B102-(LN(5/(100-5))/E102) -> 2425 | I102: in beide
A103: ZGH2160 | B103: 2000 | C103: 2850 | D103: =C103+1150 -> 4000 | E103: =(LN(5/(100-5))-LN(95/(100-95)))/(B103-C103) -> 0.0069280917 | F103: =B103-(LN(5/(100-5))/E103) -> 2425 | I103: in beide
...

Sheet OPGAVE
F1: TOTAAL | G1: =SUM(G3:G72) -> 350.94971 | I1: =SUM(I3:I72) -> 23208.322
A2: N2000_NAAM | B2: HABITAT_ID | C2: HABITAT_NAAM | D2: ID1 | E2: ID2 | F2: LANDSCHAP | G2: OPP [m2] | H2: MIN OPP [m2] | I2: AREAAL [m2] | J2: OVERCOMP
A3: Kampina & Oisterwijkse Vennen | B3: H2310 | C3: Stuifzandheiden met struikhei | D3: =_xlfn.CONCAT(A3,"_",B3) -> Kampina & Oisterwijkse Vennen_H2310 | E3: =_xlfn.CONCAT(A3,"_ZG",B3) -> Kampina & Oisterwijkse Vennen_ZGH2310 | F3: Hogere Zandgronden | G3: =SUMIF(Ndep_volledig!K:Q,D:D,Ndep_volledig!Q:Q)+SUMIF(Ndep_volledig!K:Q,E:E,Ndep_volledig!Q:Q) -> 2.2971535 | H3: =IF(G3=0,0,G3*2) -> 4.5943069 | I3: =IF(G3=0,0,IF(G3*2>VLOOKUP(B3,DATA!A:G,7,FALSE),G3*2,VLOOKUP(B3,DATA!A:G,7,FALSE))) -> 100 | J3: =(I3-G3)/G3 -> 42.532137 | M3: Compensatie bepaald obv biomassa methode
A4: Kampina & Oisterwijkse Vennen | B4: H2330 | C4: Zandverstuivingen | D4: =_xlfn.CONCAT(A4,"_",B4) -> Kampina & Oisterwijkse Vennen_H2330 | E4: =_xlfn.CONCAT(A4,"_ZG",B4) -> Kampina & Oisterwijkse Vennen_ZGH2330 | F4: Hogere Zandgronden | G4: =SUMIF(Ndep_volledig!K:Q,D:D,Ndep_volledig!Q:Q)+SUMIF(Ndep_volledig!K:Q,E:E,Ndep_volledig!Q:Q) -> 0.0015077375 | H4: =IF(G4=0,0,G4*2) -> 0.003015475 | I4: =IF(G4=0,0,IF(G4*2>VLOOKUP(B4,DATA!A:G,7,FALSE),G4*2,VLOOKUP(B4,DATA!A:G,7,FALSE))) -> 100 | J4: =(I4-G4)/G4 -> 66323.543
A5: Kampina & Oisterwijkse Vennen | B5: H3110 | C5: Zeer zwakgebufferde vennen | D5: =_xlfn.CONCAT(A5,"_",B5) -> Kampina & Oisterwijkse Vennen_H3110 | E5: =_xlfn.CONCAT(A5,"_ZG",B5) -> Kampina & Oisterwijkse Vennen_ZGH3110 | F5: Hogere Zandgronden | G5: =SUMIF(Ndep_volledig!K:Q,D:D,Ndep_volledig!Q:Q)+SUMIF(Ndep_volledig!K:Q,E:E,Ndep_volledig!Q:Q) -> 0.15665328 | H5: =IF(G5=0,0,G5*2) -> 0.31330657 | I5: =IF(G5=0,0,IF(G5*2>VLOOKUP(B5,DATA!A:G,7,FALSE),G5*2,VLOOKUP(B5,DATA!A:G,7,FALSE))) -> 100 | J5: =(I5-G5)/G5 -> 637.3524
A6: Kampina & Oisterwijkse Vennen | B6: H3130 | C6: Zwakgebufferde vennen | D6: =_xlfn.CONCAT(A6,"_",B6) -> Kampina & Oisterwijkse Vennen_H3130 | E6: =_xlfn.CONCAT(A6,"_ZG",B6) -> Kampina & Oisterwijkse Vennen_ZGH3130 | F6: Hogere Zandgronden | G6: =SUMIF(Ndep_volledig!K:Q,D:D,Ndep_volledig!Q:Q)+SUMIF(Ndep_volledig!K:Q,E:E,Ndep_volledig!Q:Q) -> 1.1194132 | H6: =IF(G6=0,0,G6*2) -> 2.2388263 | I6: =IF(G6=0,0,IF(G6*2>VLOOKUP(B6,DATA!A:G,7,FALSE),G6*2,VLOOKUP(B6,DATA!A:G,7,FALSE))) -> 100 | J6: =(I6-G6)/G6 -> 88.332522
A7: Kampina & Oisterwijkse Vennen | B7: H3160 | C7: Zure vennen | D7: =_xlfn.CONCAT(A7,"_",B7) -> Kampina & Oisterwijkse Vennen_H3160 | E7: =_xlfn.CONCAT(A7,"_ZG",B7) -> Kampina & Oisterwijkse Vennen_ZGH3160 | F7: Hogere Zandgronden | G7: =SUMIF(Ndep_volledig!K:Q,D:D,Ndep_volledig!Q:Q)+SUMIF(Ndep_volledig!K:Q,E:E,Ndep_volledig!Q:Q) -> 7.5277346 | H7: =IF(G7=0,0,G7*2) -> 15.055469 | I7: =IF(G7=0,0,IF(G7*2>VLOOKUP(B7,DATA!A:G,7,FALSE),G7*2,VLOOKUP(B7,DATA!A:G,7,FALSE))) -> 100 | J7: =(I7-G7)/G7 -> 12.284209
A8: Kampina & Oisterwijkse Vennen | B8: H4010A | C8: Vochtige heiden (hogere zandgronden) | D8: =_xlfn.CONCAT(A8,"_",B8) -> Kampina & Oisterwijkse Vennen_H4010A | E8: =_xlfn.CONCAT(A8,"_ZG",B8) -> Kampina & Oisterwijkse Vennen_ZGH4010A | F8: Hogere Zandgronden | G8: =SUMIF(Ndep_volledig!K:Q,D:D,Ndep_volledig!Q:Q)+SUMIF(Ndep_volledig!K:Q,E:E,Ndep_volledig!Q:Q) -> 15.243017 | H8: =IF(G8=0,0,G8*2) -> 30.486034 | I8: =IF(G8=0,0,IF(G8*2>VLOOKUP(B8,DATA!A:G,7,FALSE),G8*2,VLOOKUP(B8,DATA!A:G,7,FALSE))) -> 100 | J8: =(I8-G8)/G8 -> 5.5603811
A9: Kampina & Oisterwijkse Vennen | B9: H4030 | C9: Droge heiden | D9: =_xlfn.CONCAT(A9,"_",B9) -> Kampina & Oisterwijkse Vennen_H4030 | E9: =_xlfn.CONCAT(A9,"_ZG",B9) -> Kampina & Oisterwijkse Vennen_ZGH4030 | F9: Hogere Zandgronden | G9: =SUMIF(Ndep_volledig!K:Q,D:D,Ndep_volledig!Q:Q)+SUMIF(Ndep_volledig!K:Q,E:E,Ndep_volledig!Q:Q) -> 33.259587 | H9: =IF(G9=0,0,G9*2) -> 66.519173 | I9: =IF(G9=0,0,IF(G9*2>VLOOKUP(B9,DATA!A:G,7,FALSE),G9*2,VLOOKUP(B9,DATA!A:G,7,FALSE))) -> 100 | J9: =(I9-G9)/G9 -> 2.0066519
A10: Kampina & Oisterwijkse Vennen | B10: H6410 | C10: Blauwgraslanden | D10: =_xlfn.CONCAT(A10,"_",B10) -> Kampina & Oisterwijkse Vennen_H6410 | E10: =_xlfn.CONCAT(A10,"_ZG",B10) -> Kampina & Oisterwijkse Vennen_ZGH6410 | F10: Hogere Zandgronden | G10: =SUMIF(Ndep_volledig!K:Q,D:D,Ndep_volledig!Q:Q)+SUMIF(Ndep_volledig!K:Q,E:E,Ndep_volledig!Q:Q) -> 0.0020273108 | H10: =IF(G10=0,0,G10*2) -> 0.0040546216 | I10: =IF(G10=0,0,IF(G10*2>VLOOKUP(B10,DATA!A:G,7,FALSE),G10*2,VLOOKUP(B10,DATA!A:G,7,FALSE))) -> 100 | J10: =(I10-G10)/G10 -> 49325.428
A11: Kampina & Oisterwijkse Vennen | B11: H7110B | C11: Actieve hoogvenen (heideveentjes) | D11: =_xlfn.CONCAT(A11,"_",B11) -> Kampina & Oisterwijkse Vennen_H7110B | E11: =_xlfn.CONCAT(A11,"_ZG",B11) -> Kampina & Oisterwijkse Vennen_ZGH7110B | F11: Hogere Zandgronden | G11: =SUMIF(Ndep_volledig!K:Q,D:D,Ndep_volledig!Q:Q)+SUMIF(Ndep_volledig!K:Q,E:E,Ndep_volledig!Q:Q) -> 0.25020678 | H11: =IF(G11=0,0,G11*2) -> 0.50041356 | I11: =IF(G11=0,0,IF(G11*2>VLOOKUP(B11,DATA!A:G,7,FALSE),G11*2,VLOOKUP(B11,DATA!A:G,7,FALSE))) -> 100 | J11: =(I11-G11)/G11 -> 398.66943
A12: Kampina & Oisterwijkse Vennen | B12: H7150 | C12: Pioniervegetaties met snavelbiezen | D12: =_xlfn.CONCAT(A12,"_",B12) -> Kampina & Oisterwijkse Vennen_H7150 | E12: =_xlfn.CONCAT(A12,"_ZG",B12) -> Kampina & Oisterwijkse Vennen_ZGH7150 | F12: Hogere Zandgronden | G12: =SUMIF(Ndep_volledig!K:Q,D:D,Ndep_volledig!Q:Q)+SUMIF(Ndep_volledig!K:Q,E:E,Ndep_volledig!Q:Q) -> 2.3607095 | H12: =IF(G12=0,0,G12*2) -> 4.721419 | I12: =IF(G12=0,0,IF(G12*2>VLOOKUP(B12,DATA!A:G,7,FALSE),G12*2,VLOOKUP(B12,DATA!A:G,7,FALSE))) -> 100 | J12: =(I12-G12)/G12 -> 41.360146
A13: Kampina & Oisterwijkse Vennen | B13: H7210 | C13: Galigaanmoerassen | D13: =_xlfn.CONCAT(A13,"_",B13) -> Kampina & Oisterwijkse Vennen_H7210 | E13: =_xlfn.CONCAT(A13,"_ZG",B13) -> Kampina & Oisterwijkse Vennen_ZGH7210 | F13: Hogere Zandgronden | G13: =SUMIF(Ndep_volledig!K:Q,D:D,Ndep_volledig!Q:Q)+SUMIF(Ndep_volledig!K:Q,E:E,Ndep_volledig!Q:Q) -> 0 | H13: =IF(G13=0,0,G13*2) -> 0 | I13: =IF(G13=0,0,IF(G13*2>VLOOKUP(B13,DATA!A:G,7,FALSE),G13*2,VLOOKUP(B13,DATA!A:G,7,FALSE))) -> 0 | J13: 0
A14: Kampina & Oisterwijkse Vennen | B14: H9120 | C14: Beuken-eikenbossen met hulst | D14: =_xlfn.CONCAT(A14,"_",B14) -> Kampina & Oisterwijkse Vennen_H9120 | E14: =_xlfn.CONCAT(A14,"_ZG",B14) -> Kampina & Oisterwijkse Vennen_ZGH9120 | F14: Hogere Zandgronden | G14: =SUMIF(Ndep_volledig!K:Q,D:D,Ndep_volledig!Q:Q)+SUMIF(Ndep_volledig!K:Q,E:E,Ndep_volledig!Q:Q) -> 0.40402657 | H14: =IF(G14=0,0,G14*2) -> 0.80805314 | I14: =IF(G14=0,0,IF(G14*2>VLOOKUP(B14,DATA!A:G,7,FALSE),G14*2,VLOOKUP(B14,DATA!A:G,7,FALSE))) -> 1000 | J14: =(I14-G14)/G14 -> 2474.0847
A15: Kampina & Oisterwijkse Vennen | B15: H9190 | C15: Oude eikenbossen | D15: =_xlfn.CONCAT(A15,"_",B15) -> Kampina & Oisterwijkse Vennen_H9190 | E15: =_xlfn.CONCAT(A15,"_ZG",B15) -> Kampina & Oisterwijkse Vennen_ZGH9190 | F15: Hogere Zandgronden | G15: =SUMIF(Ndep_volledig!K:Q,D:D,Ndep_volledig!Q:Q)+SUMIF(Ndep_volledig!K:Q,E:E,Ndep_volledig!Q:Q) -> 3.3892429 | H15: =IF(G15=0,0,G15*2) -> 6.7784857 | I15: =IF(G15=0,0,IF(G15*2>VLOOKUP(B15,DATA!A:G,7,FALSE),G15*2,VLOOKUP(B15,DATA!A:G,7,FALSE))) -> 1000 | J15: =(I15-G15)/G15 -> 294.05115
A16: Kampina & Oisterwijkse Vennen | B16: H91D0 | C16: Hoogveenbossen | D16: =_xlfn.CONCAT(A16,"_",B16) -> Kampina & Oisterwijkse Vennen_H91D0 | E16: =_xlfn.CONCAT(A16,"_ZG",B16) -> Kampina & Oisterwijkse Vennen_ZGH91D0 | F16: Hogere Zandgronden | G16: =SUMIF(Ndep_volledig!K:Q,D:D,Ndep_volledig!Q:Q)+SUMIF(Ndep_volledig!K:Q,E:E,Ndep_volledig!Q:Q) -> 2.4979478 | H16: =IF(G16=0,0,G16*2) -> 4.9958955 | I16: =IF(G16=0,0,IF(G16*2>VLOOKUP(B16,DATA!A:G,7,FALSE),G16*2,VLOOKUP(B16,DATA!A:G,7,FALSE))) -> 1000 | J16: =(I16-G16)/G16 -> 399.32863
A17: Kampina & Oisterwijkse Vennen | B17: H91E0C | C17: Vochtige alluviale bossen (beekbegeleidende bossen | D17: =_xlfn.CONCAT(A17,"_",B17) -> Kampina & Oisterwijkse Vennen_H91E0C | E17: =_xlfn.CONCAT(A17,"_ZG",B17) -> Kampina & Oisterwijkse Vennen_ZGH91E0C | F17: Hogere Zandgronden | G17: =SUMIF(Ndep_volledig!K:Q,D:D,Ndep_volledig!Q:Q)+SUMIF(Ndep_volledig!K:Q,E:E,Ndep_volledig!Q:Q) -> 2.7548107 | H17: =IF(G17=0,0,G17*2) -> 5.5096214 | I17: =IF(G17=0,0,IF(G17*2>VLOOKUP(B17,DATA!A:G,7,FALSE),G17*2,VLOOKUP(B17,DATA!A:G,7,FALSE))) -> 1000 | J17: =(I17-G17)/G17 -> 362.00135
A18: Kampina & Oisterwijkse Vennen | B18: L4010A | C18: Vochtige heiden (hogere zandgronden) | D18: =_xlfn.CONCAT(A18,"_",B18) -> Kampina & Oisterwijkse Vennen_L4010A | E18: =_xlfn.CONCAT(A18,"_ZG",B18) -> Kampina & Oisterwijkse Vennen_ZGL4010A | F18: Hogere Zandgronden | G18: =SUMIF(Ndep_volledig!K:Q,D:D,Ndep_volledig!Q:Q)+SUMIF(Ndep_volledig!K:Q,E:E,Ndep_volledig!Q:Q) -> 0.096628343 | H18: =IF(G18=0,0,G18*2) -> 0.19325669 | I18: =IF(G18=0,0,IF(G18*2>VLOOKUP(B18,DATA!A:G,7,FALSE),G18*2,VLOOKUP(B18,DATA!A:G,7,FALSE))) -> 100 | J18: =(I18-G18)/G18 -> 1033.893
A19: Kampina & Oisterwijkse Vennen | B19: L4030 | C19: Droge heiden | D19: =_xlfn.CONCAT(A19,"_",B19) -> Kampina & Oisterwijkse Vennen_L4030 | E19: =_xlfn.CONCAT(A19,"_ZG",B19) -> Kampina & Oisterwijkse Vennen_ZGL4030 | F19: Hogere Zandgronden | G19: =SUMIF(Ndep_volledig!K:Q,D:D,Ndep_volledig!Q:Q)+SUMIF(Ndep_volledig!K:Q,E:E,Ndep_volledig!Q:Q) -> 16.237071 | H19: =IF(G19=0,0,G19*2) -> 32.474143 | I19: =IF(G19=0,0,IF(G19*2>VLOOKUP(B19,DATA!A:G,7,FALSE),G19*2,VLOOKUP(B19,DATA!A:G,7,FALSE))) -> 100 | J19: =(I19-G19)/G19 -> 5.1587461
A20: Kampina & Oisterwijkse Vennen | B20: Lg03 | C20: Zwakgebufferde sloot | D20: =_xlfn.CONCAT(A20,"_",B20) -> Kampina & Oisterwijkse Vennen_Lg03 | E20: =_xlfn.CONCAT(A20,"_ZG",B20) -> Kampina & Oisterwijkse Vennen_ZGLg03 | F20: Hogere Zandgronden | G20: =SUMIF(Ndep_volledig!K:Q,D:D,Ndep_volledig!Q:Q)+SUMIF(Ndep_volledig!K:Q,E:E,Ndep_volledig!Q:Q) -> 0.081764424 | H20: =IF(G20=0,0,G20*2) -> 0.16352885 | I20: =IF(G20=0,0,IF(G20*2>VLOOKUP(B20,DATA!A:G,7,FALSE),G20*2,VLOOKUP(B20,DATA!A:G,7,FALSE))) -> 100 | J20: =(I20-G20)/G20 -> 1222.0258
A21: Kampina & Oisterwijkse Vennen | B21: Lg04 | C21: Zuur ven | D21: =_xlfn.CONCAT(A21,"_",B21) -> Kampina & Oisterwijkse Vennen_Lg04 | E21: =_xlfn.CONCAT(A21,"_ZG",B21) -> Kampina & Oisterwijkse Vennen_ZGLg04 | F21: Hogere Zandgronden | G21: =SUMIF(Ndep_volledig!K:Q,D:D,Ndep_volledig!Q:Q)+SUMIF(Ndep_volledig!K:Q,E:E,Ndep_volledig!Q:Q) -> 0.92895911 | H21: =IF(G21=0,0,G21*2) -> 1.8579182 | I21: =IF(G21=0,0,IF(G21*2>VLOOKUP(B21,DATA!A:G,7,FALSE),G21*2,VLOOKUP(B21,DATA!A:G,7,FALSE))) -> 100 | J21: =(I21-G21)/G21 -> 106.64736
A22: Kampina & Oisterwijkse Vennen | B22: Lg09 | C22: Droog struisgrasland | D22: =_xlfn.CONCAT(A22,"_",B22) -> Kampina & Oisterwijkse Vennen_Lg09 | E22: =_xlfn.CONCAT(A22,"_ZG",B22) -> Kampina & Oisterwijkse Vennen_ZGLg09 | F22: Hogere Zandgronden | G22: =SUMIF(Ndep_volledig!K:Q,D:D,Ndep_volledig!Q:Q)+SUMIF(Ndep_volledig!K:Q,E:E,Ndep_volledig!Q:Q) -> 3.0542802 | H22: =IF(G22=0,0,G22*2) -> 6.1085604 | I22: =IF(G22=0,0,IF(G22*2>VLOOKUP(B22,DATA!A:G,7,FALSE),G22*2,VLOOKUP(B22,DATA!A:G,7,FALSE))) -> 100 | J22: =(I22-G22)/G22 -> 31.740938
A23: Kempenland-West | B23: H2310 | C23: Stuifzandheiden met struikhei | D23: =_xlfn.CONCAT(A23,"_",B23) -> Kempenland-West_H2310 | E23: =_xlfn.CONCAT(A23,"_ZG",B23) -> Kempenland-West_ZGH2310 | F23: Hogere Zandgronden | G23: =SUMIF(Ndep_volledig!K:Q,D:D,Ndep_volledig!Q:Q)+SUMIF(Ndep_volledig!K:Q,E:E,Ndep_volledig!Q:Q) -> 8.4477931 | H23: =IF(G23=0,0,G23*2) -> 16.895586 | I23: =IF(G23=0,0,IF(G23*2>VLOOKUP(B23,DATA!A:G,7,FALSE),G23*2,VLOOKUP(B23,DATA!A:G,7,FALSE))) -> 100 | J23: =(I23-G23)/G23 -> 10.837411
A24: Kempenland-West | B24: H3130 | C24: Zwakgebufferde vennen | D24: =_xlfn.CONCAT(A24,"_",B24) -> Kempenland-West_H3130 | E24: =_xlfn.CONCAT(A24,"_ZG",B24) -> Kempenland-West_ZGH3130 | F24: Hogere Zandgronden | G24: =SUMIF(Ndep_volledig!K:Q,D:D,Ndep_volledig!Q:Q)+SUMIF(Ndep_volledig!K:Q,E:E,Ndep_volledig!Q:Q) -> 3.1895612 | H24: =IF(G24=0,0,G24*2) -> 6.3791224 | I24: =IF(G24=0,0,IF(G24*2>VLOOKUP(B24,DATA!A:G,7,FALSE),G24*2,VLOOKUP(B24,DATA!A:G,7,FALSE))) -> 100 | J24: =(I24-G24)/G24 -> 30.352275
A25: Kempenland-West | B25: H3160 | C25: Zure vennen | D25: =_xlfn.CONCAT(A25,"_",B25) -> Kempenland-West_H3160 | E25: =_xlfn.CONCAT(A25,"_ZG",B25) -> Kempenland-West_ZGH3160 | F25: Hogere Zandgronden | G25: =SUMIF(Ndep_volledig!K:Q,D:D,Ndep_volledig!Q:Q)+SUMIF(Ndep_volledig!K:Q,E:E,Ndep_volledig!Q:Q) -> 1.3041421 | H25: =IF(G25=0,0,G25*2) -> 2.6082842 | I25: =IF(G25=0,0,IF(G25*2>VLOOKUP(B25,DATA!A:G,7,FALSE),G25*2,VLOOKUP(B25,DATA!A:G,7,FALSE))) -> 100 | J25: =(I25-G25)/G25 -> 75.678761
... A72: Vlijmens Ven, Moerputten & Bossche Broek | B72: H6510A | C72: Glanshaver- en vossenstaarthooilanden (glanshaver) | D72: =_xlfn.CONCAT(A72,"_",B72) -> Vlijmens Ven, Moerputten & Bossche Broek_H6510A | E72: =_xlfn.CONCAT(A72,"_ZG",B72) -> Vlijmens Ven, Moerputten & Bossche Broek_ZGH6510A | F72: Beekdalen | G72: =SUMIF(Ndep_volledig!K:Q,D:D,Ndep_volledig!Q:Q)+SUMIF(Ndep_volledig!K:Q,E:E,Ndep_volledig!Q:Q) -> 0.029528032 | H72: =IF(G72=0,0,G72*2) -> 0.059056063 | I72: =IF(G72=0,0,IF(G72*2>VLOOKUP(B72,DATA!A:G,7,FALSE),G72*2,VLOOKUP(B72,DATA!A:G,7,FALSE))) -> 100 | J72: =(I72-G72)/G72 -> 3385.6125
