Workbook

Sheet Projecten
A1: Project | B1: Straatnaam | C1: Huisnummer | D1: CBS buurt | E1: Bolwerk spreeuw | F1: Bolwerk mus | G1: Bolwerk zwaluw | H1: Vleermuis | I1: Periode natuurvrij | J1: Periode werkzaamheden | K1: Type woning | L1: VvE | M1: 1/3 check | N1: Soort isolatie | O1: Fauna voorziening | P1: Aantal | Q1: Besluit | R1: Foto's natuurvrij maken | S1: Foto's fauna voorziening | T1: Beschrijving werkzaamheden | U1: Contactgegevens gemachtigde | V1: Contactgegevens natuurvrij | W1: Contactgegevens isolateur | Y1: C | Z1: H | AA1: I
A2: 10 | B2: mauritslaan | C2: 23 | D2: =IFERROR(IF(B2="","",VLOOKUP($B2&" "&$C2,Brondata!$A$2:$R$16612,5,0)),"niet gevonden, check spelling") -> Oranjewijk Zuid | E2: =IFERROR(IF($B2="","",VLOOKUP($B2&" "&$C2,Brondata!$A$2:$R$16612,12,0)),"niet gevonden, check spelling") -> Nee | F2: =IFERROR(IF($B2="","",VLOOKUP($B2&" "&$C2,Brondata!$A$2:$R$16612,13,0)),"niet gevonden, check spelling") -> Nee | G2: =IFERROR(IF($B2="","",VLOOKUP($B2&" "&$C2,Brondata!$A$2:$R$16612,14,0)),"niet gevonden, check spelling") -> Bolwerk 2 | H2: =IFERROR(IF($B2="","",VLOOKUP($B2&" "&$C2,Brondata!$A$2:$R$16612,11,0)),"niet gevonden, check spelling") -> Nee | I2: Q3 2025 | J2: Q3 2025 | K2: =IFERROR(IF($B2="","",VLOOKUP($B2&" "&$C2,Brondata!$A$2:$R$16612,7,0)),"niet gevonden, check spelling") -> rijwoning | L2: x | M2: akkoord | N2: spouw | O2: Spouwverblijf 30x30 per langsgevel 1x | P2: 2 | Q2: 45901 | Y2: West 2 | AA2: Ruimte onder dakpannen bereikbaar
D3: =IFERROR(IF(B3="","",VLOOKUP($B3&" "&$C3,Brondata!$A$2:$R$16612,5,0)),"niet gevonden, check spelling") | E3: =IFERROR(IF($B3="","",VLOOKUP($B3&" "&$C3,Brondata!$A$2:$R$16612,12,0)),"niet gevonden, check spelling") | F3: =IFERROR(IF($B3="","",VLOOKUP($B3&" "&$C3,Brondata!$A$2:$R$16612,13,0)),"niet gevonden, check spelling") | G3: =IFERROR(IF($B3="","",VLOOKUP($B3&" "&$C3,Brondata!$A$2:$R$16612,14,0)),"niet gevonden, check spelling") | H3: =IFERROR(IF($B3="","",VLOOKUP($B3&" "&$C3,Brondata!$A$2:$R$16612,11,0)),"niet gevonden, check spelling") | K3: =IFERROR(IF($B3="","",VLOOKUP($B3&" "&$C3,Brondata!$A$2:$R$16612,7,0)),"niet gevonden, check spelling") | L3: =IFERROR(IF($B3="","",VLOOKUP($B3&" "&$C3,Brondata!$A$2:$R$16612,10,0)),"niet gevonden, check spelling") | Y3: Oostpolderwijk
D4: =IFERROR(IF(B4="","",VLOOKUP($B4&" "&$C4,Brondata!$A$2:$R$16612,5,0)),"niet gevonden, check spelling") | E4: =IFERROR(IF($B4="","",VLOOKUP($B4&" "&$C4,Brondata!$A$2:$R$16612,12,0)),"niet gevonden, check spelling") | F4: =IFERROR(IF($B4="","",VLOOKUP($B4&" "&$C4,Brondata!$A$2:$R$16612,13,0)),"niet gevonden, check spelling") | G4: =IFERROR(IF($B4="","",VLOOKUP($B4&" "&$C4,Brondata!$A$2:$R$16612,14,0)),"niet gevonden, check spelling") | K4: =IFERROR(IF($B4="","",VLOOKUP($B4&" "&$C4,Brondata!$A$2:$R$16612,7,0)),"niet gevonden, check spelling") | L4: =IFERROR(IF($B4="","",VLOOKUP($B4&" "&$C4,Brondata!$A$2:$R$16612,10,0)),"niet gevonden, check spelling") | Y4: Zuid
D5: =IFERROR(IF(B5="","",VLOOKUP($B5&" "&$C5,Brondata!$A$2:$R$16612,5,0)),"niet gevonden, check spelling") | E5: =IFERROR(IF($B5="","",VLOOKUP($B5&" "&$C5,Brondata!$A$2:$R$16612,12,0)),"niet gevonden, check spelling") | F5: =IFERROR(IF($B5="","",VLOOKUP($B5&" "&$C5,Brondata!$A$2:$R$16612,13,0)),"niet gevonden, check spelling") | G5: =IFERROR(IF($B5="","",VLOOKUP($B5&" "&$C5,Brondata!$A$2:$R$16612,14,0)),"niet gevonden, check spelling") | H5: =IFERROR(IF($B5="","",VLOOKUP($B5&" "&$C5,Brondata!$A$2:$R$16612,11,0)),"niet gevonden, check spelling") | K5: =IFERROR(IF($B5="","",VLOOKUP($B5&" "&$C5,Brondata!$A$2:$R$16612,7,0)),"niet gevonden, check spelling") | L5: =IFERROR(IF($B5="","",VLOOKUP($B5&" "&$C5,Brondata!$A$2:$R$16612,10,0)),"niet gevonden, check spelling") | Y5: Oost
D6: =IFERROR(IF(B6="","",VLOOKUP($B6&" "&$C6,Brondata!$A$2:$R$16612,5,0)),"niet gevonden, check spelling") | E6: =IFERROR(IF($B6="","",VLOOKUP($B6&" "&$C6,Brondata!$A$2:$R$16612,12,0)),"niet gevonden, check spelling") | F6: =IFERROR(IF($B6="","",VLOOKUP($B6&" "&$C6,Brondata!$A$2:$R$16612,13,0)),"niet gevonden, check spelling") | G6: =IFERROR(IF($B6="","",VLOOKUP($B6&" "&$C6,Brondata!$A$2:$R$16612,14,0)),"niet gevonden, check spelling") | H6: =IFERROR(IF($B6="","",VLOOKUP($B6&" "&$C6,Brondata!$A$2:$R$16612,11,0)),"niet gevonden, check spelling") | K6: =IFERROR(IF($B6="","",VLOOKUP($B6&" "&$C6,Brondata!$A$2:$R$16612,7,0)),"niet gevonden, check spelling") | L6: =IFERROR(IF($B6="","",VLOOKUP($B6&" "&$C6,Brondata!$A$2:$R$16612,10,0)),"niet gevonden, check spelling") | Y6: Zeeheldenbuurt
D7: =IFERROR(IF(B7="","",VLOOKUP($B7&" "&$C7,Brondata!$A$2:$R$16612,5,0)),"niet gevonden, check spelling") | E7: =IFERROR(IF($B7="","",VLOOKUP($B7&" "&$C7,Brondata!$A$2:$R$16612,12,0)),"niet gevonden, check spelling") | F7: =IFERROR(IF($B7="","",VLOOKUP($B7&" "&$C7,Brondata!$A$2:$R$16612,13,0)),"niet gevonden, check spelling") | G7: =IFERROR(IF($B7="","",VLOOKUP($B7&" "&$C7,Brondata!$A$2:$R$16612,14,0)),"niet gevonden, check spelling") | H7: =IFERROR(IF($B7="","",VLOOKUP($B7&" "&$C7,Brondata!$A$2:$R$16612,11,0)),"niet gevonden, check spelling") | K7: =IFERROR(IF($B7="","",VLOOKUP($B7&" "&$C7,Brondata!$A$2:$R$16612,7,0)),"niet gevonden, check spelling") | L7: =IFERROR(IF($B7="","",VLOOKUP($B7&" "&$C7,Brondata!$A$2:$R$16612,10,0)),"niet gevonden, check spelling")
D8: =IFERROR(IF(B8="","",VLOOKUP($B8&" "&$C8,Brondata!$A$2:$R$16612,5,0)),"niet gevonden, check spelling") | E8: =IFERROR(IF($B8="","",VLOOKUP($B8&" "&$C8,Brondata!$A$2:$R$16612,12,0)),"niet gevonden, check spelling") | F8: =IFERROR(IF($B8="","",VLOOKUP($B8&" "&$C8,Brondata!$A$2:$R$16612,13,0)),"niet gevonden, check spelling") | G8: =IFERROR(IF($B8="","",VLOOKUP($B8&" "&$C8,Brondata!$A$2:$R$16612,14,0)),"niet gevonden, check spelling") | H8: =IFERROR(IF($B8="","",VLOOKUP($B8&" "&$C8,Brondata!$A$2:$R$16612,11,0)),"niet gevonden, check spelling") | K8: =IFERROR(IF($B8="","",VLOOKUP($B8&" "&$C8,Brondata!$A$2:$R$16612,7,0)),"niet gevonden, check spelling") | L8: =IFERROR(IF($B8="","",VLOOKUP($B8&" "&$C8,Brondata!$A$2:$R$16612,10,0)),"niet gevonden, check spelling")
D9: =IFERROR(IF(B9="","",VLOOKUP($B9&" "&$C9,Brondata!$A$2:$R$16612,5,0)),"niet gevonden, check spelling") | E9: =IFERROR(IF($B9="","",VLOOKUP($B9&" "&$C9,Brondata!$A$2:$R$16612,12,0)),"niet gevonden, check spelling") | F9: =IFERROR(IF($B9="","",VLOOKUP($B9&" "&$C9,Brondata!$A$2:$R$16612,13,0)),"niet gevonden, check spelling") | G9: =IFERROR(IF($B9="","",VLOOKUP($B9&" "&$C9,Brondata!$A$2:$R$16612,14,0)),"niet gevonden, check spelling") | H9: =IFERROR(IF($B9="","",VLOOKUP($B9&" "&$C9,Brondata!$A$2:$R$16612,11,0)),"niet gevonden, check spelling") | K9: =IFERROR(IF($B9="","",VLOOKUP($B9&" "&$C9,Brondata!$A$2:$R$16612,7,0)),"niet gevonden, check spelling") | L9: =IFERROR(IF($B9="","",VLOOKUP($B9&" "&$C9,Brondata!$A$2:$R$16612,10,0)),"niet gevonden, check spelling")
D10: =IFERROR(IF(B10="","",VLOOKUP($B10&" "&$C10,Brondata!$A$2:$R$16612,5,0)),"niet gevonden, check spelling") | E10: =IFERROR(IF($B10="","",VLOOKUP($B10&" "&$C10,Brondata!$A$2:$R$16612,12,0)),"niet gevonden, check spelling") | F10: =IFERROR(IF($B10="","",VLOOKUP($B10&" "&$C10,Brondata!$A$2:$R$16612,13,0)),"niet gevonden, check spelling") | G10: =IFERROR(IF($B10="","",VLOOKUP($B10&" "&$C10,Brondata!$A$2:$R$16612,14,0)),"niet gevonden, check spelling") | H10: =IFERROR(IF($B10="","",VLOOKUP($B10&" "&$C10,Brondata!$A$2:$R$16612,11,0)),"niet gevonden, check spelling") | K10: =IFERROR(IF($B10="","",VLOOKUP($B10&" "&$C10,Brondata!$A$2:$R$16612,7,0)),"niet gevonden, check spelling") | L10: =IFERROR(IF($B10="","",VLOOKUP($B10&" "&$C10,Brondata!$A$2:$R$16612,10,0)),"niet gevonden, check spelling")
D11: =IFERROR(IF(B11="","",VLOOKUP($B11&" "&$C11,Brondata!$A$2:$R$16612,5,0)),"niet gevonden, check spelling") | E11: =IFERROR(IF($B11="","",VLOOKUP($B11&" "&$C11,Brondata!$A$2:$R$16612,12,0)),"niet gevonden, check spelling") | F11: =IFERROR(IF($B11="","",VLOOKUP($B11&" "&$C11,Brondata!$A$2:$R$16612,13,0)),"niet gevonden, check spelling") | G11: =IFERROR(IF($B11="","",VLOOKUP($B11&" "&$C11,Brondata!$A$2:$R$16612,14,0)),"niet gevonden, check spelling") | H11: =IFERROR(IF($B11="","",VLOOKUP($B11&" "&$C11,Brondata!$A$2:$R$16612,11,0)),"niet gevonden, check spelling") | K11: =IFERROR(IF($B11="","",VLOOKUP($B11&" "&$C11,Brondata!$A$2:$R$16612,7,0)),"niet gevonden, check spelling") | L11: =IFERROR(IF($B11="","",VLOOKUP($B11&" "&$C11,Brondata!$A$2:$R$16612,10,0)),"niet gevonden, check spelling")
D12: =IFERROR(IF(B12="","",VLOOKUP($B12&" "&$C12,Brondata!$A$2:$R$16612,5,0)),"niet gevonden, check spelling") | E12: =IFERROR(IF($B12="","",VLOOKUP($B12&" "&$C12,Brondata!$A$2:$R$16612,12,0)),"niet gevonden, check spelling") | F12: =IFERROR(IF($B12="","",VLOOKUP($B12&" "&$C12,Brondata!$A$2:$R$16612,13,0)),"niet gevonden, check spelling") | G12: =IFERROR(IF($B12="","",VLOOKUP($B12&" "&$C12,Brondata!$A$2:$R$16612,14,0)),"niet gevonden, check spelling") | H12: =IFERROR(IF($B12="","",VLOOKUP($B12&" "&$C12,Brondata!$A$2:$R$16612,11,0)),"niet gevonden, check spelling") | K12: =IFERROR(IF($B12="","",VLOOKUP($B12&" "&$C12,Brondata!$A$2:$R$16612,7,0)),"niet gevonden, check spelling") | L12: =IFERROR(IF($B12="","",VLOOKUP($B12&" "&$C12,Brondata!$A$2:$R$16612,10,0)),"niet gevonden, check spelling")
D13: =IFERROR(IF(B13="","",VLOOKUP($B13&" "&$C13,Brondata!$A$2:$R$16612,5,0)),"niet gevonden, check spelling") | E13: =IFERROR(IF($B13="","",VLOOKUP($B13&" "&$C13,Brondata!$A$2:$R$16612,12,0)),"niet gevonden, check spelling") | F13: =IFERROR(IF($B13="","",VLOOKUP($B13&" "&$C13,Brondata!$A$2:$R$16612,13,0)),"niet gevonden, check spelling") | G13: =IFERROR(IF($B13="","",VLOOKUP($B13&" "&$C13,Brondata!$A$2:$R$16612,14,0)),"niet gevonden, check spelling") | H13: =IFERROR(IF($B13="","",VLOOKUP($B13&" "&$C13,Brondata!$A$2:$R$16612,11,0)),"niet gevonden, check spelling") | K13: =IFERROR(IF($B13="","",VLOOKUP($B13&" "&$C13,Brondata!$A$2:$R$16612,7,0)),"niet gevonden, check spelling") | L13: =IFERROR(IF($B13="","",VLOOKUP($B13&" "&$C13,Brondata!$A$2:$R$16612,10,0)),"niet gevonden, check spelling")
D14: =IFERROR(IF(B14="","",VLOOKUP($B14&" "&$C14,Brondata!$A$2:$R$16612,5,0)),"niet gevonden, check spelling") | E14: =IFERROR(IF($B14="","",VLOOKUP($B14&" "&$C14,Brondata!$A$2:$R$16612,12,0)),"niet gevonden, check spelling") | F14: =IFERROR(IF($B14="","",VLOOKUP($B14&" "&$C14,Brondata!$A$2:$R$16612,13,0)),"niet gevonden, check spelling") | G14: =IFERROR(IF($B14="","",VLOOKUP($B14&" "&$C14,Brondata!$A$2:$R$16612,14,0)),"niet gevonden, check spelling") | H14: =IFERROR(IF($B14="","",VLOOKUP($B14&" "&$C14,Brondata!$A$2:$R$16612,11,0)),"niet gevonden, check spelling") | K14: =IFERROR(IF($B14="","",VLOOKUP($B14&" "&$C14,Brondata!$A$2:$R$16612,7,0)),"niet gevonden, check spelling") | L14: =IFERROR(IF($B14="","",VLOOKUP($B14&" "&$C14,Brondata!$A$2:$R$16612,10,0)),"niet gevonden, check spelling")
D15: =IFERROR(IF(B15="","",VLOOKUP($B15&" "&$C15,Brondata!$A$2:$R$16612,5,0)),"niet gevonden, check spelling") | E15: =IFERROR(IF($B15="","",VLOOKUP($B15&" "&$C15,Brondata!$A$2:$R$16612,12,0)),"niet gevonden, check spelling") | F15: =IFERROR(IF($B15="","",VLOOKUP($B15&" "&$C15,Brondata!$A$2:$R$16612,13,0)),"niet gevonden, check spelling") | G15: =IFERROR(IF($B15="","",VLOOKUP($B15&" "&$C15,Brondata!$A$2:$R$16612,14,0)),"niet gevonden, check spelling") | H15: =IFERROR(IF($B15="","",VLOOKUP($B15&" "&$C15,Brondata!$A$2:$R$16612,11,0)),"niet gevonden, check spelling") | K15: =IFERROR(IF($B15="","",VLOOKUP($B15&" "&$C15,Brondata!$A$2:$R$16612,7,0)),"niet gevonden, check spelling") | L15: =IFERROR(IF($B15="","",VLOOKUP($B15&" "&$C15,Brondata!$A$2:$R$16612,10,0)),"niet gevonden, check spelling")
D16: =IFERROR(IF(B16="","",VLOOKUP($B16&" "&$C16,Brondata!$A$2:$R$16612,5,0)),"niet gevonden, check spelling") | E16: =IFERROR(IF($B16="","",VLOOKUP($B16&" "&$C16,Brondata!$A$2:$R$16612,12,0)),"niet gevonden, check spelling") | F16: =IFERROR(IF($B16="","",VLOOKUP($B16&" "&$C16,Brondata!$A$2:$R$16612,13,0)),"niet gevonden, check spelling") | G16: =IFERROR(IF($B16="","",VLOOKUP($B16&" "&$C16,Brondata!$A$2:$R$16612,14,0)),"niet gevonden, check spelling") | H16: =IFERROR(IF($B16="","",VLOOKUP($B16&" "&$C16,Brondata!$A$2:$R$16612,11,0)),"niet gevonden, check spelling") | K16: =IFERROR(IF($B16="","",VLOOKUP($B16&" "&$C16,Brondata!$A$2:$R$16612,7,0)),"niet gevonden, check spelling") | L16: =IFERROR(IF($B16="","",VLOOKUP($B16&" "&$C16,Brondata!$A$2:$R$16612,10,0)),"niet gevonden, check spelling")
D17: =IFERROR(IF(B17="","",VLOOKUP($B17&" "&$C17,Brondata!$A$2:$R$16612,5,0)),"niet gevonden, check spelling") | E17: =IFERROR(IF($B17="","",VLOOKUP($B17&" "&$C17,Brondata!$A$2:$R$16612,12,0)),"niet gevonden, check spelling") | F17: =IFERROR(IF($B17="","",VLOOKUP($B17&" "&$C17,Brondata!$A$2:$R$16612,13,0)),"niet gevonden, check spelling") | G17: =IFERROR(IF($B17="","",VLOOKUP($B17&" "&$C17,Brondata!$A$2:$R$16612,14,0)),"niet gevonden, check spelling") | H17: =IFERROR(IF($B17="","",VLOOKUP($B17&" "&$C17,Brondata!$A$2:$R$16612,11,0)),"niet gevonden, check spelling") | K17: =IFERROR(IF($B17="","",VLOOKUP($B17&" "&$C17,Brondata!$A$2:$R$16612,7,0)),"niet gevonden, check spelling") | L17: =IFERROR(IF($B17="","",VLOOKUP($B17&" "&$C17,Brondata!$A$2:$R$16612,10,0)),"niet gevonden, check spelling")
D18: =IFERROR(IF(B18="","",VLOOKUP($B18&" "&$C18,Brondata!$A$2:$R$16612,5,0)),"niet gevonden, check spelling") | E18: =IFERROR(IF($B18="","",VLOOKUP($B18&" "&$C18,Brondata!$A$2:$R$16612,12,0)),"niet gevonden, check spelling") | F18: =IFERROR(IF($B18="","",VLOOKUP($B18&" "&$C18,Brondata!$A$2:$R$16612,13,0)),"niet gevonden, check spelling") | G18: =IFERROR(IF($B18="","",VLOOKUP($B18&" "&$C18,Brondata!$A$2:$R$16612,14,0)),"niet gevonden, check spelling") | H18: =IFERROR(IF($B18="","",VLOOKUP($B18&" "&$C18,Brondata!$A$2:$R$16612,11,0)),"niet gevonden, check spelling") | K18: =IFERROR(IF($B18="","",VLOOKUP($B18&" "&$C18,Brondata!$A$2:$R$16612,7,0)),"niet gevonden, check spelling") | L18: =IFERROR(IF($B18="","",VLOOKUP($B18&" "&$C18,Brondata!$A$2:$R$16612,10,0)),"niet gevonden, check spelling")
... D102: =IFERROR(IF(B102="","",VLOOKUP($B102&" "&$C102,Brondata!$A$2:$R$16612,5,0)),"niet gevonden, check spelling") | E102: =IFERROR(IF($B102="","",VLOOKUP($B102&" "&$C102,Brondata!$A$2:$R$16612,12,0)),"niet gevonden, check spelling") | F102: =IFERROR(IF($B102="","",VLOOKUP($B102&" "&$C102,Brondata!$A$2:$R$16612,13,0)),"niet gevonden, check spelling") | G102: =IFERROR(IF($B102="","",VLOOKUP($B102&" "&$C102,Brondata!$A$2:$R$16612,14,0)),"niet gevonden, check spelling") | H102: =IFERROR(IF($B102="","",VLOOKUP($B102&" "&$C102,Brondata!$A$2:$R$16612,11,0)),"niet gevonden, check spelling") | K102: =IFERROR(IF($B102="","",VLOOKUP($B102&" "&$C102,Brondata!$A$2:$R$16612,7,0)),"niet gevonden, check spelling") | L102: =IFERROR(IF($B102="","",VLOOKUP($B102&" "&$C102,Brondata!$A$2:$R$16612,10,0)),"niet gevonden, check spelling")
D103: =IFERROR(IF(B103="","",VLOOKUP($B103&" "&$C103,Brondata!$A$2:$R$16612,5,0)),"niet gevonden, check spelling") | K103: =IFERROR(IF($B103="","",VLOOKUP($B103&" "&$C103,Brondata!$A$2:$R$16612,7,0)),"niet gevonden, check spelling") | L103: =IFERROR(IF($B103="","",VLOOKUP($B103&" "&$C103,Brondata!$A$2:$R$16612,10,0)),"niet gevonden, check spelling")
D104: =IFERROR(IF(B104="","",VLOOKUP($B104&" "&$C104,Brondata!$A$2:$R$16612,5,0)),"niet gevonden, check spelling") | K104: =IFERROR(IF($B104="","",VLOOKUP($B104&" "&$C104,Brondata!$A$2:$R$16612,7,0)),"niet gevonden, check spelling") | L104: =IFERROR(IF($B104="","",VLOOKUP($B104&" "&$C104,Brondata!$A$2:$R$16612,10,0)),"niet gevonden, check spelling")
D105: =IFERROR(IF(B105="","",VLOOKUP($B105&" "&$C105,Brondata!$A$2:$R$16612,5,0)),"niet gevonden, check spelling") | K105: =IFERROR(IF($B105="","",VLOOKUP($B105&" "&$C105,Brondata!$A$2:$R$16612,7,0)),"niet gevonden, check spelling") | L105: =IFERROR(IF($B105="","",VLOOKUP($B105&" "&$C105,Brondata!$A$2:$R$16612,10,0)),"niet gevonden, check spelling")
D106: =IFERROR(IF(B106="","",VLOOKUP($B106&" "&$C106,Brondata!$A$2:$R$16612,5,0)),"niet gevonden, check spelling") | K106: =IFERROR(IF($B106="","",VLOOKUP($B106&" "&$C106,Brondata!$A$2:$R$16612,7,0)),"niet gevonden, check spelling") | L106: =IFERROR(IF($B106="","",VLOOKUP($B106&" "&$C106,Brondata!$A$2:$R$16612,10,0)),"niet gevonden, check spelling")
D107: =IFERROR(IF(B107="","",VLOOKUP($B107&" "&$C107,Brondata!$A$2:$R$16612,5,0)),"niet gevonden, check spelling") | K107: =IFERROR(IF($B107="","",VLOOKUP($B107&" "&$C107,Brondata!$A$2:$R$16612,7,0)),"niet gevonden, check spelling") | L107: =IFERROR(IF($B107="","",VLOOKUP($B107&" "&$C107,Brondata!$A$2:$R$16612,10,0)),"niet gevonden, check spelling")
D108: =IFERROR(IF(B108="","",VLOOKUP($B108&" "&$C108,Brondata!$A$2:$R$16612,5,0)),"niet gevonden, check spelling") | K108: =IFERROR(IF($B108="","",VLOOKUP($B108&" "&$C108,Brondata!$A$2:$R$16612,7,0)),"niet gevonden, check spelling") | L108: =IFERROR(IF($B108="","",VLOOKUP($B108&" "&$C108,Brondata!$A$2:$R$16612,10,0)),"niet gevonden, check spelling")
D109: =IFERROR(IF(B109="","",VLOOKUP($B109&" "&$C109,Brondata!$A$2:$R$16612,5,0)),"niet gevonden, check spelling") | K109: =IFERROR(IF($B109="","",VLOOKUP($B109&" "&$C109,Brondata!$A$2:$R$16612,7,0)),"niet gevonden, check spelling") | L109: =IFERROR(IF($B109="","",VLOOKUP($B109&" "&$C109,Brondata!$A$2:$R$16612,10,0)),"niet gevonden, check spelling")
D110: =IFERROR(IF(B110="","",VLOOKUP($B110&" "&$C110,Brondata!$A$2:$R$16612,5,0)),"niet gevonden, check spelling") | K110: =IFERROR(IF($B110="","",VLOOKUP($B110&" "&$C110,Brondata!$A$2:$R$16612,7,0)),"niet gevonden, check spelling") | L110: =IFERROR(IF($B110="","",VLOOKUP($B110&" "&$C110,Brondata!$A$2:$R$16612,10,0)),"niet gevonden, check spelling")
D111: =IFERROR(IF(B111="","",VLOOKUP($B111&" "&$C111,Brondata!$A$2:$R$16612,5,0)),"niet gevonden, check spelling") | K111: =IFERROR(IF($B111="","",VLOOKUP($B111&" "&$C111,Brondata!$A$2:$R$16612,7,0)),"niet gevonden, check spelling") | L111: =IFERROR(IF($B111="","",VLOOKUP($B111&" "&$C111,Brondata!$A$2:$R$16612,10,0)),"niet gevonden, check spelling")
D112: =IFERROR(IF(B112="","",VLOOKUP($B112&" "&$C112,Brondata!$A$2:$R$16612,5,0)),"niet gevonden, check spelling") | K112: =IFERROR(IF($B112="","",VLOOKUP($B112&" "&$C112,Brondata!$A$2:$R$16612,7,0)),"niet gevonden, check spelling") | L112: =IFERROR(IF($B112="","",VLOOKUP($B112&" "&$C112,Brondata!$A$2:$R$16612,10,0)),"niet gevonden, check spelling")
D113: =IFERROR(IF(B113="","",VLOOKUP($B113&" "&$C113,Brondata!$A$2:$R$16612,5,0)),"niet gevonden, check spelling") | K113: =IFERROR(IF($B113="","",VLOOKUP($B113&" "&$C113,Brondata!$A$2:$R$16612,7,0)),"niet gevonden, check spelling") | L113: =IFERROR(IF($B113="","",VLOOKUP($B113&" "&$C113,Brondata!$A$2:$R$16612,10,0)),"niet gevonden, check spelling")
D114: =IFERROR(IF(B114="","",VLOOKUP($B114&" "&$C114,Brondata!$A$2:$R$16612,5,0)),"niet gevonden, check spelling") | K114: =IFERROR(IF($B114="","",VLOOKUP($B114&" "&$C114,Brondata!$A$2:$R$16612,7,0)),"niet gevonden, check spelling") | L114: =IFERROR(IF($B114="","",VLOOKUP($B114&" "&$C114,Brondata!$A$2:$R$16612,10,0)),"niet gevonden, check spelling")
... D132: =IFERROR(IF(B132="","",VLOOKUP($B132&" "&$C132,Brondata!$A$2:$R$16612,5,0)),"niet gevonden, check spelling") | K132: =IFERROR(IF($B132="","",VLOOKUP($B132&" "&$C132,Brondata!$A$2:$R$16612,7,0)),"niet gevonden, check spelling") | L132: =IFERROR(IF($B132="","",VLOOKUP($B132&" "&$C132,Brondata!$A$2:$R$16612,10,0)),"niet gevonden, check spelling")
K133: =IFERROR(IF($B133="","",VLOOKUP($B133&" "&$C133,Brondata!$A$2:$R$16612,7,0)),"niet gevonden, check spelling") | L133: =IFERROR(IF($B133="","",VLOOKUP($B133&" "&$C133,Brondata!$A$2:$R$16612,10,0)),"niet gevonden, check spelling")
K134: =IFERROR(IF($B134="","",VLOOKUP($B134&" "&$C134,Brondata!$A$2:$R$16612,7,0)),"niet gevonden, check spelling") | L134: =IFERROR(IF($B134="","",VLOOKUP($B134&" "&$C134,Brondata!$A$2:$R$16612,10,0)),"niet gevonden, check spelling")
K135: =IFERROR(IF($B135="","",VLOOKUP($B135&" "&$C135,Brondata!$A$2:$R$16612,7,0)),"niet gevonden, check spelling") | L135: =IFERROR(IF($B135="","",VLOOKUP($B135&" "&$C135,Brondata!$A$2:$R$16612,10,0)),"niet gevonden, check spelling")
K136: =IFERROR(IF($B136="","",VLOOKUP($B136&" "&$C136,Brondata!$A$2:$R$16612,7,0)),"niet gevonden, check spelling") | L136: =IFERROR(IF($B136="","",VLOOKUP($B136&" "&$C136,Brondata!$A$2:$R$16612,10,0)),"niet gevonden, check spelling")
K137: =IFERROR(IF($B137="","",VLOOKUP($B137&" "&$C137,Brondata!$A$2:$R$16612,7,0)),"niet gevonden, check spelling") | L137: =IFERROR(IF($B137="","",VLOOKUP($B137&" "&$C137,Brondata!$A$2:$R$16612,10,0)),"niet gevonden, check spelling")
K138: =IFERROR(IF($B138="","",VLOOKUP($B138&" "&$C138,Brondata!$A$2:$R$16612,7,0)),"niet gevonden, check spelling") | L138: =IFERROR(IF($B138="","",VLOOKUP($B138&" "&$C138,Brondata!$A$2:$R$16612,10,0)),"niet gevonden, check spelling")
K139: =IFERROR(IF($B139="","",VLOOKUP($B139&" "&$C139,Brondata!$A$2:$R$16612,7,0)),"niet gevonden, check spelling") | L139: =IFERROR(IF($B139="","",VLOOKUP($B139&" "&$C139,Brondata!$A$2:$R$16612,10,0)),"niet gevonden, check spelling")
K140: =IFERROR(IF($B140="","",VLOOKUP($B140&" "&$C140,Brondata!$A$2:$R$16612,7,0)),"niet gevonden, check spelling") | L140: =IFERROR(IF($B140="","",VLOOKUP($B140&" "&$C140,Brondata!$A$2:$R$16612,10,0)),"niet gevonden, check spelling")
K141: =IFERROR(IF($B141="","",VLOOKUP($B141&" "&$C141,Brondata!$A$2:$R$16612,7,0)),"niet gevonden, check spelling") | L141: =IFERROR(IF($B141="","",VLOOKUP($B141&" "&$C141,Brondata!$A$2:$R$16612,10,0)),"niet gevonden, check spelling")
K142: =IFERROR(IF($B142="","",VLOOKUP($B142&" "&$C142,Brondata!$A$2:$R$16612,7,0)),"niet gevonden, check spelling") | L142: =IFERROR(IF($B142="","",VLOOKUP($B142&" "&$C142,Brondata!$A$2:$R$16612,10,0)),"niet gevonden, check spelling")
K143: =IFERROR(IF($B143="","",VLOOKUP($B143&" "&$C143,Brondata!$A$2:$R$16612,7,0)),"niet gevonden, check spelling") | L143: =IFERROR(IF($B143="","",VLOOKUP($B143&" "&$C143,Brondata!$A$2:$R$16612,10,0)),"niet gevonden, check spelling")
K144: =IFERROR(IF($B144="","",VLOOKUP($B144&" "&$C144,Brondata!$A$2:$R$16612,7,0)),"niet gevonden, check spelling") | L144: =IFERROR(IF($B144="","",VLOOKUP($B144&" "&$C144,Brondata!$A$2:$R$16612,10,0)),"niet gevonden, check spelling")
... K187: =IFERROR(IF($B187="","",VLOOKUP($B187&" "&$C187,Brondata!$A$2:$R$16612,7,0)),"niet gevonden, check spelling") | L187: =IFERROR(IF($B187="","",VLOOKUP($B187&" "&$C187,Brondata!$A$2:$R$16612,10,0)),"niet gevonden, check spelling")

Sheet Natuurvrij max
A1: Type | B1: Naam | C1: Exemplaren in 2024 | D1: Woningen | E1: Limiet | F1: Overschrijding ? | G1: Q1 2025 | H1: Q2 2025 | I1: Q3 2025 | J1: Q4 2025 | K1: Q1 2026 | L1: Q2 2026 | M1: Q3 2026 | N1: Q4 2026
A2: CBS-buurt | B2: Groenswaard 1 | D2: 409 | E2: 136 | F2: =IF(MAX(G2:N2)>E2,"Overschrijding !!!",IF(E2-MAX(G2:N2)<=1,"Kwetsbaar","Geen overschrijding")) -> Geen overschrijding | G2: =COUNTIFS(Projecten!$D$2:$D$187,'Natuurvrij max'!$B2,Projecten!$I$2:$I$187,'Natuurvrij max'!G$1) -> 0 | H2: =COUNTIFS(Projecten!$D$2:$D$187,'Natuurvrij max'!$B2,Projecten!$I$2:$I$187,'Natuurvrij max'!H$1) -> 0 | I2: =COUNTIFS(Projecten!$D$2:$D$187,'Natuurvrij max'!$B2,Projecten!$I$2:$I$187,'Natuurvrij max'!I$1) -> 0 | J2: =COUNTIFS(Projecten!$D$2:$D$187,'Natuurvrij max'!$B2,Projecten!$I$2:$I$187,'Natuurvrij max'!J$1) -> 0 | K2: =COUNTIFS(Projecten!$D$2:$D$187,'Natuurvrij max'!$B2,Projecten!$I$2:$I$187,'Natuurvrij max'!K$1) -> 0 | L2: =COUNTIFS(Projecten!$D$2:$D$187,'Natuurvrij max'!$B2,Projecten!$I$2:$I$187,'Natuurvrij max'!L$1) -> 0 | M2: =COUNTIFS(Projecten!$D$2:$D$187,'Natuurvrij max'!$B2,Projecten!$I$2:$I$187,'Natuurvrij max'!M$1) -> 0 | N2: =COUNTIFS(Projecten!$D$2:$D$187,'Natuurvrij max'!$B2,Projecten!$I$2:$I$187,'Natuurvrij max'!N$1) -> 0
A3: CBS-buurt | B3: Groenswaard 2 | D3: 498 | E3: 165 | F3: =IF(MAX(G3:N3)>E3,"Overschrijding !!!",IF(E3-MAX(G3:N3)<=1,"Kwetsbaar","Geen overschrijding")) -> Geen overschrijding | G3: =COUNTIFS(Projecten!$D$2:$D$187,'Natuurvrij max'!$B3,Projecten!$I$2:$I$187,'Natuurvrij max'!G$1) -> 0 | H3: =COUNTIFS(Projecten!$D$2:$D$187,'Natuurvrij max'!$B3,Projecten!$I$2:$I$187,'Natuurvrij max'!H$1) -> 0 | I3: =COUNTIFS(Projecten!$D$2:$D$187,'Natuurvrij max'!$B3,Projecten!$I$2:$I$187,'Natuurvrij max'!I$1) -> 0 | J3: =COUNTIFS(Projecten!$D$2:$D$187,'Natuurvrij max'!$B3,Projecten!$I$2:$I$187,'Natuurvrij max'!J$1) -> 0 | K3: =COUNTIFS(Projecten!$D$2:$D$187,'Natuurvrij max'!$B3,Projecten!$I$2:$I$187,'Natuurvrij max'!K$1) -> 0 | L3: =COUNTIFS(Projecten!$D$2:$D$187,'Natuurvrij max'!$B3,Projecten!$I$2:$I$187,'Natuurvrij max'!L$1) -> 0 | M3: =COUNTIFS(Projecten!$D$2:$D$187,'Natuurvrij max'!$B3,Projecten!$I$2:$I$187,'Natuurvrij max'!M$1) -> 0 | N3: =COUNTIFS(Projecten!$D$2:$D$187,'Natuurvrij max'!$B3,Projecten!$I$2:$I$187,'Natuurvrij max'!N$1) -> 0
A4: CBS-buurt | B4: Groenswaard 3 | D4: 624 | E4: 207 | F4: =IF(MAX(G4:N4)>E4,"Overschrijding !!!",IF(E4-MAX(G4:N4)<=1,"Kwetsbaar","Geen overschrijding")) -> Geen overschrijding | G4: =COUNTIFS(Projecten!$D$2:$D$187,'Natuurvrij max'!$B4,Projecten!$I$2:$I$187,'Natuurvrij max'!G$1) -> 0 | H4: =COUNTIFS(Projecten!$D$2:$D$187,'Natuurvrij max'!$B4,Projecten!$I$2:$I$187,'Natuurvrij max'!H$1) -> 0 | I4: =COUNTIFS(Projecten!$D$2:$D$187,'Natuurvrij max'!$B4,Projecten!$I$2:$I$187,'Natuurvrij max'!I$1) -> 0 | J4: =COUNTIFS(Projecten!$D$2:$D$187,'Natuurvrij max'!$B4,Projecten!$I$2:$I$187,'Natuurvrij max'!J$1) -> 0 | K4: =COUNTIFS(Projecten!$D$2:$D$187,'Natuurvrij max'!$B4,Projecten!$I$2:$I$187,'Natuurvrij max'!K$1) -> 0 | L4: =COUNTIFS(Projecten!$D$2:$D$187,'Natuurvrij max'!$B4,Projecten!$I$2:$I$187,'Natuurvrij max'!L$1) -> 0 | M4: =COUNTIFS(Projecten!$D$2:$D$187,'Natuurvrij max'!$B4,Projecten!$I$2:$I$187,'Natuurvrij max'!M$1) -> 0 | N4: =COUNTIFS(Projecten!$D$2:$D$187,'Natuurvrij max'!$B4,Projecten!$I$2:$I$187,'Natuurvrij max'!N$1) -> 0
A5: CBS-buurt | B5: Peter Zuidlaan en Horstenbuurt | D5: 845 | E5: 281 | F5: =IF(MAX(G5:N5)>E5,"Overschrijding !!!",IF(E5-MAX(G5:N5)<=1,"Kwetsbaar","Geen overschrijding")) -> Geen overschrijding | G5: =COUNTIFS(Projecten!$D$2:$D$187,'Natuurvrij max'!$B5,Projecten!$I$2:$I$187,'Natuurvrij max'!G$1) -> 0 | H5: =COUNTIFS(Projecten!$D$2:$D$187,'Natuurvrij max'!$B5,Projecten!$I$2:$I$187,'Natuurvrij max'!H$1) -> 0 | I5: =COUNTIFS(Projecten!$D$2:$D$187,'Natuurvrij max'!$B5,Projecten!$I$2:$I$187,'Natuurvrij max'!I$1) -> 0 | J5: =COUNTIFS(Projecten!$D$2:$D$187,'Natuurvrij max'!$B5,Projecten!$I$2:$I$187,'Natuurvrij max'!J$1) -> 0 | K5: =COUNTIFS(Projecten!$D$2:$D$187,'Natuurvrij max'!$B5,Projecten!$I$2:$I$187,'Natuurvrij max'!K$1) -> 0 | L5: =COUNTIFS(Projecten!$D$2:$D$187,'Natuurvrij max'!$B5,Projecten!$I$2:$I$187,'Natuurvrij max'!L$1) -> 0 | M5: =COUNTIFS(Projecten!$D$2:$D$187,'Natuurvrij max'!$B5,Projecten!$I$2:$I$187,'Natuurvrij max'!M$1) -> 0 | N5: =COUNTIFS(Projecten!$D$2:$D$187,'Natuurvrij max'!$B5,Projecten!$I$2:$I$187,'Natuurvrij max'!N$1) -> 0
A6: CBS-buurt | B6: West 1 | D6: 98 | E6: 32 | F6: =IF(MAX(G6:N6)>E6,"Overschrijding !!!",IF(E6-MAX(G6:N6)<=1,"Kwetsbaar","Geen overschrijding")) -> Geen overschrijding | G6: =COUNTIFS(Projecten!$D$2:$D$187,'Natuurvrij max'!$B6,Projecten!$I$2:$I$187,'Natuurvrij max'!G$1) -> 0 | H6: =COUNTIFS(Projecten!$D$2:$D$187,'Natuurvrij max'!$B6,Projecten!$I$2:$I$187,'Natuurvrij max'!H$1) -> 0 | I6: =COUNTIFS(Projecten!$D$2:$D$187,'Natuurvrij max'!$B6,Projecten!$I$2:$I$187,'Natuurvrij max'!I$1) -> 0 | J6: =COUNTIFS(Projecten!$D$2:$D$187,'Natuurvrij max'!$B6,Projecten!$I$2:$I$187,'Natuurvrij max'!J$1) -> 0 | K6: =COUNTIFS(Projecten!$D$2:$D$187,'Natuurvrij max'!$B6,Projecten!$I$2:$I$187,'Natuurvrij max'!K$1) -> 0 | L6: =COUNTIFS(Projecten!$D$2:$D$187,'Natuurvrij max'!$B6,Projecten!$I$2:$I$187,'Natuurvrij max'!L$1) -> 0 | M6: =COUNTIFS(Projecten!$D$2:$D$187,'Natuurvrij max'!$B6,Projecten!$I$2:$I$187,'Natuurvrij max'!M$1) -> 0 | N6: =COUNTIFS(Projecten!$D$2:$D$187,'Natuurvrij max'!$B6,Projecten!$I$2:$I$187,'Natuurvrij max'!N$1) -> 0
A7: CBS-buurt | B7: Bomenwijk | D7: 901 | E7: 300 | F7: =IF(MAX(G7:N7)>E7,"Overschrijding !!!",IF(E7-MAX(G7:N7)<=1,"Kwetsbaar","Geen overschrijding")) -> Geen overschrijding | G7: =COUNTIFS(Projecten!$D$2:$D$187,'Natuurvrij max'!$B7,Projecten!$I$2:$I$187,'Natuurvrij max'!G$1) -> 0 | H7: =COUNTIFS(Projecten!$D$2:$D$187,'Natuurvrij max'!$B7,Projecten!$I$2:$I$187,'Natuurvrij max'!H$1) -> 0 | I7: =COUNTIFS(Projecten!$D$2:$D$187,'Natuurvrij max'!$B7,Projecten!$I$2:$I$187,'Natuurvrij max'!I$1) -> 0 | J7: =COUNTIFS(Projecten!$D$2:$D$187,'Natuurvrij max'!$B7,Projecten!$I$2:$I$187,'Natuurvrij max'!J$1) -> 0 | K7: =COUNTIFS(Projecten!$D$2:$D$187,'Natuurvrij max'!$B7,Projecten!$I$2:$I$187,'Natuurvrij max'!K$1) -> 0 | L7: =COUNTIFS(Projecten!$D$2:$D$187,'Natuurvrij max'!$B7,Projecten!$I$2:$I$187,'Natuurvrij max'!L$1) -> 0 | M7: =COUNTIFS(Projecten!$D$2:$D$187,'Natuurvrij max'!$B7,Projecten!$I$2:$I$187,'Natuurvrij max'!M$1) -> 0 | N7: =COUNTIFS(Projecten!$D$2:$D$187,'Natuurvrij max'!$B7,Projecten!$I$2:$I$187,'Natuurvrij max'!N$1) -> 0
A8: CBS-buurt | B8: Zuidplas 80 | D8: 2280 | E8: 759 | F8: =IF(MAX(G8:N8)>E8,"Overschrijding !!!",IF(E8-MAX(G8:N8)<=1,"Kwetsbaar","Geen overschrijding")) -> Geen overschrijding | G8: =COUNTIFS(Projecten!$D$2:$D$187,'Natuurvrij max'!$B8,Projecten!$I$2:$I$187,'Natuurvrij max'!G$1) -> 0 | H8: =COUNTIFS(Projecten!$D$2:$D$187,'Natuurvrij max'!$B8,Projecten!$I$2:$I$187,'Natuurvrij max'!H$1) -> 0 | I8: =COUNTIFS(Projecten!$D$2:$D$187,'Natuurvrij max'!$B8,Projecten!$I$2:$I$187,'Natuurvrij max'!I$1) -> 0 | J8: =COUNTIFS(Projecten!$D$2:$D$187,'Natuurvrij max'!$B8,Projecten!$I$2:$I$187,'Natuurvrij max'!J$1) -> 0 | K8: =COUNTIFS(Projecten!$D$2:$D$187,'Natuurvrij max'!$B8,Projecten!$I$2:$I$187,'Natuurvrij max'!K$1) -> 0 | L8: =COUNTIFS(Projecten!$D$2:$D$187,'Natuurvrij max'!$B8,Projecten!$I$2:$I$187,'Natuurvrij max'!L$1) -> 0 | M8: =COUNTIFS(Projecten!$D$2:$D$187,'Natuurvrij max'!$B8,Projecten!$I$2:$I$187,'Natuurvrij max'!M$1) -> 0 | N8: =COUNTIFS(Projecten!$D$2:$D$187,'Natuurvrij max'!$B8,Projecten!$I$2:$I$187,'Natuurvrij max'!N$1) -> 0
A9: CBS-buurt | B9: Zuidplas 90 | D9: 622 | E9: 207 | F9: =IF(MAX(G9:N9)>E9,"Overschrijding !!!",IF(E9-MAX(G9:N9)<=1,"Kwetsbaar","Geen overschrijding")) -> Geen overschrijding | G9: =COUNTIFS(Projecten!$D$2:$D$187,'Natuurvrij max'!$B9,Projecten!$I$2:$I$187,'Natuurvrij max'!G$1) -> 0 | H9: =COUNTIFS(Projecten!$D$2:$D$187,'Natuurvrij max'!$B9,Projecten!$I$2:$I$187,'Natuurvrij max'!H$1) -> 0 | I9: =COUNTIFS(Projecten!$D$2:$D$187,'Natuurvrij max'!$B9,Projecten!$I$2:$I$187,'Natuurvrij max'!I$1) -> 0 | J9: =COUNTIFS(Projecten!$D$2:$D$187,'Natuurvrij max'!$B9,Projecten!$I$2:$I$187,'Natuurvrij max'!J$1) -> 0 | K9: =COUNTIFS(Projecten!$D$2:$D$187,'Natuurvrij max'!$B9,Projecten!$I$2:$I$187,'Natuurvrij max'!K$1) -> 0 | L9: =COUNTIFS(Projecten!$D$2:$D$187,'Natuurvrij max'!$B9,Projecten!$I$2:$I$187,'Natuurvrij max'!L$1) -> 0 | M9: =COUNTIFS(Projecten!$D$2:$D$187,'Natuurvrij max'!$B9,Projecten!$I$2:$I$187,'Natuurvrij max'!M$1) -> 0 | N9: =COUNTIFS(Projecten!$D$2:$D$187,'Natuurvrij max'!$B9,Projecten!$I$2:$I$187,'Natuurvrij max'!N$1) -> 0
A10: CBS-buurt | B10: West 2 | D10: 264 | E10: 87 | F10: =IF(MAX(G10:N10)>E10,"Overschrijding !!!",IF(E10-MAX(G10:N10)<=1,"Kwetsbaar","Geen overschrijding")) -> Geen overschrijding | G10: =COUNTIFS(Projecten!$D$2:$D$187,'Natuurvrij max'!$B10,Projecten!$I$2:$I$187,'Natuurvrij max'!G$1) -> 0 | H10: =COUNTIFS(Projecten!$D$2:$D$187,'Natuurvrij max'!$B10,Projecten!$I$2:$I$187,'Natuurvrij max'!H$1) -> 0 | I10: =COUNTIFS(Projecten!$D$2:$D$187,'Natuurvrij max'!$B10,Projecten!$I$2:$I$187,'Natuurvrij max'!I$1) -> 0 | J10: =COUNTIFS(Projecten!$D$2:$D$187,'Natuurvrij max'!$B10,Projecten!$I$2:$I$187,'Natuurvrij max'!J$1) -> 0 | K10: =COUNTIFS(Projecten!$D$2:$D$187,'Natuurvrij max'!$B10,Projecten!$I$2:$I$187,'Natuurvrij max'!K$1) -> 0 | L10: =COUNTIFS(Projecten!$D$2:$D$187,'Natuurvrij max'!$B10,Projecten!$I$2:$I$187,'Natuurvrij max'!L$1) -> 0 | M10: =COUNTIFS(Projecten!$D$2:$D$187,'Natuurvrij max'!$B10,Projecten!$I$2:$I$187,'Natuurvrij max'!M$1) -> 0 | N10: =COUNTIFS(Projecten!$D$2:$D$187,'Natuurvrij max'!$B10,Projecten!$I$2:$I$187,'Natuurvrij max'!N$1) -> 0
A11: CBS-buurt | B11: Oranjewijk Zuid | D11: 565 | E11: 188 | F11: =IF(MAX(G11:N11)>E11,"Overschrijding !!!",IF(E11-MAX(G11:N11)<=1,"Kwetsbaar","Geen overschrijding")) -> Geen overschrijding | G11: =COUNTIFS(Projecten!$D$2:$D$187,'Natuurvrij max'!$B11,Projecten!$I$2:$I$187,'Natuurvrij max'!G$1) -> 0 | H11: =COUNTIFS(Projecten!$D$2:$D$187,'Natuurvrij max'!$B11,Projecten!$I$2:$I$187,'Natuurvrij max'!H$1) -> 0 | I11: =COUNTIFS(Projecten!$D$2:$D$187,'Natuurvrij max'!$B11,Projecten!$I$2:$I$187,'Natuurvrij max'!I$1) -> 1 | J11: =COUNTIFS(Projecten!$D$2:$D$187,'Natuurvrij max'!$B11,Projecten!$I$2:$I$187,'Natuurvrij max'!J$1) -> 0 | K11: =COUNTIFS(Projecten!$D$2:$D$187,'Natuurvrij max'!$B11,Projecten!$I$2:$I$187,'Natuurvrij max'!K$1) -> 0 | L11: =COUNTIFS(Projecten!$D$2:$D$187,'Natuurvrij max'!$B11,Projecten!$I$2:$I$187,'Natuurvrij max'!L$1) -> 0 | M11: =COUNTIFS(Projecten!$D$2:$D$187,'Natuurvrij max'!$B11,Projecten!$I$2:$I$187,'Natuurvrij max'!M$1) -> 0 | N11: =COUNTIFS(Projecten!$D$2:$D$187,'Natuurvrij max'!$B11,Projecten!$I$2:$I$187,'Natuurvrij max'!N$1) -> 0
A12: CBS-buurt | B12: Oranjewijk Noord | D12: 681 | E12: 226 | F12: =IF(MAX(G12:N12)>E12,"Overschrijding !!!",IF(E12-MAX(G12:N12)<=1,"Kwetsbaar","Geen overschrijding")) -> Geen overschrijding | G12: =COUNTIFS(Projecten!$D$2:$D$187,'Natuurvrij max'!$B12,Projecten!$I$2:$I$187,'Natuurvrij max'!G$1) -> 0 | H12: =COUNTIFS(Projecten!$D$2:$D$187,'Natuurvrij max'!$B12,Projecten!$I$2:$I$187,'Natuurvrij max'!H$1) -> 0 | I12: =COUNTIFS(Projecten!$D$2:$D$187,'Natuurvrij max'!$B12,Projecten!$I$2:$I$187,'Natuurvrij max'!I$1) -> 0 | J12: =COUNTIFS(Projecten!$D$2:$D$187,'Natuurvrij max'!$B12,Projecten!$I$2:$I$187,'Natuurvrij max'!J$1) -> 0 | K12: =COUNTIFS(Projecten!$D$2:$D$187,'Natuurvrij max'!$B12,Projecten!$I$2:$I$187,'Natuurvrij max'!K$1) -> 0 | L12: =COUNTIFS(Projecten!$D$2:$D$187,'Natuurvrij max'!$B12,Projecten!$I$2:$I$187,'Natuurvrij max'!L$1) -> 0 | M12: =COUNTIFS(Projecten!$D$2:$D$187,'Natuurvrij max'!$B12,Projecten!$I$2:$I$187,'Natuurvrij max'!M$1) -> 0 | N12: =COUNTIFS(Projecten!$D$2:$D$187,'Natuurvrij max'!$B12,Projecten!$I$2:$I$187,'Natuurvrij max'!N$1) -> 0
A13: CBS-buurt | B13: Vondelwijk | D13: 954 | E13: 317 | F13: =IF(MAX(G13:N13)>E13,"Overschrijding !!!",IF(E13-MAX(G13:N13)<=1,"Kwetsbaar","Geen overschrijding")) -> Geen overschrijding | G13: =COUNTIFS(Projecten!$D$2:$D$187,'Natuurvrij max'!$B13,Projecten!$I$2:$I$187,'Natuurvrij max'!G$1) -> 0 | H13: =COUNTIFS(Projecten!$D$2:$D$187,'Natuurvrij max'!$B13,Projecten!$I$2:$I$187,'Natuurvrij max'!H$1) -> 0 | I13: =COUNTIFS(Projecten!$D$2:$D$187,'Natuurvrij max'!$B13,Projecten!$I$2:$I$187,'Natuurvrij max'!I$1) -> 0 | J13: =COUNTIFS(Projecten!$D$2:$D$187,'Natuurvrij max'!$B13,Projecten!$I$2:$I$187,'Natuurvrij max'!J$1) -> 0 | K13: =COUNTIFS(Projecten!$D$2:$D$187,'Natuurvrij max'!$B13,Projecten!$I$2:$I$187,'Natuurvrij max'!K$1) -> 0 | L13: =COUNTIFS(Projecten!$D$2:$D$187,'Natuurvrij max'!$B13,Projecten!$I$2:$I$187,'Natuurvrij max'!L$1) -> 0 | M13: =COUNTIFS(Projecten!$D$2:$D$187,'Natuurvrij max'!$B13,Projecten!$I$2:$I$187,'Natuurvrij max'!M$1) -> 0 | N13: =COUNTIFS(Projecten!$D$2:$D$187,'Natuurvrij max'!$B13,Projecten!$I$2:$I$187,'Natuurvrij max'!N$1) -> 0
... A19: CBS-buurt | B19: Zeeheldenbuurt | D19: 278 | E19: 92 | F19: =IF(MAX(G19:N19)>E19,"Overschrijding !!!",IF(E19-MAX(G19:N19)<=1,"Kwetsbaar","Geen overschrijding")) -> Geen overschrijding | G19: =COUNTIFS(Projecten!$D$2:$D$187,'Natuurvrij max'!$B19,Projecten!$I$2:$I$187,'Natuurvrij max'!G$1) -> 0 | H19: =COUNTIFS(Projecten!$D$2:$D$187,'Natuurvrij max'!$B19,Projecten!$I$2:$I$187,'Natuurvrij max'!H$1) -> 0 | I19: =COUNTIFS(Projecten!$D$2:$D$187,'Natuurvrij max'!$B19,Projecten!$I$2:$I$187,'Natuurvrij max'!I$1) -> 0 | J19: =COUNTIFS(Projecten!$D$2:$D$187,'Natuurvrij max'!$B19,Projecten!$I$2:$I$187,'Natuurvrij max'!J$1) -> 0 | K19: =COUNTIFS(Projecten!$D$2:$D$187,'Natuurvrij max'!$B19,Projecten!$I$2:$I$187,'Natuurvrij max'!K$1) -> 0 | L19: =COUNTIFS(Projecten!$D$2:$D$187,'Natuurvrij max'!$B19,Projecten!$I$2:$I$187,'Natuurvrij max'!L$1) -> 0 | M19: =COUNTIFS(Projecten!$D$2:$D$187,'Natuurvrij max'!$B19,Projecten!$I$2:$I$187,'Natuurvrij max'!M$1) -> 0 | N19: =COUNTIFS(Projecten!$D$2:$D$187,'Natuurvrij max'!$B19,Projecten!$I$2:$I$187,'Natuurvrij max'!N$1) -> 0
A20: Bolwerk spreeuw | B20: #1 | C20: 38 | D20: 516 | E20: 129 | F20: =IF(MAX(G20:N20)>E20,"Overschrijding !!!",IF(E20-MAX(G20:N20)<=1,"Kwetsbaar","Geen overschrijding")) -> Geen overschrijding | G20: =COUNTIFS(Projecten!$E$2:$E$187,"Bolwerk "&ROW()-19,Projecten!$I$2:$I$187,'Natuurvrij max'!G$1) -> 0 | H20: =COUNTIFS(Projecten!$E$2:$E$187,"Bolwerk "&ROW()-19,Projecten!$I$2:$I$187,'Natuurvrij max'!H$1) -> 0 | I20: =COUNTIFS(Projecten!$E$2:$E$187,"Bolwerk "&ROW()-19,Projecten!$I$2:$I$187,'Natuurvrij max'!I$1) -> 0 | J20: =COUNTIFS(Projecten!$E$2:$E$187,"Bolwerk "&ROW()-19,Projecten!$I$2:$I$187,'Natuurvrij max'!J$1) -> 0 | K20: =COUNTIFS(Projecten!$E$2:$E$187,"Bolwerk "&ROW()-19,Projecten!$I$2:$I$187,'Natuurvrij max'!K$1) -> 0 | L20: =COUNTIFS(Projecten!$E$2:$E$187,"Bolwerk "&ROW()-19,Projecten!$I$2:$I$187,'Natuurvrij max'!L$1) -> 0 | M20: =COUNTIFS(Projecten!$E$2:$E$187,"Bolwerk "&ROW()-19,Projecten!$I$2:$I$187,'Natuurvrij max'!M$1) -> 0 | N20: =COUNTIFS(Projecten!$E$2:$E$187,"Bolwerk "&ROW()-19,Projecten!$I$2:$I$187,'Natuurvrij max'!N$1) -> 0
A21: Bolwerk spreeuw | B21: #2 | C21: 9 | D21: 239 | E21: 119 | F21: =IF(MAX(G21:N21)>E21,"Overschrijding !!!",IF(E21-MAX(G21:N21)<=1,"Kwetsbaar","Geen overschrijding")) -> Geen overschrijding | G21: =COUNTIFS(Projecten!$E$2:$E$187,"Bolwerk "&ROW()-19,Projecten!$I$2:$I$187,'Natuurvrij max'!G$1) -> 0 | H21: =COUNTIFS(Projecten!$E$2:$E$187,"Bolwerk "&ROW()-19,Projecten!$I$2:$I$187,'Natuurvrij max'!H$1) -> 0 | I21: =COUNTIFS(Projecten!$E$2:$E$187,"Bolwerk "&ROW()-19,Projecten!$I$2:$I$187,'Natuurvrij max'!I$1) -> 0 | J21: =COUNTIFS(Projecten!$E$2:$E$187,"Bolwerk "&ROW()-19,Projecten!$I$2:$I$187,'Natuurvrij max'!J$1) -> 0 | K21: =COUNTIFS(Projecten!$E$2:$E$187,"Bolwerk "&ROW()-19,Projecten!$I$2:$I$187,'Natuurvrij max'!K$1) -> 0 | L21: =COUNTIFS(Projecten!$E$2:$E$187,"Bolwerk "&ROW()-19,Projecten!$I$2:$I$187,'Natuurvrij max'!L$1) -> 0 | M21: =COUNTIFS(Projecten!$E$2:$E$187,"Bolwerk "&ROW()-19,Projecten!$I$2:$I$187,'Natuurvrij max'!M$1) -> 0 | N21: =COUNTIFS(Projecten!$E$2:$E$187,"Bolwerk "&ROW()-19,Projecten!$I$2:$I$187,'Natuurvrij max'!N$1) -> 0
A22: Bolwerk spreeuw | B22: #3 | C22: 2 | D22: 17 | E22: 8 | F22: =IF(MAX(G22:N22)>E22,"Overschrijding !!!",IF(E22-MAX(G22:N22)<=1,"Kwetsbaar","Geen overschrijding")) -> Geen overschrijding | G22: =COUNTIFS(Projecten!$E$2:$E$187,"Bolwerk "&ROW()-19,Projecten!$I$2:$I$187,'Natuurvrij max'!G$1) -> 0 | H22: =COUNTIFS(Projecten!$E$2:$E$187,"Bolwerk "&ROW()-19,Projecten!$I$2:$I$187,'Natuurvrij max'!H$1) -> 0 | I22: =COUNTIFS(Projecten!$E$2:$E$187,"Bolwerk "&ROW()-19,Projecten!$I$2:$I$187,'Natuurvrij max'!I$1) -> 0 | J22: =COUNTIFS(Projecten!$E$2:$E$187,"Bolwerk "&ROW()-19,Projecten!$I$2:$I$187,'Natuurvrij max'!J$1) -> 0 | K22: =COUNTIFS(Projecten!$E$2:$E$187,"Bolwerk "&ROW()-19,Projecten!$I$2:$I$187,'Natuurvrij max'!K$1) -> 0 | L22: =COUNTIFS(Projecten!$E$2:$E$187,"Bolwerk "&ROW()-19,Projecten!$I$2:$I$187,'Natuurvrij max'!L$1) -> 0 | M22: =COUNTIFS(Projecten!$E$2:$E$187,"Bolwerk "&ROW()-19,Projecten!$I$2:$I$187,'Natuurvrij max'!M$1) -> 0 | N22: =COUNTIFS(Projecten!$E$2:$E$187,"Bolwerk "&ROW()-19,Projecten!$I$2:$I$187,'Natuurvrij max'!N$1) -> 0
A23: Bolwerk spreeuw | B23: #4 | C23: 8 | D23: 139 | E23: 69 | F23: =IF(MAX(G23:N23)>E23,"Overschrijding !!!",IF(E23-MAX(G23:N23)<=1,"Kwetsbaar","Geen overschrijding")) -> Geen overschrijding | G23: =COUNTIFS(Projecten!$E$2:$E$187,"Bolwerk "&ROW()-19,Projecten!$I$2:$I$187,'Natuurvrij max'!G$1) -> 0 | H23: =COUNTIFS(Projecten!$E$2:$E$187,"Bolwerk "&ROW()-19,Projecten!$I$2:$I$187,'Natuurvrij max'!H$1) -> 0 | I23: =COUNTIFS(Projecten!$E$2:$E$187,"Bolwerk "&ROW()-19,Projecten!$I$2:$I$187,'Natuurvrij max'!I$1) -> 0 | J23: =COUNTIFS(Projecten!$E$2:$E$187,"Bolwerk "&ROW()-19,Projecten!$I$2:$I$187,'Natuurvrij max'!J$1) -> 0 | K23: =COUNTIFS(Projecten!$E$2:$E$187,"Bolwerk "&ROW()-19,Projecten!$I$2:$I$187,'Natuurvrij max'!K$1) -> 0 | L23: =COUNTIFS(Projecten!$E$2:$E$187,"Bolwerk "&ROW()-19,Projecten!$I$2:$I$187,'Natuurvrij max'!L$1) -> 0 | M23: =COUNTIFS(Projecten!$E$2:$E$187,"Bolwerk "&ROW()-19,Projecten!$I$2:$I$187,'Natuurvrij max'!M$1) -> 0 | N23: =COUNTIFS(Projecten!$E$2:$E$187,"Bolwerk "&ROW()-19,Projecten!$I$2:$I$187,'Natuurvrij max'!N$1) -> 0
A24: Bolwerk spreeuw | B24: #5 | C24: 2 | D24: 88 | E24: 44 | F24: =IF(MAX(G24:N24)>E24,"Overschrijding !!!",IF(E24-MAX(G24:N24)<=1,"Kwetsbaar","Geen overschrijding")) -> Geen overschrijding | G24: =COUNTIFS(Projecten!$E$2:$E$187,"Bolwerk "&ROW()-19,Projecten!$I$2:$I$187,'Natuurvrij max'!G$1) -> 0 | H24: =COUNTIFS(Projecten!$E$2:$E$187,"Bolwerk "&ROW()-19,Projecten!$I$2:$I$187,'Natuurvrij max'!H$1) -> 0 | I24: =COUNTIFS(Projecten!$E$2:$E$187,"Bolwerk "&ROW()-19,Projecten!$I$2:$I$187,'Natuurvrij max'!I$1) -> 0 | J24: =COUNTIFS(Projecten!$E$2:$E$187,"Bolwerk "&ROW()-19,Projecten!$I$2:$I$187,'Natuurvrij max'!J$1) -> 0 | K24: =COUNTIFS(Projecten!$E$2:$E$187,"Bolwerk "&ROW()-19,Projecten!$I$2:$I$187,'Natuurvrij max'!K$1) -> 0 | L24: =COUNTIFS(Projecten!$E$2:$E$187,"Bolwerk "&ROW()-19,Projecten!$I$2:$I$187,'Natuurvrij max'!L$1) -> 0 | M24: =COUNTIFS(Projecten!$E$2:$E$187,"Bolwerk "&ROW()-19,Projecten!$I$2:$I$187,'Natuurvrij max'!M$1) -> 0 | N24: =COUNTIFS(Projecten!$E$2:$E$187,"Bolwerk "&ROW()-19,Projecten!$I$2:$I$187,'Natuurvrij max'!N$1) -> 0
A25: Bolwerk spreeuw | B25: #6 | C25: 1 | D25: 36 | E25: 18 | F25: =IF(MAX(G25:N25)>E25,"Overschrijding !!!",IF(E25-MAX(G25:N25)<=1,"Kwetsbaar","Geen overschrijding")) -> Geen overschrijding | G25: =COUNTIFS(Projecten!$E$2:$E$187,"Bolwerk "&ROW()-19,Projecten!$I$2:$I$187,'Natuurvrij max'!G$1) -> 0 | H25: =COUNTIFS(Projecten!$E$2:$E$187,"Bolwerk "&ROW()-19,Projecten!$I$2:$I$187,'Natuurvrij max'!H$1) -> 0 | I25: =COUNTIFS(Projecten!$E$2:$E$187,"Bolwerk "&ROW()-19,Projecten!$I$2:$I$187,'Natuurvrij max'!I$1) -> 0 | J25: =COUNTIFS(Projecten!$E$2:$E$187,"Bolwerk "&ROW()-19,Projecten!$I$2:$I$187,'Natuurvrij max'!J$1) -> 0 | K25: =COUNTIFS(Projecten!$E$2:$E$187,"Bolwerk "&ROW()-19,Projecten!$I$2:$I$187,'Natuurvrij max'!K$1) -> 0 | L25: =COUNTIFS(Projecten!$E$2:$E$187,"Bolwerk "&ROW()-19,Projecten!$I$2:$I$187,'Natuurvrij max'!L$1) -> 0 | M25: =COUNTIFS(Projecten!$E$2:$E$187,"Bolwerk "&ROW()-19,Projecten!$I$2:$I$187,'Natuurvrij max'!M$1) -> 0 | N25: =COUNTIFS(Projecten!$E$2:$E$187,"Bolwerk "&ROW()-19,Projecten!$I$2:$I$187,'Natuurvrij max'!N$1) -> 0
A26: Bolwerk spreeuw | B26: #7 | C26: 12 | D26: 215 | E26: 53 | F26: =IF(MAX(G26:N26)>E26,"Overschrijding !!!",IF(E26-MAX(G26:N26)<=1,"Kwetsbaar","Geen overschrijding")) -> Geen overschrijding | G26: =COUNTIFS(Projecten!$E$2:$E$187,"Bolwerk "&ROW()-19,Projecten!$I$2:$I$187,'Natuurvrij max'!G$1) -> 0 | H26: =COUNTIFS(Projecten!$E$2:$E$187,"Bolwerk "&ROW()-19,Projecten!$I$2:$I$187,'Natuurvrij max'!H$1) -> 0 | I26: =COUNTIFS(Projecten!$E$2:$E$187,"Bolwerk "&ROW()-19,Projecten!$I$2:$I$187,'Natuurvrij max'!I$1) -> 0 | J26: =COUNTIFS(Projecten!$E$2:$E$187,"Bolwerk "&ROW()-19,Projecten!$I$2:$I$187,'Natuurvrij max'!J$1) -> 0 | K26: =COUNTIFS(Projecten!$E$2:$E$187,"Bolwerk "&ROW()-19,Projecten!$I$2:$I$187,'Natuurvrij max'!K$1) -> 0 | L26: =COUNTIFS(Projecten!$E$2:$E$187,"Bolwerk "&ROW()-19,Projecten!$I$2:$I$187,'Natuurvrij max'!L$1) -> 0 | M26: =COUNTIFS(Projecten!$E$2:$E$187,"Bolwerk "&ROW()-19,Projecten!$I$2:$I$187,'Natuurvrij max'!M$1) -> 0 | N26: =COUNTIFS(Projecten!$E$2:$E$187,"Bolwerk "&ROW()-19,Projecten!$I$2:$I$187,'Natuurvrij max'!N$1) -> 0
A27: Bolwerk spreeuw | B27: #8 | C27: 16 | D27: 294 | E27: 73 | F27: =IF(MAX(G27:N27)>E27,"Overschrijding !!!",IF(E27-MAX(G27:N27)<=1,"Kwetsbaar","Geen overschrijding")) -> Geen overschrijding | G27: =COUNTIFS(Projecten!$E$2:$E$187,"Bolwerk "&ROW()-19,Projecten!$I$2:$I$187,'Natuurvrij max'!G$1) -> 0 | H27: =COUNTIFS(Projecten!$E$2:$E$187,"Bolwerk "&ROW()-19,Projecten!$I$2:$I$187,'Natuurvrij max'!H$1) -> 0 | I27: =COUNTIFS(Projecten!$E$2:$E$187,"Bolwerk "&ROW()-19,Projecten!$I$2:$I$187,'Natuurvrij max'!I$1) -> 0 | J27: =COUNTIFS(Projecten!$E$2:$E$187,"Bolwerk "&ROW()-19,Projecten!$I$2:$I$187,'Natuurvrij max'!J$1) -> 0 | K27: =COUNTIFS(Projecten!$E$2:$E$187,"Bolwerk "&ROW()-19,Projecten!$I$2:$I$187,'Natuurvrij max'!K$1) -> 0 | L27: =COUNTIFS(Projecten!$E$2:$E$187,"Bolwerk "&ROW()-19,Projecten!$I$2:$I$187,'Natuurvrij max'!L$1) -> 0 | M27: =COUNTIFS(Projecten!$E$2:$E$187,"Bolwerk "&ROW()-19,Projecten!$I$2:$I$187,'Natuurvrij max'!M$1) -> 0 | N27: =COUNTIFS(Projecten!$E$2:$E$187,"Bolwerk "&ROW()-19,Projecten!$I$2:$I$187,'Natuurvrij max'!N$1) -> 0
A28: Bolwerk spreeuw | B28: #9 | C28: 15 | D28: 115 | E28: 28 | F28: =IF(MAX(G28:N28)>E28,"Overschrijding !!!",IF(E28-MAX(G28:N28)<=1,"Kwetsbaar","Geen overschrijding")) -> Geen overschrijding | G28: =COUNTIFS(Projecten!$E$2:$E$187,"Bolwerk "&ROW()-19,Projecten!$I$2:$I$187,'Natuurvrij max'!G$1) -> 0 | H28: =COUNTIFS(Projecten!$E$2:$E$187,"Bolwerk "&ROW()-19,Projecten!$I$2:$I$187,'Natuurvrij max'!H$1) -> 0 | I28: =COUNTIFS(Projecten!$E$2:$E$187,"Bolwerk "&ROW()-19,Projecten!$I$2:$I$187,'Natuurvrij max'!I$1) -> 0 | J28: =COUNTIFS(Projecten!$E$2:$E$187,"Bolwerk "&ROW()-19,Projecten!$I$2:$I$187,'Natuurvrij max'!J$1) -> 0 | K28: =COUNTIFS(Projecten!$E$2:$E$187,"Bolwerk "&ROW()-19,Projecten!$I$2:$I$187,'Natuurvrij max'!K$1) -> 0 | L28: =COUNTIFS(Projecten!$E$2:$E$187,"Bolwerk "&ROW()-19,Projecten!$I$2:$I$187,'Natuurvrij max'!L$1) -> 0 | M28: =COUNTIFS(Projecten!$E$2:$E$187,"Bolwerk "&ROW()-19,Projecten!$I$2:$I$187,'Natuurvrij max'!M$1) -> 0 | N28: =COUNTIFS(Projecten!$E$2:$E$187,"Bolwerk "&ROW()-19,Projecten!$I$2:$I$187,'Natuurvrij max'!N$1) -> 0
A29: Bolwerk spreeuw | B29: #10 | C29: 10 | D29: 236 | E29: 59 | F29: =IF(MAX(G29:N29)>E29,"Overschrijding !!!",IF(E29-MAX(G29:N29)<=1,"Kwetsbaar","Geen overschrijding")) -> Geen overschrijding | G29: =COUNTIFS(Projecten!$E$2:$E$187,"Bolwerk "&ROW()-19,Projecten!$I$2:$I$187,'Natuurvrij max'!G$1) -> 0 | H29: =COUNTIFS(Projecten!$E$2:$E$187,"Bolwerk "&ROW()-19,Projecten!$I$2:$I$187,'Natuurvrij max'!H$1) -> 0 | I29: =COUNTIFS(Projecten!$E$2:$E$187,"Bolwerk "&ROW()-19,Projecten!$I$2:$I$187,'Natuurvrij max'!I$1) -> 0 | J29: =COUNTIFS(Projecten!$E$2:$E$187,"Bolwerk "&ROW()-19,Projecten!$I$2:$I$187,'Natuurvrij max'!J$1) -> 0 | K29: =COUNTIFS(Projecten!$E$2:$E$187,"Bolwerk "&ROW()-19,Projecten!$I$2:$I$187,'Natuurvrij max'!K$1) -> 0 | L29: =COUNTIFS(Projecten!$E$2:$E$187,"Bolwerk "&ROW()-19,Projecten!$I$2:$I$187,'Natuurvrij max'!L$1) -> 0 | M29: =COUNTIFS(Projecten!$E$2:$E$187,"Bolwerk "&ROW()-19,Projecten!$I$2:$I$187,'Natuurvrij max'!M$1) -> 0 | N29: =COUNTIFS(Projecten!$E$2:$E$187,"Bolwerk "&ROW()-19,Projecten!$I$2:$I$187,'Natuurvrij max'!N$1) -> 0
A30: Bolwerk spreeuw | B30: #11 | C30: 6 | D30: 143 | E30: 71 | F30: =IF(MAX(G30:N30)>E30,"Overschrijding !!!",IF(E30-MAX(G30:N30)<=1,"Kwetsbaar","Geen overschrijding")) -> Geen overschrijding | G30: =COUNTIFS(Projecten!$E$2:$E$187,"Bolwerk "&ROW()-19,Projecten!$I$2:$I$187,'Natuurvrij max'!G$1) -> 0 | H30: =COUNTIFS(Projecten!$E$2:$E$187,"Bolwerk "&ROW()-19,Projecten!$I$2:$I$187,'Natuurvrij max'!H$1) -> 0 | I30: =COUNTIFS(Projecten!$E$2:$E$187,"Bolwerk "&ROW()-19,Projecten!$I$2:$I$187,'Natuurvrij max'!I$1) -> 0 | J30: =COUNTIFS(Projecten!$E$2:$E$187,"Bolwerk "&ROW()-19,Projecten!$I$2:$I$187,'Natuurvrij max'!J$1) -> 0 | K30: =COUNTIFS(Projecten!$E$2:$E$187,"Bolwerk "&ROW()-19,Projecten!$I$2:$I$187,'Natuurvrij max'!K$1) -> 0 | L30: =COUNTIFS(Projecten!$E$2:$E$187,"Bolwerk "&ROW()-19,Projecten!$I$2:$I$187,'Natuurvrij max'!L$1) -> 0 | M30: =COUNTIFS(Projecten!$E$2:$E$187,"Bolwerk "&ROW()-19,Projecten!$I$2:$I$187,'Natuurvrij max'!M$1) -> 0 | N30: =COUNTIFS(Projecten!$E$2:$E$187,"Bolwerk "&ROW()-19,Projecten!$I$2:$I$187,'Natuurvrij max'!N$1) -> 0
A31: Bolwerk spreeuw | B31: #12 | C31: 11 | D31: 132 | E31: 33 | F31: =IF(MAX(G31:N31)>E31,"Overschrijding !!!",IF(E31-MAX(G31:N31)<=1,"Kwetsbaar","Geen overschrijding")) -> Geen overschrijding | G31: =COUNTIFS(Projecten!$E$2:$E$187,"Bolwerk "&ROW()-19,Projecten!$I$2:$I$187,'Natuurvrij max'!G$1) -> 0 | H31: =COUNTIFS(Projecten!$E$2:$E$187,"Bolwerk "&ROW()-19,Projecten!$I$2:$I$187,'Natuurvrij max'!H$1) -> 0 | I31: =COUNTIFS(Projecten!$E$2:$E$187,"Bolwerk "&ROW()-19,Projecten!$I$2:$I$187,'Natuurvrij max'!I$1) -> 0 | J31: =COUNTIFS(Projecten!$E$2:$E$187,"Bolwerk "&ROW()-19,Projecten!$I$2:$I$187,'Natuurvrij max'!J$1) -> 0 | K31: =COUNTIFS(Projecten!$E$2:$E$187,"Bolwerk "&ROW()-19,Projecten!$I$2:$I$187,'Natuurvrij max'!K$1) -> 0 | L31: =COUNTIFS(Projecten!$E$2:$E$187,"Bolwerk "&ROW()-19,Projecten!$I$2:$I$187,'Natuurvrij max'!L$1) -> 0 | M31: =COUNTIFS(Projecten!$E$2:$E$187,"Bolwerk "&ROW()-19,Projecten!$I$2:$I$187,'Natuurvrij max'!M$1) -> 0 | N31: =COUNTIFS(Projecten!$E$2:$E$187,"Bolwerk "&ROW()-19,Projecten!$I$2:$I$187,'Natuurvrij max'!N$1) -> 0
... A52: Bolwerk spreeuw | B52: #33 | C52: 1 | D52: 12 | E52: 6 | F52: =IF(MAX(G52:N52)>E52,"Overschrijding !!!",IF(E52-MAX(G52:N52)<=1,"Kwetsbaar","Geen overschrijding")) -> Geen overschrijding | G52: =COUNTIFS(Projecten!$E$2:$E$187,"Bolwerk "&ROW()-19,Projecten!$I$2:$I$187,'Natuurvrij max'!G$1) -> 0 | H52: =COUNTIFS(Projecten!$E$2:$E$187,"Bolwerk "&ROW()-19,Projecten!$I$2:$I$187,'Natuurvrij max'!H$1) -> 0 | I52: =COUNTIFS(Projecten!$E$2:$E$187,"Bolwerk "&ROW()-19,Projecten!$I$2:$I$187,'Natuurvrij max'!I$1) -> 0 | J52: =COUNTIFS(Projecten!$E$2:$E$187,"Bolwerk "&ROW()-19,Projecten!$I$2:$I$187,'Natuurvrij max'!J$1) -> 0 | K52: =COUNTIFS(Projecten!$E$2:$E$187,"Bolwerk "&ROW()-19,Projecten!$I$2:$I$187,'Natuurvrij max'!K$1) -> 0 | L52: =COUNTIFS(Projecten!$E$2:$E$187,"Bolwerk "&ROW()-19,Projecten!$I$2:$I$187,'Natuurvrij max'!L$1) -> 0 | M52: =COUNTIFS(Projecten!$E$2:$E$187,"Bolwerk "&ROW()-19,Projecten!$I$2:$I$187,'Natuurvrij max'!M$1) -> 0 | N52: =COUNTIFS(Projecten!$E$2:$E$187,"Bolwerk "&ROW()-19,Projecten!$I$2:$I$187,'Natuurvrij max'!N$1) -> 0
A53: Bolwerk mus | B53: #1 | C53: 11 | D53: 164 | E53: 41 | F53: =IF(MAX(G53:N53)>E53,"Overschrijding !!!",IF(E53-MAX(G53:N53)<=1,"Kwetsbaar","Geen overschrijding")) -> Geen overschrijding | G53: =COUNTIFS(Projecten!$F$2:$F$187,"Bolwerk "&ROW()-52,Projecten!$I$2:$I$187,'Natuurvrij max'!G$1) -> 0 | H53: =COUNTIFS(Projecten!$F$2:$F$187,"Bolwerk "&ROW()-52,Projecten!$I$2:$I$187,'Natuurvrij max'!H$1) -> 0 | I53: =COUNTIFS(Projecten!$F$2:$F$187,"Bolwerk "&ROW()-52,Projecten!$I$2:$I$187,'Natuurvrij max'!I$1) -> 0 | J53: =COUNTIFS(Projecten!$F$2:$F$187,"Bolwerk "&ROW()-52,Projecten!$I$2:$I$187,'Natuurvrij max'!J$1) -> 0 | K53: =COUNTIFS(Projecten!$F$2:$F$187,"Bolwerk "&ROW()-52,Projecten!$I$2:$I$187,'Natuurvrij max'!K$1) -> 0 | L53: =COUNTIFS(Projecten!$F$2:$F$187,"Bolwerk "&ROW()-52,Projecten!$I$2:$I$187,'Natuurvrij max'!L$1) -> 0 | M53: =COUNTIFS(Projecten!$F$2:$F$187,"Bolwerk "&ROW()-52,Projecten!$I$2:$I$187,'Natuurvrij max'!M$1) -> 0 | N53: =COUNTIFS(Projecten!$F$2:$F$187,"Bolwerk "&ROW()-52,Projecten!$I$2:$I$187,'Natuurvrij max'!N$1) -> 0
A54: Bolwerk mus | B54: #2 | C54: 22 | D54: 184 | E54: 46 | F54: =IF(MAX(G54:N54)>E54,"Overschrijding !!!",IF(E54-MAX(G54:N54)<=1,"Kwetsbaar","Geen overschrijding")) -> Geen overschrijding | G54: =COUNTIFS(Projecten!$F$2:$F$187,"Bolwerk "&ROW()-52,Projecten!$I$2:$I$187,'Natuurvrij max'!G$1) -> 0 | H54: =COUNTIFS(Projecten!$F$2:$F$187,"Bolwerk "&ROW()-52,Projecten!$I$2:$I$187,'Natuurvrij max'!H$1) -> 0 | I54: =COUNTIFS(Projecten!$F$2:$F$187,"Bolwerk "&ROW()-52,Projecten!$I$2:$I$187,'Natuurvrij max'!I$1) -> 0 | J54: =COUNTIFS(Projecten!$F$2:$F$187,"Bolwerk "&ROW()-52,Projecten!$I$2:$I$187,'Natuurvrij max'!J$1) -> 0 | K54: =COUNTIFS(Projecten!$F$2:$F$187,"Bolwerk "&ROW()-52,Projecten!$I$2:$I$187,'Natuurvrij max'!K$1) -> 0 | L54: =COUNTIFS(Projecten!$F$2:$F$187,"Bolwerk "&ROW()-52,Projecten!$I$2:$I$187,'Natuurvrij max'!L$1) -> 0 | M54: =COUNTIFS(Projecten!$F$2:$F$187,"Bolwerk "&ROW()-52,Projecten!$I$2:$I$187,'Natuurvrij max'!M$1) -> 0 | N54: =COUNTIFS(Projecten!$F$2:$F$187,"Bolwerk "&ROW()-52,Projecten!$I$2:$I$187,'Natuurvrij max'!N$1) -> 0
A55: Bolwerk mus | B55: #3 | C55: 18 | D55: 86 | E55: 21 | F55: =IF(MAX(G55:N55)>E55,"Overschrijding !!!",IF(E55-MAX(G55:N55)<=1,"Kwetsbaar","Geen overschrijding")) -> Geen overschrijding | G55: =COUNTIFS(Projecten!$F$2:$F$187,"Bolwerk "&ROW()-52,Projecten!$I$2:$I$187,'Natuurvrij max'!G$1) -> 0 | H55: =COUNTIFS(Projecten!$F$2:$F$187,"Bolwerk "&ROW()-52,Projecten!$I$2:$I$187,'Natuurvrij max'!H$1) -> 0 | I55: =COUNTIFS(Projecten!$F$2:$F$187,"Bolwerk "&ROW()-52,Projecten!$I$2:$I$187,'Natuurvrij max'!I$1) -> 0 | J55: =COUNTIFS(Projecten!$F$2:$F$187,"Bolwerk "&ROW()-52,Projecten!$I$2:$I$187,'Natuurvrij max'!J$1) -> 0 | K55: =COUNTIFS(Projecten!$F$2:$F$187,"Bolwerk "&ROW()-52,Projecten!$I$2:$I$187,'Natuurvrij max'!K$1) -> 0 | L55: =COUNTIFS(Projecten!$F$2:$F$187,"Bolwerk "&ROW()-52,Projecten!$I$2:$I$187,'Natuurvrij max'!L$1) -> 0 | M55: =COUNTIFS(Projecten!$F$2:$F$187,"Bolwerk "&ROW()-52,Projecten!$I$2:$I$187,'Natuurvrij max'!M$1) -> 0 | N55: =COUNTIFS(Projecten!$F$2:$F$187,"Bolwerk "&ROW()-52,Projecten!$I$2:$I$187,'Natuurvrij max'!N$1) -> 0
A56: Bolwerk mus | B56: #4 | C56: 4 | D56: 105 | E56: 52 | F56: =IF(MAX(G56:N56)>E56,"Overschrijding !!!",IF(E56-MAX(G56:N56)<=1,"Kwetsbaar","Geen overschrijding")) -> Geen overschrijding | G56: =COUNTIFS(Projecten!$F$2:$F$187,"Bolwerk "&ROW()-52,Projecten!$I$2:$I$187,'Natuurvrij max'!G$1) -> 0 | H56: =COUNTIFS(Projecten!$F$2:$F$187,"Bolwerk "&ROW()-52,Projecten!$I$2:$I$187,'Natuurvrij max'!H$1) -> 0 | I56: =COUNTIFS(Projecten!$F$2:$F$187,"Bolwerk "&ROW()-52,Projecten!$I$2:$I$187,'Natuurvrij max'!I$1) -> 0 | J56: =COUNTIFS(Projecten!$F$2:$F$187,"Bolwerk "&ROW()-52,Projecten!$I$2:$I$187,'Natuurvrij max'!J$1) -> 0 | K56: =COUNTIFS(Projecten!$F$2:$F$187,"Bolwerk "&ROW()-52,Projecten!$I$2:$I$187,'Natuurvrij max'!K$1) -> 0 | L56: =COUNTIFS(Projecten!$F$2:$F$187,"Bolwerk "&ROW()-52,Projecten!$I$2:$I$187,'Natuurvrij max'!L$1) -> 0 | M56: =COUNTIFS(Projecten!$F$2:$F$187,"Bolwerk "&ROW()-52,Projecten!$I$2:$I$187,'Natuurvrij max'!M$1) -> 0 | N56: =COUNTIFS(Projecten!$F$2:$F$187,"Bolwerk "&ROW()-52,Projecten!$I$2:$I$187,'Natuurvrij max'!N$1) -> 0
A57: Bolwerk mus | B57: #5 | C57: 31 | D57: 151 | E57: 37 | F57: =IF(MAX(G57:N57)>E57,"Overschrijding !!!",IF(E57-MAX(G57:N57)<=1,"Kwetsbaar","Geen overschrijding")) -> Geen overschrijding | G57: =COUNTIFS(Projecten!$F$2:$F$187,"Bolwerk "&ROW()-52,Projecten!$I$2:$I$187,'Natuurvrij max'!G$1) -> 0 | H57: =COUNTIFS(Projecten!$F$2:$F$187,"Bolwerk "&ROW()-52,Projecten!$I$2:$I$187,'Natuurvrij max'!H$1) -> 0 | I57: =COUNTIFS(Projecten!$F$2:$F$187,"Bolwerk "&ROW()-52,Projecten!$I$2:$I$187,'Natuurvrij max'!I$1) -> 0 | J57: =COUNTIFS(Projecten!$F$2:$F$187,"Bolwerk "&ROW()-52,Projecten!$I$2:$I$187,'Natuurvrij max'!J$1) -> 0 | K57: =COUNTIFS(Projecten!$F$2:$F$187,"Bolwerk "&ROW()-52,Projecten!$I$2:$I$187,'Natuurvrij max'!K$1) -> 0 | L57: =COUNTIFS(Projecten!$F$2:$F$187,"Bolwerk "&ROW()-52,Projecten!$I$2:$I$187,'Natuurvrij max'!L$1) -> 0 | M57: =COUNTIFS(Projecten!$F$2:$F$187,"Bolwerk "&ROW()-52,Projecten!$I$2:$I$187,'Natuurvrij max'!M$1) -> 0 | N57: =COUNTIFS(Projecten!$F$2:$F$187,"Bolwerk "&ROW()-52,Projecten!$I$2:$I$187,'Natuurvrij max'!N$1) -> 0
A58: Bolwerk mus | B58: #6 | C58: 11 | D58: 63 | E58: 15 | F58: =IF(MAX(G58:N58)>E58,"Overschrijding !!!",IF(E58-MAX(G58:N58)<=1,"Kwetsbaar","Geen overschrijding")) -> Geen overschrijding | G58: =COUNTIFS(Projecten!$F$2:$F$187,"Bolwerk "&ROW()-52,Projecten!$I$2:$I$187,'Natuurvrij max'!G$1) -> 0 | H58: =COUNTIFS(Projecten!$F$2:$F$187,"Bolwerk "&ROW()-52,Projecten!$I$2:$I$187,'Natuurvrij max'!H$1) -> 0 | I58: =COUNTIFS(Projecten!$F$2:$F$187,"Bolwerk "&ROW()-52,Projecten!$I$2:$I$187,'Natuurvrij max'!I$1) -> 0 | J58: =COUNTIFS(Projecten!$F$2:$F$187,"Bolwerk "&ROW()-52,Projecten!$I$2:$I$187,'Natuurvrij max'!J$1) -> 0 | K58: =COUNTIFS(Projecten!$F$2:$F$187,"Bolwerk "&ROW()-52,Projecten!$I$2:$I$187,'Natuurvrij max'!K$1) -> 0 | L58: =COUNTIFS(Projecten!$F$2:$F$187,"Bolwerk "&ROW()-52,Projecten!$I$2:$I$187,'Natuurvrij max'!L$1) -> 0 | M58: =COUNTIFS(Projecten!$F$2:$F$187,"Bolwerk "&ROW()-52,Projecten!$I$2:$I$187,'Natuurvrij max'!M$1) -> 0 | N58: =COUNTIFS(Projecten!$F$2:$F$187,"Bolwerk "&ROW()-52,Projecten!$I$2:$I$187,'Natuurvrij max'!N$1) -> 0
A59: Bolwerk mus | B59: #7 | C59: 68 | D59: 85 | E59: 21 | F59: =IF(MAX(G59:N59)>E59,"Overschrijding !!!",IF(E59-MAX(G59:N59)<=1,"Kwetsbaar","Geen overschrijding")) -> Geen overschrijding | G59: =COUNTIFS(Projecten!$F$2:$F$187,"Bolwerk "&ROW()-52,Projecten!$I$2:$I$187,'Natuurvrij max'!G$1) -> 0 | H59: =COUNTIFS(Projecten!$F$2:$F$187,"Bolwerk "&ROW()-52,Projecten!$I$2:$I$187,'Natuurvrij max'!H$1) -> 0 | I59: =COUNTIFS(Projecten!$F$2:$F$187,"Bolwerk "&ROW()-52,Projecten!$I$2:$I$187,'Natuurvrij max'!I$1) -> 0 | J59: =COUNTIFS(Projecten!$F$2:$F$187,"Bolwerk "&ROW()-52,Projecten!$I$2:$I$187,'Natuurvrij max'!J$1) -> 0 | K59: =COUNTIFS(Projecten!$F$2:$F$187,"Bolwerk "&ROW()-52,Projecten!$I$2:$I$187,'Natuurvrij max'!K$1) -> 0 | L59: =COUNTIFS(Projecten!$F$2:$F$187,"Bolwerk "&ROW()-52,Projecten!$I$2:$I$187,'Natuurvrij max'!L$1) -> 0 | M59: =COUNTIFS(Projecten!$F$2:$F$187,"Bolwerk "&ROW()-52,Projecten!$I$2:$I$187,'Natuurvrij max'!M$1) -> 0 | N59: =COUNTIFS(Projecten!$F$2:$F$187,"Bolwerk "&ROW()-52,Projecten!$I$2:$I$187,'Natuurvrij max'!N$1) -> 0
A60: Bolwerk mus | B60: #8 | C60: 68 | D60: 521 | E60: 130 | F60: =IF(MAX(G60:N60)>E60,"Overschrijding !!!",IF(E60-MAX(G60:N60)<=1,"Kwetsbaar","Geen overschrijding")) -> Geen overschrijding | G60: =COUNTIFS(Projecten!$F$2:$F$187,"Bolwerk "&ROW()-52,Projecten!$I$2:$I$187,'Natuurvrij max'!G$1) -> 0 | H60: =COUNTIFS(Projecten!$F$2:$F$187,"Bolwerk "&ROW()-52,Projecten!$I$2:$I$187,'Natuurvrij max'!H$1) -> 0 | I60: =COUNTIFS(Projecten!$F$2:$F$187,"Bolwerk "&ROW()-52,Projecten!$I$2:$I$187,'Natuurvrij max'!I$1) -> 0 | J60: =COUNTIFS(Projecten!$F$2:$F$187,"Bolwerk "&ROW()-52,Projecten!$I$2:$I$187,'Natuurvrij max'!J$1) -> 0 | K60: =COUNTIFS(Projecten!$F$2:$F$187,"Bolwerk "&ROW()-52,Projecten!$I$2:$I$187,'Natuurvrij max'!K$1) -> 0 | L60: =COUNTIFS(Projecten!$F$2:$F$187,"Bolwerk "&ROW()-52,Projecten!$I$2:$I$187,'Natuurvrij max'!L$1) -> 0 | M60: =COUNTIFS(Projecten!$F$2:$F$187,"Bolwerk "&ROW()-52,Projecten!$I$2:$I$187,'Natuurvrij max'!M$1) -> 0 | N60: =COUNTIFS(Projecten!$F$2:$F$187,"Bolwerk "&ROW()-52,Projecten!$I$2:$I$187,'Natuurvrij max'!N$1) -> 0
A61: Bolwerk mus | B61: #9 | C61: 25 | D61: 88 | E61: 22 | F61: =IF(MAX(G61:N61)>E61,"Overschrijding !!!",IF(E61-MAX(G61:N61)<=1,"Kwetsbaar","Geen overschrijding")) -> Geen overschrijding | G61: =COUNTIFS(Projecten!$F$2:$F$187,"Bolwerk "&ROW()-52,Projecten!$I$2:$I$187,'Natuurvrij max'!G$1) -> 0 | H61: =COUNTIFS(Projecten!$F$2:$F$187,"Bolwerk "&ROW()-52,Projecten!$I$2:$I$187,'Natuurvrij max'!H$1) -> 0 | I61: =COUNTIFS(Projecten!$F$2:$F$187,"Bolwerk "&ROW()-52,Projecten!$I$2:$I$187,'Natuurvrij max'!I$1) -> 0 | J61: =COUNTIFS(Projecten!$F$2:$F$187,"Bolwerk "&ROW()-52,Projecten!$I$2:$I$187,'Natuurvrij max'!J$1) -> 0 | K61: =COUNTIFS(Projecten!$F$2:$F$187,"Bolwerk "&ROW()-52,Projecten!$I$2:$I$187,'Natuurvrij max'!K$1) -> 0 | L61: =COUNTIFS(Projecten!$F$2:$F$187,"Bolwerk "&ROW()-52,Projecten!$I$2:$I$187,'Natuurvrij max'!L$1) -> 0 | M61: =COUNTIFS(Projecten!$F$2:$F$187,"Bolwerk "&ROW()-52,Projecten!$I$2:$I$187,'Natuurvrij max'!M$1) -> 0 | N61: =COUNTIFS(Projecten!$F$2:$F$187,"Bolwerk "&ROW()-52,Projecten!$I$2:$I$187,'Natuurvrij max'!N$1) -> 0
A62: Bolwerk mus | B62: #10 | C62: 10 | D62: 204 | E62: 51 | F62: =IF(MAX(G62:N62)>E62,"Overschrijding !!!",IF(E62-MAX(G62:N62)<=1,"Kwetsbaar","Geen overschrijding")) -> Geen overschrijding | G62: =COUNTIFS(Projecten!$F$2:$F$187,"Bolwerk "&ROW()-52,Projecten!$I$2:$I$187,'Natuurvrij max'!G$1) -> 0 | H62: =COUNTIFS(Projecten!$F$2:$F$187,"Bolwerk "&ROW()-52,Projecten!$I$2:$I$187,'Natuurvrij max'!H$1) -> 0 | I62: =COUNTIFS(Projecten!$F$2:$F$187,"Bolwerk "&ROW()-52,Projecten!$I$2:$I$187,'Natuurvrij max'!I$1) -> 0 | J62: =COUNTIFS(Projecten!$F$2:$F$187,"Bolwerk "&ROW()-52,Projecten!$I$2:$I$187,'Natuurvrij max'!J$1) -> 0 | K62: =COUNTIFS(Projecten!$F$2:$F$187,"Bolwerk "&ROW()-52,Projecten!$I$2:$I$187,'Natuurvrij max'!K$1) -> 0 | L62: =COUNTIFS(Projecten!$F$2:$F$187,"Bolwerk "&ROW()-52,Projecten!$I$2:$I$187,'Natuurvrij max'!L$1) -> 0 | M62: =COUNTIFS(Projecten!$F$2:$F$187,"Bolwerk "&ROW()-52,Projecten!$I$2:$I$187,'Natuurvrij max'!M$1) -> 0 | N62: =COUNTIFS(Projecten!$F$2:$F$187,"Bolwerk "&ROW()-52,Projecten!$I$2:$I$187,'Natuurvrij max'!N$1) -> 0
A63: Bolwerk mus | B63: #11 | C63: 1 | D63: 25 | E63: 12 | F63: =IF(MAX(G63:N63)>E63,"Overschrijding !!!",IF(E63-MAX(G63:N63)<=1,"Kwetsbaar","Geen overschrijding")) -> Geen overschrijding | G63: =COUNTIFS(Projecten!$F$2:$F$187,"Bolwerk "&ROW()-52,Projecten!$I$2:$I$187,'Natuurvrij max'!G$1) -> 0 | H63: =COUNTIFS(Projecten!$F$2:$F$187,"Bolwerk "&ROW()-52,Projecten!$I$2:$I$187,'Natuurvrij max'!H$1) -> 0 | I63: =COUNTIFS(Projecten!$F$2:$F$187,"Bolwerk "&ROW()-52,Projecten!$I$2:$I$187,'Natuurvrij max'!I$1) -> 0 | J63: =COUNTIFS(Projecten!$F$2:$F$187,"Bolwerk "&ROW()-52,Projecten!$I$2:$I$187,'Natuurvrij max'!J$1) -> 0 | K63: =COUNTIFS(Projecten!$F$2:$F$187,"Bolwerk "&ROW()-52,Projecten!$I$2:$I$187,'Natuurvrij max'!K$1) -> 0 | L63: =COUNTIFS(Projecten!$F$2:$F$187,"Bolwerk "&ROW()-52,Projecten!$I$2:$I$187,'Natuurvrij max'!L$1) -> 0 | M63: =COUNTIFS(Projecten!$F$2:$F$187,"Bolwerk "&ROW()-52,Projecten!$I$2:$I$187,'Natuurvrij max'!M$1) -> 0 | N63: =COUNTIFS(Projecten!$F$2:$F$187,"Bolwerk "&ROW()-52,Projecten!$I$2:$I$187,'Natuurvrij max'!N$1) -> 0
A64: Bolwerk mus | B64: #12 | C64: 7 | D64: 11 | E64: 5 | F64: =IF(MAX(G64:N64)>E64,"Overschrijding !!!",IF(E64-MAX(G64:N64)<=1,"Kwetsbaar","Geen overschrijding")) -> Geen overschrijding | G64: =COUNTIFS(Projecten!$F$2:$F$187,"Bolwerk "&ROW()-52,Projecten!$I$2:$I$187,'Natuurvrij max'!G$1) -> 0 | H64: =COUNTIFS(Projecten!$F$2:$F$187,"Bolwerk "&ROW()-52,Projecten!$I$2:$I$187,'Natuurvrij max'!H$1) -> 0 | I64: =COUNTIFS(Projecten!$F$2:$F$187,"Bolwerk "&ROW()-52,Projecten!$I$2:$I$187,'Natuurvrij max'!I$1) -> 0 | J64: =COUNTIFS(Projecten!$F$2:$F$187,"Bolwerk "&ROW()-52,Projecten!$I$2:$I$187,'Natuurvrij max'!J$1) -> 0 | K64: =COUNTIFS(Projecten!$F$2:$F$187,"Bolwerk "&ROW()-52,Projecten!$I$2:$I$187,'Natuurvrij max'!K$1) -> 0 | L64: =COUNTIFS(Projecten!$F$2:$F$187,"Bolwerk "&ROW()-52,Projecten!$I$2:$I$187,'Natuurvrij max'!L$1) -> 0 | M64: =COUNTIFS(Projecten!$F$2:$F$187,"Bolwerk "&ROW()-52,Projecten!$I$2:$I$187,'Natuurvrij max'!M$1) -> 0 | N64: =COUNTIFS(Projecten!$F$2:$F$187,"Bolwerk "&ROW()-52,Projecten!$I$2:$I$187,'Natuurvrij max'!N$1) -> 0
... A79: Bolwerk mus | B79: #27 | C79: 7 | D79: 15 | E79: 7 | F79: =IF(MAX(G79:N79)>E79,"Overschrijding !!!",IF(E79-MAX(G79:N79)<=1,"Kwetsbaar","Geen overschrijding")) -> Geen overschrijding | G79: =COUNTIFS(Projecten!$F$2:$F$187,"Bolwerk "&ROW()-52,Projecten!$I$2:$I$187,'Natuurvrij max'!G$1) -> 0 | H79: =COUNTIFS(Projecten!$F$2:$F$187,"Bolwerk "&ROW()-52,Projecten!$I$2:$I$187,'Natuurvrij max'!H$1) -> 0 | I79: =COUNTIFS(Projecten!$F$2:$F$187,"Bolwerk "&ROW()-52,Projecten!$I$2:$I$187,'Natuurvrij max'!I$1) -> 0 | J79: =COUNTIFS(Projecten!$F$2:$F$187,"Bolwerk "&ROW()-52,Projecten!$I$2:$I$187,'Natuurvrij max'!J$1) -> 0 | K79: =COUNTIFS(Projecten!$F$2:$F$187,"Bolwerk "&ROW()-52,Projecten!$I$2:$I$187,'Natuurvrij max'!K$1) -> 0 | L79: =COUNTIFS(Projecten!$F$2:$F$187,"Bolwerk "&ROW()-52,Projecten!$I$2:$I$187,'Natuurvrij max'!L$1) -> 0 | M79: =COUNTIFS(Projecten!$F$2:$F$187,"Bolwerk "&ROW()-52,Projecten!$I$2:$I$187,'Natuurvrij max'!M$1) -> 0 | N79: =COUNTIFS(Projecten!$F$2:$F$187,"Bolwerk "&ROW()-52,Projecten!$I$2:$I$187,'Natuurvrij max'!N$1) -> 0
A80: Bolwerk zwaluw | B80: #1 (Kaartviewer: 1) | C80: ??? | D80: 397 | E80: 99 | F80: =IF(MAX(G80:N80)>E80,"Overschrijding !!!",IF(E80-MAX(G80:N80)<=1,"Kwetsbaar","Geen overschrijding")) -> Geen overschrijding | G80: =COUNTIFS(Projecten!$G$2:$G$187,"Bolwerk "&ROW()-79,Projecten!$I$2:$I$187,'Natuurvrij max'!G$1) -> 0 | H80: =COUNTIFS(Projecten!$G$2:$G$187,"Bolwerk "&ROW()-79,Projecten!$I$2:$I$187,'Natuurvrij max'!H$1) -> 0 | I80: =COUNTIFS(Projecten!$G$2:$G$187,"Bolwerk "&ROW()-79,Projecten!$I$2:$I$187,'Natuurvrij max'!I$1) -> 0 | J80: =COUNTIFS(Projecten!$G$2:$G$187,"Bolwerk "&ROW()-79,Projecten!$I$2:$I$187,'Natuurvrij max'!J$1) -> 0 | K80: =COUNTIFS(Projecten!$G$2:$G$187,"Bolwerk "&ROW()-79,Projecten!$I$2:$I$187,'Natuurvrij max'!K$1) -> 0 | L80: =COUNTIFS(Projecten!$G$2:$G$187,"Bolwerk "&ROW()-79,Projecten!$I$2:$I$187,'Natuurvrij max'!L$1) -> 0 | M80: =COUNTIFS(Projecten!$G$2:$G$187,"Bolwerk "&ROW()-79,Projecten!$I$2:$I$187,'Natuurvrij max'!M$1) -> 0 | N80: =COUNTIFS(Projecten!$G$2:$G$187,"Bolwerk "&ROW()-79,Projecten!$I$2:$I$187,'Natuurvrij max'!N$1) -> 0
A81: Bolwerk zwaluw | B81: #2 (Kaartviewer: 2) | C81: ??? | D81: 504 | E81: 126 | F81: =IF(MAX(G81:N81)>E81,"Overschrijding !!!",IF(E81-MAX(G81:N81)<=1,"Kwetsbaar","Geen overschrijding")) -> Geen overschrijding | G81: =COUNTIFS(Projecten!$G$2:$G$187,"Bolwerk "&ROW()-79,Projecten!$I$2:$I$187,'Natuurvrij max'!G$1) -> 0 | H81: =COUNTIFS(Projecten!$G$2:$G$187,"Bolwerk "&ROW()-79,Projecten!$I$2:$I$187,'Natuurvrij max'!H$1) -> 0 | I81: =COUNTIFS(Projecten!$G$2:$G$187,"Bolwerk "&ROW()-79,Projecten!$I$2:$I$187,'Natuurvrij max'!I$1) -> 1 | J81: =COUNTIFS(Projecten!$G$2:$G$187,"Bolwerk "&ROW()-79,Projecten!$I$2:$I$187,'Natuurvrij max'!J$1) -> 0 | K81: =COUNTIFS(Projecten!$G$2:$G$187,"Bolwerk "&ROW()-79,Projecten!$I$2:$I$187,'Natuurvrij max'!K$1) -> 0 | L81: =COUNTIFS(Projecten!$G$2:$G$187,"Bolwerk "&ROW()-79,Projecten!$I$2:$I$187,'Natuurvrij max'!L$1) -> 0 | M81: =COUNTIFS(Projecten!$G$2:$G$187,"Bolwerk "&ROW()-79,Projecten!$I$2:$I$187,'Natuurvrij max'!M$1) -> 0 | N81: =COUNTIFS(Projecten!$G$2:$G$187,"Bolwerk "&ROW()-79,Projecten!$I$2:$I$187,'Natuurvrij max'!N$1) -> 0
A82: Bolwerk zwaluw | B82: #3 (Kaartviewer: 7) | C82: ??? | D82: 214 | E82: 53 | F82: =IF(MAX(G82:N82)>E82,"Overschrijding !!!",IF(E82-MAX(G82:N82)<=1,"Kwetsbaar","Geen overschrijding")) -> Geen overschrijding | G82: =COUNTIFS(Projecten!$G$2:$G$187,"Bolwerk "&ROW()-79,Projecten!$I$2:$I$187,'Natuurvrij max'!G$1) -> 0 | H82: =COUNTIFS(Projecten!$G$2:$G$187,"Bolwerk "&ROW()-79,Projecten!$I$2:$I$187,'Natuurvrij max'!H$1) -> 0 | I82: =COUNTIFS(Projecten!$G$2:$G$187,"Bolwerk "&ROW()-79,Projecten!$I$2:$I$187,'Natuurvrij max'!I$1) -> 0 | J82: =COUNTIFS(Projecten!$G$2:$G$187,"Bolwerk "&ROW()-79,Projecten!$I$2:$I$187,'Natuurvrij max'!J$1) -> 0 | K82: =COUNTIFS(Projecten!$G$2:$G$187,"Bolwerk "&ROW()-79,Projecten!$I$2:$I$187,'Natuurvrij max'!K$1) -> 0 | L82: =COUNTIFS(Projecten!$G$2:$G$187,"Bolwerk "&ROW()-79,Projecten!$I$2:$I$187,'Natuurvrij max'!L$1) -> 0 | M82: =COUNTIFS(Projecten!$G$2:$G$187,"Bolwerk "&ROW()-79,Projecten!$I$2:$I$187,'Natuurvrij max'!M$1) -> 0 | N82: =COUNTIFS(Projecten!$G$2:$G$187,"Bolwerk "&ROW()-79,Projecten!$I$2:$I$187,'Natuurvrij max'!N$1) -> 0
A83: Bolwerk zwaluw | B83: #4 (Kaartviewer: 8) | C83: ??? | D83: 353 | E83: 88 | F83: =IF(MAX(G83:N83)>E83,"Overschrijding !!!",IF(E83-MAX(G83:N83)<=1,"Kwetsbaar","Geen overschrijding")) -> Geen overschrijding | G83: =COUNTIFS(Projecten!$G$2:$G$187,"Bolwerk "&ROW()-79,Projecten!$I$2:$I$187,'Natuurvrij max'!G$1) -> 0 | H83: =COUNTIFS(Projecten!$G$2:$G$187,"Bolwerk "&ROW()-79,Projecten!$I$2:$I$187,'Natuurvrij max'!H$1) -> 0 | I83: =COUNTIFS(Projecten!$G$2:$G$187,"Bolwerk "&ROW()-79,Projecten!$I$2:$I$187,'Natuurvrij max'!I$1) -> 0 | J83: =COUNTIFS(Projecten!$G$2:$G$187,"Bolwerk "&ROW()-79,Projecten!$I$2:$I$187,'Natuurvrij max'!J$1) -> 0 | K83: =COUNTIFS(Projecten!$G$2:$G$187,"Bolwerk "&ROW()-79,Projecten!$I$2:$I$187,'Natuurvrij max'!K$1) -> 0 | L83: =COUNTIFS(Projecten!$G$2:$G$187,"Bolwerk "&ROW()-79,Projecten!$I$2:$I$187,'Natuurvrij max'!L$1) -> 0 | M83: =COUNTIFS(Projecten!$G$2:$G$187,"Bolwerk "&ROW()-79,Projecten!$I$2:$I$187,'Natuurvrij max'!M$1) -> 0 | N83: =COUNTIFS(Projecten!$G$2:$G$187,"Bolwerk "&ROW()-79,Projecten!$I$2:$I$187,'Natuurvrij max'!N$1) -> 0
A84: Bolwerk zwaluw | B84: #5 (Kaartviewer: 11) | C84: ??? | D84: 19 | E84: 4 | F84: =IF(MAX(G84:N84)>E84,"Overschrijding !!!",IF(E84-MAX(G84:N84)<=1,"Kwetsbaar","Geen overschrijding")) -> Geen overschrijding | G84: =COUNTIFS(Projecten!$G$2:$G$187,"Bolwerk "&ROW()-79,Projecten!$I$2:$I$187,'Natuurvrij max'!G$1) -> 0 | H84: =COUNTIFS(Projecten!$G$2:$G$187,"Bolwerk "&ROW()-79,Projecten!$I$2:$I$187,'Natuurvrij max'!H$1) -> 0 | I84: =COUNTIFS(Projecten!$G$2:$G$187,"Bolwerk "&ROW()-79,Projecten!$I$2:$I$187,'Natuurvrij max'!I$1) -> 0 | J84: =COUNTIFS(Projecten!$G$2:$G$187,"Bolwerk "&ROW()-79,Projecten!$I$2:$I$187,'Natuurvrij max'!J$1) -> 0 | K84: =COUNTIFS(Projecten!$G$2:$G$187,"Bolwerk "&ROW()-79,Projecten!$I$2:$I$187,'Natuurvrij max'!K$1) -> 0 | L84: =COUNTIFS(Projecten!$G$2:$G$187,"Bolwerk "&ROW()-79,Projecten!$I$2:$I$187,'Natuurvrij max'!L$1) -> 0 | M84: =COUNTIFS(Projecten!$G$2:$G$187,"Bolwerk "&ROW()-79,Projecten!$I$2:$I$187,'Natuurvrij max'!M$1) -> 0 | N84: =COUNTIFS(Projecten!$G$2:$G$187,"Bolwerk "&ROW()-79,Projecten!$I$2:$I$187,'Natuurvrij max'!N$1) -> 0
A85: Bolwerk zwaluw | B85: #6 (Kaartviewer: 12) | C85: ??? | D85: 81 | E85: 20 | F85: =IF(MAX(G85:N85)>E85,"Overschrijding !!!",IF(E85-MAX(G85:N85)<=1,"Kwetsbaar","Geen overschrijding")) -> Geen overschrijding | G85: =COUNTIFS(Projecten!$G$2:$G$187,"Bolwerk "&ROW()-79,Projecten!$I$2:$I$187,'Natuurvrij max'!G$1) -> 0 | H85: =COUNTIFS(Projecten!$G$2:$G$187,"Bolwerk "&ROW()-79,Projecten!$I$2:$I$187,'Natuurvrij max'!H$1) -> 0 | I85: =COUNTIFS(Projecten!$G$2:$G$187,"Bolwerk "&ROW()-79,Projecten!$I$2:$I$187,'Natuurvrij max'!I$1) -> 0 | J85: =COUNTIFS(Projecten!$G$2:$G$187,"Bolwerk "&ROW()-79,Projecten!$I$2:$I$187,'Natuurvrij max'!J$1) -> 0 | K85: =COUNTIFS(Projecten!$G$2:$G$187,"Bolwerk "&ROW()-79,Projecten!$I$2:$I$187,'Natuurvrij max'!K$1) -> 0 | L85: =COUNTIFS(Projecten!$G$2:$G$187,"Bolwerk "&ROW()-79,Projecten!$I$2:$I$187,'Natuurvrij max'!L$1) -> 0 | M85: =COUNTIFS(Projecten!$G$2:$G$187,"Bolwerk "&ROW()-79,Projecten!$I$2:$I$187,'Natuurvrij max'!M$1) -> 0 | N85: =COUNTIFS(Projecten!$G$2:$G$187,"Bolwerk "&ROW()-79,Projecten!$I$2:$I$187,'Natuurvrij max'!N$1) -> 0
A86: Bolwerk zwaluw | B86: #7 (Kaartviewer: 3) | C86: ??? | D86: 158 | E86: 39 | F86: =IF(MAX(G86:N86)>E86,"Overschrijding !!!",IF(E86-MAX(G86:N86)<=1,"Kwetsbaar","Geen overschrijding")) -> Geen overschrijding | G86: =COUNTIFS(Projecten!$G$2:$G$187,"Bolwerk "&ROW()-79,Projecten!$I$2:$I$187,'Natuurvrij max'!G$1) -> 0 | H86: =COUNTIFS(Projecten!$G$2:$G$187,"Bolwerk "&ROW()-79,Projecten!$I$2:$I$187,'Natuurvrij max'!H$1) -> 0 | I86: =COUNTIFS(Projecten!$G$2:$G$187,"Bolwerk "&ROW()-79,Projecten!$I$2:$I$187,'Natuurvrij max'!I$1) -> 0 | J86: =COUNTIFS(Projecten!$G$2:$G$187,"Bolwerk "&ROW()-79,Projecten!$I$2:$I$187,'Natuurvrij max'!J$1) -> 0 | K86: =COUNTIFS(Projecten!$G$2:$G$187,"Bolwerk "&ROW()-79,Projecten!$I$2:$I$187,'Natuurvrij max'!K$1) -> 0 | L86: =COUNTIFS(Projecten!$G$2:$G$187,"Bolwerk "&ROW()-79,Projecten!$I$2:$I$187,'Natuurvrij max'!L$1) -> 0 | M86: =COUNTIFS(Projecten!$G$2:$G$187,"Bolwerk "&ROW()-79,Projecten!$I$2:$I$187,'Natuurvrij max'!M$1) -> 0 | N86: =COUNTIFS(Projecten!$G$2:$G$187,"Bolwerk "&ROW()-79,Projecten!$I$2:$I$187,'Natuurvrij max'!N$1) -> 0
A87: Bolwerk zwaluw | B87: #8 (Kaartviewer: 4) | C87: ??? | D87: 84 | E87: 21 | F87: =IF(MAX(G87:N87)>E87,"Overschrijding !!!",IF(E87-MAX(G87:N87)<=1,"Kwetsbaar","Geen overschrijding")) -> Geen overschrijding | G87: =COUNTIFS(Projecten!$G$2:$G$187,"Bolwerk "&ROW()-79,Projecten!$I$2:$I$187,'Natuurvrij max'!G$1) -> 0 | H87: =COUNTIFS(Projecten!$G$2:$G$187,"Bolwerk "&ROW()-79,Projecten!$I$2:$I$187,'Natuurvrij max'!H$1) -> 0 | I87: =COUNTIFS(Projecten!$G$2:$G$187,"Bolwerk "&ROW()-79,Projecten!$I$2:$I$187,'Natuurvrij max'!I$1) -> 0 | J87: =COUNTIFS(Projecten!$G$2:$G$187,"Bolwerk "&ROW()-79,Projecten!$I$2:$I$187,'Natuurvrij max'!J$1) -> 0 | K87: =COUNTIFS(Projecten!$G$2:$G$187,"Bolwerk "&ROW()-79,Projecten!$I$2:$I$187,'Natuurvrij max'!K$1) -> 0 | L87: =COUNTIFS(Projecten!$G$2:$G$187,"Bolwerk "&ROW()-79,Projecten!$I$2:$I$187,'Natuurvrij max'!L$1) -> 0 | M87: =COUNTIFS(Projecten!$G$2:$G$187,"Bolwerk "&ROW()-79,Projecten!$I$2:$I$187,'Natuurvrij max'!M$1) -> 0 | N87: =COUNTIFS(Projecten!$G$2:$G$187,"Bolwerk "&ROW()-79,Projecten!$I$2:$I$187,'Natuurvrij max'!N$1) -> 0
A88: Bolwerk zwaluw | B88: #9 (Kaartviewer: 5) | C88: ??? | D88: 489 | E88: 122 | F88: =IF(MAX(G88:N88)>E88,"Overschrijding !!!",IF(E88-MAX(G88:N88)<=1,"Kwetsbaar","Geen overschrijding")) -> Geen overschrijding | G88: =COUNTIFS(Projecten!$G$2:$G$187,"Bolwerk "&ROW()-79,Projecten!$I$2:$I$187,'Natuurvrij max'!G$1) -> 0 | H88: =COUNTIFS(Projecten!$G$2:$G$187,"Bolwerk "&ROW()-79,Projecten!$I$2:$I$187,'Natuurvrij max'!H$1) -> 0 | I88: =COUNTIFS(Projecten!$G$2:$G$187,"Bolwerk "&ROW()-79,Projecten!$I$2:$I$187,'Natuurvrij max'!I$1) -> 0 | J88: =COUNTIFS(Projecten!$G$2:$G$187,"Bolwerk "&ROW()-79,Projecten!$I$2:$I$187,'Natuurvrij max'!J$1) -> 0 | K88: =COUNTIFS(Projecten!$G$2:$G$187,"Bolwerk "&ROW()-79,Projecten!$I$2:$I$187,'Natuurvrij max'!K$1) -> 0 | L88: =COUNTIFS(Projecten!$G$2:$G$187,"Bolwerk "&ROW()-79,Projecten!$I$2:$I$187,'Natuurvrij max'!L$1) -> 0 | M88: =COUNTIFS(Projecten!$G$2:$G$187,"Bolwerk "&ROW()-79,Projecten!$I$2:$I$187,'Natuurvrij max'!M$1) -> 0 | N88: =COUNTIFS(Projecten!$G$2:$G$187,"Bolwerk "&ROW()-79,Projecten!$I$2:$I$187,'Natuurvrij max'!N$1) -> 0
A89: Bolwerk zwaluw | B89: #10 (Kaartviewer: 13) | C89: ??? | D89: 61 | E89: 15 | F89: =IF(MAX(G89:N89)>E89,"Overschrijding !!!",IF(E89-MAX(G89:N89)<=1,"Kwetsbaar","Geen overschrijding")) -> Geen overschrijding | G89: =COUNTIFS(Projecten!$G$2:$G$187,"Bolwerk "&ROW()-79,Projecten!$I$2:$I$187,'Natuurvrij max'!G$1) -> 0 | H89: =COUNTIFS(Projecten!$G$2:$G$187,"Bolwerk "&ROW()-79,Projecten!$I$2:$I$187,'Natuurvrij max'!H$1) -> 0 | I89: =COUNTIFS(Projecten!$G$2:$G$187,"Bolwerk "&ROW()-79,Projecten!$I$2:$I$187,'Natuurvrij max'!I$1) -> 0 | J89: =COUNTIFS(Projecten!$G$2:$G$187,"Bolwerk "&ROW()-79,Projecten!$I$2:$I$187,'Natuurvrij max'!J$1) -> 0 | K89: =COUNTIFS(Projecten!$G$2:$G$187,"Bolwerk "&ROW()-79,Projecten!$I$2:$I$187,'Natuurvrij max'!K$1) -> 0 | L89: =COUNTIFS(Projecten!$G$2:$G$187,"Bolwerk "&ROW()-79,Projecten!$I$2:$I$187,'Natuurvrij max'!L$1) -> 0 | M89: =COUNTIFS(Projecten!$G$2:$G$187,"Bolwerk "&ROW()-79,Projecten!$I$2:$I$187,'Natuurvrij max'!M$1) -> 0 | N89: =COUNTIFS(Projecten!$G$2:$G$187,"Bolwerk "&ROW()-79,Projecten!$I$2:$I$187,'Natuurvrij max'!N$1) -> 0
A90: Bolwerk zwaluw | B90: #11 (Kaartviewer: 6) | C90: ??? | D90: 242 | E90: 60 | F90: =IF(MAX(G90:N90)>E90,"Overschrijding !!!",IF(E90-MAX(G90:N90)<=1,"Kwetsbaar","Geen overschrijding")) -> Geen overschrijding | G90: =COUNTIFS(Projecten!$G$2:$G$187,"Bolwerk "&ROW()-79,Projecten!$I$2:$I$187,'Natuurvrij max'!G$1) -> 0 | H90: =COUNTIFS(Projecten!$G$2:$G$187,"Bolwerk "&ROW()-79,Projecten!$I$2:$I$187,'Natuurvrij max'!H$1) -> 0 | I90: =COUNTIFS(Projecten!$G$2:$G$187,"Bolwerk "&ROW()-79,Projecten!$I$2:$I$187,'Natuurvrij max'!I$1) -> 0 | J90: =COUNTIFS(Projecten!$G$2:$G$187,"Bolwerk "&ROW()-79,Projecten!$I$2:$I$187,'Natuurvrij max'!J$1) -> 0 | K90: =COUNTIFS(Projecten!$G$2:$G$187,"Bolwerk "&ROW()-79,Projecten!$I$2:$I$187,'Natuurvrij max'!K$1) -> 0 | L90: =COUNTIFS(Projecten!$G$2:$G$187,"Bolwerk "&ROW()-79,Projecten!$I$2:$I$187,'Natuurvrij max'!L$1) -> 0 | M90: =COUNTIFS(Projecten!$G$2:$G$187,"Bolwerk "&ROW()-79,Projecten!$I$2:$I$187,'Natuurvrij max'!M$1) -> 0 | N90: =COUNTIFS(Projecten!$G$2:$G$187,"Bolwerk "&ROW()-79,Projecten!$I$2:$I$187,'Natuurvrij max'!N$1) -> 0
A91: Bolwerk zwaluw | B91: #12 (Kaartviewer: 14) | C91: ??? | D91: 68 | E91: 17 | F91: =IF(MAX(G91:N91)>E91,"Overschrijding !!!",IF(E91-MAX(G91:N91)<=1,"Kwetsbaar","Geen overschrijding")) -> Geen overschrijding | G91: =COUNTIFS(Projecten!$G$2:$G$187,"Bolwerk "&ROW()-79,Projecten!$I$2:$I$187,'Natuurvrij max'!G$1) -> 0 | H91: =COUNTIFS(Projecten!$G$2:$G$187,"Bolwerk "&ROW()-79,Projecten!$I$2:$I$187,'Natuurvrij max'!H$1) -> 0 | I91: =COUNTIFS(Projecten!$G$2:$G$187,"Bolwerk "&ROW()-79,Projecten!$I$2:$I$187,'Natuurvrij max'!I$1) -> 0 | J91: =COUNTIFS(Projecten!$G$2:$G$187,"Bolwerk "&ROW()-79,Projecten!$I$2:$I$187,'Natuurvrij max'!J$1) -> 0 | K91: =COUNTIFS(Projecten!$G$2:$G$187,"Bolwerk "&ROW()-79,Projecten!$I$2:$I$187,'Natuurvrij max'!K$1) -> 0 | L91: =COUNTIFS(Projecten!$G$2:$G$187,"Bolwerk "&ROW()-79,Projecten!$I$2:$I$187,'Natuurvrij max'!L$1) -> 0 | M91: =COUNTIFS(Projecten!$G$2:$G$187,"Bolwerk "&ROW()-79,Projecten!$I$2:$I$187,'Natuurvrij max'!M$1) -> 0 | N91: =COUNTIFS(Projecten!$G$2:$G$187,"Bolwerk "&ROW()-79,Projecten!$I$2:$I$187,'Natuurvrij max'!N$1) -> 0
... A93: Bolwerk zwaluw | B93: #14 (Kaartviewer: 10) | C93: ??? | D93: 18 | E93: 4 | F93: =IF(MAX(G93:N93)>E93,"Overschrijding !!!",IF(E93-MAX(G93:N93)<=1,"Kwetsbaar","Geen overschrijding")) -> Geen overschrijding | G93: =COUNTIFS(Projecten!$G$2:$G$187,"Bolwerk "&ROW()-79,Projecten!$I$2:$I$187,'Natuurvrij max'!G$1) -> 0 | H93: =COUNTIFS(Projecten!$G$2:$G$187,"Bolwerk "&ROW()-79,Projecten!$I$2:$I$187,'Natuurvrij max'!H$1) -> 0 | I93: =COUNTIFS(Projecten!$G$2:$G$187,"Bolwerk "&ROW()-79,Projecten!$I$2:$I$187,'Natuurvrij max'!I$1) -> 0 | J93: =COUNTIFS(Projecten!$G$2:$G$187,"Bolwerk "&ROW()-79,Projecten!$I$2:$I$187,'Natuurvrij max'!J$1) -> 0 | K93: =COUNTIFS(Projecten!$G$2:$G$187,"Bolwerk "&ROW()-79,Projecten!$I$2:$I$187,'Natuurvrij max'!K$1) -> 0 | L93: =COUNTIFS(Projecten!$G$2:$G$187,"Bolwerk "&ROW()-79,Projecten!$I$2:$I$187,'Natuurvrij max'!L$1) -> 0 | M93: =COUNTIFS(Projecten!$G$2:$G$187,"Bolwerk "&ROW()-79,Projecten!$I$2:$I$187,'Natuurvrij max'!M$1) -> 0 | N93: =COUNTIFS(Projecten!$G$2:$G$187,"Bolwerk "&ROW()-79,Projecten!$I$2:$I$187,'Natuurvrij max'!N$1) -> 0

Sheet Brondata
A1: CombiNeetie | B1: Straat | C1: Huisnummer | D1: Huisletter | E1: Buurt | F1: Wijk | G1: Pandtype | H1: Woonfunctie | I1: Bouwjaar_merge | J1: VvE_ID | K1: Vleermuizen aangetroffen | L1: Bolwerk spreeuw | M1: Bolwerk mus | N1: Bolwerk zwaluw | O1: Energielabel_29_maart_2024 | P1: Energielabel_29_maart_2024_datum | Q1: Zijden onbewoond
A2: Ieplaan 115 | B2: Ieplaan | C2: 115 | E2: Bomenwijk | G2: gestapelde woningen | H2: Ja | I2: 1955 | J2: Ja | K2: Nee | L2: Bolwerk 1 | M2: Bolwerk 1 | N2: Bolwerk 1
A3: Ieplaan 117 | B3: Ieplaan | C3: 117 | E3: Bomenwijk | G3: gestapelde woningen | H3: Ja | I3: 1955 | J3: Ja | K3: Nee | L3: Bolwerk 1 | M3: Bolwerk 1 | N3: Bolwerk 1 | O3: D | P3: 20150110
A4: Ieplaan 119 | B4: Ieplaan | C4: 119 | E4: Bomenwijk | G4: gestapelde woningen | H4: Ja | I4: 1955 | J4: Ja | K4: Nee | L4: Bolwerk 1 | M4: Bolwerk 1 | N4: Bolwerk 1 | O4: D | P4: 20181215
A5: Ieplaan 121 | B5: Ieplaan | C5: 121 | E5: Bomenwijk | G5: gestapelde woningen | H5: Ja | I5: 1955 | J5: Ja | K5: Nee | L5: Bolwerk 1 | M5: Bolwerk 1 | N5: Bolwerk 1
A6: Ieplaan 123 | B6: Ieplaan | C6: 123 | E6: Bomenwijk | G6: gestapelde woningen | H6: Ja | I6: 1955 | J6: Ja | K6: Nee | L6: Bolwerk 1 | M6: Bolwerk 1 | N6: Bolwerk 1
A7: Ieplaan 125 | B7: Ieplaan | C7: 125 | E7: Bomenwijk | G7: gestapelde woningen | H7: Ja | I7: 1955 | J7: Ja | K7: Nee | L7: Bolwerk 1 | M7: Bolwerk 1 | N7: Bolwerk 1 | O7: C | P7: 20241029
A8: Ieplaan 127 | B8: Ieplaan | C8: 127 | E8: Bomenwijk | G8: gestapelde woningen | H8: Ja | I8: 1955 | J8: Ja | K8: Nee | L8: Bolwerk 1 | M8: Bolwerk 1 | N8: Bolwerk 1 | O8: D | P8: 20201012
A9: Ieplaan 129 | B9: Ieplaan | C9: 129 | E9: Bomenwijk | G9: gestapelde woningen | H9: Ja | I9: 1955 | J9: Ja | K9: Nee | L9: Bolwerk 1 | M9: Bolwerk 1 | N9: Bolwerk 1
A10: Ieplaan 131 | B10: Ieplaan | C10: 131 | E10: Bomenwijk | G10: gestapelde woningen | H10: Ja | I10: 1955 | J10: Ja | K10: Nee | L10: Bolwerk 1 | M10: Bolwerk 1 | N10: Bolwerk 1
A11: Ieplaan 133 | B11: Ieplaan | C11: 133 | E11: Bomenwijk | G11: gestapelde woningen | H11: Ja | I11: 1955 | J11: Ja | K11: Nee | L11: Bolwerk 1 | M11: Bolwerk 1 | N11: Bolwerk 1 | O11: E | P11: 20191205
A12: Ieplaan 135 | B12: Ieplaan | C12: 135 | E12: Bomenwijk | G12: gestapelde woningen | H12: Ja | I12: 1955 | J12: Ja | K12: Nee | L12: Bolwerk 1 | M12: Bolwerk 1 | N12: Bolwerk 1 | O12: D | P12: 20170924
A13: Ieplaan 137 | B13: Ieplaan | C13: 137 | E13: Bomenwijk | G13: gestapelde woningen | H13: Ja | I13: 1955 | J13: Ja | K13: Nee | L13: Bolwerk 1 | M13: Bolwerk 1 | N13: Bolwerk 1 | O13: E | P13: 20220129
A14: Frederik Hendriklaan 6 | B14: Frederik Hendriklaan | C14: 6 | E14: Oranjewijk Noord | G14: gestapelde woningen | H14: Ja | I14: 1960 | J14: Ja | K14: Nee | L14: Bolwerk 2 | M14: Nee | N14: Bolwerk 2
A15: Frederik Hendriklaan 8 | B15: Frederik Hendriklaan | C15: 8 | E15: Oranjewijk Noord | G15: gestapelde woningen | H15: Ja | I15: 1960 | J15: Ja | K15: Nee | L15: Bolwerk 2 | M15: Nee | N15: Bolwerk 2 | O15: D | P15: 20161105
A16: Frederik Hendriklaan 10 | B16: Frederik Hendriklaan | C16: 10 | E16: Oranjewijk Noord | G16: gestapelde woningen | H16: Ja | I16: 1960 | J16: Ja | K16: Nee | L16: Bolwerk 2 | M16: Nee | N16: Bolwerk 2 | O16: C | P16: 20150124
A17: Frederik Hendriklaan 12 | B17: Frederik Hendriklaan | C17: 12 | E17: Oranjewijk Noord | G17: gestapelde woningen | H17: Ja | I17: 1960 | J17: Ja | K17: Nee | L17: Bolwerk 2 | M17: Nee | N17: Bolwerk 2 | O17: C | P17: 20160819
A18: Zuidkade 6F | B18: Zuidkade | C18: 6 | D18: F | E18: Centrum | G18: gestapelde woningen | H18: Ja | I18: 2007 | J18: Ja | K18: Nee | L18: Nee | M18: Nee | N18: Nee | O18: A+ | P18: 20230922
A19: Zuidkade 6A | B19: Zuidkade | C19: 6 | D19: A | E19: Centrum | G19: gestapelde woningen | H19: Ja | I19: 2007 | J19: Ja | K19: Nee | L19: Nee | M19: Nee | N19: Nee
A20: Zuidkade 6B | B20: Zuidkade | C20: 6 | D20: B | E20: Centrum | G20: gestapelde woningen | H20: Ja | I20: 2007 | J20: Ja | K20: Nee | L20: Nee | M20: Nee | N20: Nee
A21: Zuidkade 6C | B21: Zuidkade | C21: 6 | D21: C | E21: Centrum | G21: gestapelde woningen | H21: Ja | I21: 2007 | J21: Ja | K21: Nee | L21: Nee | M21: Nee | N21: Nee | O21: A | P21: 20170118
A22: Zuidkade 6E | B22: Zuidkade | C22: 6 | D22: E | E22: Centrum | G22: gestapelde woningen | H22: Ja | I22: 2007 | J22: Ja | K22: Nee | L22: Nee | M22: Nee | N22: Nee
A23: Zuidkade 6I | B23: Zuidkade | C23: 6 | D23: I | E23: Centrum | G23: gestapelde woningen | H23: Ja | I23: 2007 | J23: Ja | K23: Nee | L23: Nee | M23: Nee | N23: Nee
A24: Zuidkade 6K | B24: Zuidkade | C24: 6 | D24: K | E24: Centrum | G24: gestapelde woningen | H24: Ja | I24: 2007 | J24: Ja | K24: Nee | L24: Nee | M24: Nee | N24: Nee | O24: A | P24: 20201231
A25: Zuidkade 6N | B25: Zuidkade | C25: 6 | D25: N | E25: Centrum | G25: gestapelde woningen | H25: Ja | I25: 2007 | J25: Ja | K25: Nee | L25: Nee | M25: Nee | N25: Nee
A26: Zuidkade 6O | B26: Zuidkade | C26: 6 | D26: O | E26: Centrum | G26: gestapelde woningen | H26: Ja | I26: 2007 | J26: Ja | K26: Nee | L26: Nee | M26: Nee | N26: Nee | O26: A | P26: 20170118
A27: Zuidkade 6Q | B27: Zuidkade | C27: 6 | D27: Q | E27: Centrum | G27: gestapelde woningen | H27: Ja | I27: 2007 | J27: Ja | K27: Nee | L27: Nee | M27: Nee | N27: Nee | O27: A | P27: 20170118
A28: Zuidkade 6R | B28: Zuidkade | C28: 6 | D28: R | E28: Centrum | G28: gestapelde woningen | H28: Ja | I28: 2007 | J28: Ja | K28: Nee | L28: Nee | M28: Nee | N28: Nee | O28: A | P28: 20170118
A29: Zuidkade 6S | B29: Zuidkade | C29: 6 | D29: S | E29: Centrum | G29: gestapelde woningen | H29: Ja | I29: 2007 | J29: Ja | K29: Nee | L29: Nee | M29: Nee | N29: Nee
A30: Zuidkade 6T | B30: Zuidkade | C30: 6 | D30: T | E30: Centrum | G30: gestapelde woningen | H30: Ja | I30: 2007 | J30: Ja | K30: Nee | L30: Nee | M30: Nee | N30: Nee | O30: A | P30: 20170118
A31: Zuidkade 6D | B31: Zuidkade | C31: 6 | D31: D | E31: Centrum | G31: gestapelde woningen | H31: Ja | I31: 2007 | J31: Ja | K31: Nee | L31: Nee | M31: Nee | N31: Nee | O31: A | P31: 20220420
A32: Zuidkade 6G | B32: Zuidkade | C32: 6 | D32: G | E32: Centrum | G32: gestapelde woningen | H32: Ja | I32: 2007 | J32: Ja | K32: Nee | L32: Nee | M32: Nee | N32: Nee | O32: A | P32: 20190212
A33: Zuidkade 6H | B33: Zuidkade | C33: 6 | D33: H | E33: Centrum | G33: gestapelde woningen | H33: Ja | I33: 2007 | J33: Ja | K33: Nee | L33: Nee | M33: Nee | N33: Nee | O33: A | P33: 20201018
A34: Zuidkade 6J | B34: Zuidkade | C34: 6 | D34: J | E34: Centrum | G34: gestapelde woningen | H34: Ja | I34: 2007 | J34: Ja | K34: Nee | L34: Nee | M34: Nee | N34: Nee | O34: A | P34: 20200111
A35: Zuidkade 6L | B35: Zuidkade | C35: 6 | D35: L | E35: Centrum | G35: gestapelde woningen | H35: Ja | I35: 2007 | J35: Ja | K35: Nee | L35: Nee | M35: Nee | N35: Nee | O35: A | P35: 20220430
A36: Zuidkade 6M | B36: Zuidkade | C36: 6 | D36: M | E36: Centrum | G36: gestapelde woningen | H36: Ja | I36: 2007 | J36: Ja | K36: Nee | L36: Nee | M36: Nee | N36: Nee | O36: A | P36: 20170118
A37: Zuidkade 6P | B37: Zuidkade | C37: 6 | D37: P | E37: Centrum | G37: gestapelde woningen | H37: Ja | I37: 2007 | J37: Ja | K37: Nee | L37: Nee | M37: Nee | N37: Nee | O37: A | P37: 20170118
A38: Schaepmanhoeve 1 | B38: Schaepmanhoeve | C38: 1 | E38: Zuidplas 80 | G38: gestapelde woningen | H38: Ja | I38: 1992 | J38: Ja | K38: Nee | L38: Nee | M38: Nee | N38: Bolwerk 3 | O38: A | P38: 20220121
A39: Schaepmanhoeve 3 | B39: Schaepmanhoeve | C39: 3 | E39: Zuidplas 80 | G39: gestapelde woningen | H39: Ja | I39: 1992 | J39: Ja | K39: Nee | L39: Nee | M39: Nee | N39: Nee
A40: Schaepmanhoeve 5 | B40: Schaepmanhoeve | C40: 5 | E40: Zuidplas 80 | G40: gestapelde woningen | H40: Ja | I40: 1992 | J40: Ja | K40: Nee | L40: Nee | M40: Nee | N40: Bolwerk 3 | O40: C | P40: 20170906
A41: Schaepmanhoeve 7 | B41: Schaepmanhoeve | C41: 7 | E41: Zuidplas 80 | G41: gestapelde woningen | H41: Ja | I41: 1992 | J41: Ja | K41: Nee | L41: Nee | M41: Nee | N41: Nee | O41: B | P41: 20221014
A42: Schaepmanhoeve 9 | B42: Schaepmanhoeve | C42: 9 | E42: Zuidplas 80 | G42: gestapelde woningen | H42: Ja | I42: 1992 | J42: Ja | K42: Nee | L42: Nee | M42: Nee | N42: Nee
A43: Schaepmanhoeve 11 | B43: Schaepmanhoeve | C43: 11 | E43: Zuidplas 80 | G43: gestapelde woningen | H43: Ja | I43: 1992 | J43: Ja | K43: Nee | L43: Nee | M43: Nee | N43: Bolwerk 3 | O43: B | P43: 20211128
A44: Schaepmanhoeve 13 | B44: Schaepmanhoeve | C44: 13 | E44: Zuidplas 80 | G44: gestapelde woningen | H44: Ja | I44: 1992 | J44: Ja | K44: Nee | L44: Nee | M44: Nee | N44: Nee | O44: C | P44: 20230314
A45: Schaepmanhoeve 15 | B45: Schaepmanhoeve | C45: 15 | E45: Zuidplas 80 | G45: gestapelde woningen | H45: Ja | I45: 1992 | J45: Ja | K45: Nee | L45: Nee | M45: Nee | N45: Nee
A46: Schaepmanhoeve 17 | B46: Schaepmanhoeve | C46: 17 | E46: Zuidplas 80 | G46: gestapelde woningen | H46: Ja | I46: 1992 | J46: Ja | K46: Nee | L46: Nee | M46: Nee | N46: Bolwerk 3 | O46: B | P46: 20190824
A47: Schaepmanhoeve 19 | B47: Schaepmanhoeve | C47: 19 | E47: Zuidplas 80 | G47: gestapelde woningen | H47: Ja | I47: 1992 | J47: Ja | K47: Nee | L47: Nee | M47: Nee | N47: Nee | O47: B | P47: 20170717
A48: Zuidkade 4B | B48: Zuidkade | C48: 4 | D48: B | E48: Centrum | G48: gestapelde woningen | H48: Ja | I48: 1996 | J48: Ja | K48: Nee | L48: Nee | M48: Nee | N48: Nee
A49: Zuidkade 4C | B49: Zuidkade | C49: 4 | D49: C | E49: Centrum | G49: gestapelde woningen | H49: Ja | I49: 1996 | J49: Ja | K49: Nee | L49: Nee | M49: Nee | N49: Nee
A50: Zuidkade 4D | B50: Zuidkade | C50: 4 | D50: D | E50: Centrum | G50: gestapelde woningen | H50: Ja | I50: 1996 | J50: Ja | K50: Nee | L50: Nee | M50: Nee | N50: Nee
A51: Zuidkade 18A | B51: Zuidkade | C51: 18 | D51: A | E51: Centrum | G51: gestapelde woningen | H51: Ja | I51: 2003 | J51: Ja | K51: Nee | L51: Nee | M51: Nee | N51: Nee | O51: C | P51: 20170410
A52: Zuidkade 18 | B52: Zuidkade | C52: 18 | E52: Centrum | G52: gestapelde woningen | H52: Ja | I52: 2003 | J52: Ja | K52: Nee | L52: Nee | M52: Nee | N52: Nee
A53: Zuidkade 16A | B53: Zuidkade | C53: 16 | D53: A | E53: Centrum | G53: gestapelde woningen | H53: Ja | I53: 2003 | J53: Ja | K53: Nee | L53: Nee | M53: Nee | N53: Nee | O53: A | P53: 20201231
A54: Zuidkade 16C | B54: Zuidkade | C54: 16 | D54: C | E54: Centrum | G54: gestapelde woningen | H54: Ja | I54: 2003 | J54: Ja | K54: Nee | L54: Nee | M54: Nee | N54: Nee | O54: A | P54: 20201231
A55: Zuidkade 16B | B55: Zuidkade | C55: 16 | D55: B | E55: Centrum | G55: gestapelde woningen | H55: Ja | I55: 2003 | J55: Ja | K55: Nee | L55: Nee | M55: Nee | N55: Nee | O55: B | P55: 20201231
A56: Houtstraat 43 | B56: Houtstraat | C56: 43 | E56: Centrum | G56: gestapelde woningen | H56: Ja | I56: 2014 | J56: Ja | K56: Nee | L56: Nee | M56: Nee | N56: Nee
A57: Houtstraat 45 | B57: Houtstraat | C57: 45 | E57: Centrum | G57: gestapelde woningen | H57: Ja | I57: 2014 | J57: Ja | K57: Nee | L57: Nee | M57: Nee | N57: Nee | O57: A | P57: 20161129
A58: Houtstraat 47 | B58: Houtstraat | C58: 47 | E58: Centrum | G58: gestapelde woningen | H58: Ja | I58: 2014 | J58: Ja | K58: Nee | L58: Nee | M58: Nee | N58: Nee | O58: A | P58: 20211214
A59: Houtstraat 49 | B59: Houtstraat | C59: 49 | E59: Centrum | G59: gestapelde woningen | H59: Ja | I59: 2014 | J59: Ja | K59: Nee | L59: Nee | M59: Nee | N59: Nee | O59: A | P59: 20160106
A60: Marktstraat 13 | B60: Marktstraat | C60: 13 | E60: Centrum | G60: gestapelde woningen | H60: Ja | I60: 2014 | J60: Ja | K60: Nee | L60: Nee | M60: Nee | N60: Nee | O60: A | P60: 20160106
A61: Marktstraat 15 | B61: Marktstraat | C61: 15 | E61: Centrum | G61: gestapelde woningen | H61: Ja | I61: 2014 | J61: Ja | K61: Nee | L61: Nee | M61: Nee | N61: Nee | O61: A | P61: 20160106
A62: Marktstraat 17 | B62: Marktstraat | C62: 17 | E62: Centrum | G62: gestapelde woningen | H62: Ja | I62: 2014 | J62: Ja | K62: Nee | L62: Nee | M62: Nee | N62: Nee | O62: A | P62: 20160106
A63: Marktstraat 19 | B63: Marktstraat | C63: 19 | E63: Centrum | G63: gestapelde woningen | H63: Ja | I63: 2014 | J63: Ja | K63: Nee | L63: Nee | M63: Nee | N63: Nee | O63: A | P63: 20160106
A64: Spoorpad 56 | B64: Spoorpad | C64: 56 | E64: Centrum | G64: gestapelde woningen | H64: Ja | I64: 2014 | J64: Ja | K64: Nee | L64: Nee | M64: Nee | N64: Nee | O64: A | P64: 20150227
A65: Spoorpad 58 | B65: Spoorpad | C65: 58 | E65: Centrum | G65: gestapelde woningen | H65: Ja | I65: 2014 | J65: Ja | K65: Nee | L65: Nee | M65: Nee | N65: Nee
A66: Spoorpad 60 | B66: Spoorpad | C66: 60 | E66: Centrum | G66: gestapelde woningen | H66: Ja | I66: 2014 | J66: Ja | K66: Nee | L66: Nee | M66: Nee | N66: Nee | O66: A | P66: 20220718
A67: Spoorpad 62 | B67: Spoorpad | C67: 62 | E67: Centrum | G67: gestapelde woningen | H67: Ja | I67: 2014 | J67: Ja | K67: Nee | L67: Nee | M67: Nee | N67: Nee | O67: A | P67: 20160106
A68: Spoorpad 64 | B68: Spoorpad | C68: 64 | E68: Centrum | G68: gestapelde woningen | H68: Ja | I68: 2014 | J68: Ja | K68: Nee | L68: Nee | M68: Nee | N68: Nee | O68: A | P68: 20200821
A69: Spoorpad 66 | B69: Spoorpad | C69: 66 | E69: Centrum | G69: gestapelde woningen | H69: Ja | I69: 2014 | J69: Ja | K69: Nee | L69: Nee | M69: Nee | N69: Nee | O69: A | P69: 20160607
A70: Spoorpad 68 | B70: Spoorpad | C70: 68 | E70: Centrum | G70: gestapelde woningen | H70: Ja | I70: 2014 | J70: Ja | K70: Nee | L70: Nee | M70: Nee | N70: Nee
A71: Spoorpad 70 | B71: Spoorpad | C71: 70 | E71: Centrum | G71: gestapelde woningen | H71: Ja | I71: 2014 | J71: Ja | K71: Nee | L71: Nee | M71: Nee | N71: Nee
A72: Spoorpad 72 | B72: Spoorpad | C72: 72 | E72: Centrum | G72: gestapelde woningen | H72: Ja | I72: 2014 | J72: Ja | K72: Nee | L72: Nee | M72: Nee | N72: Nee | O72: A | P72: 20160106
A73: Spoorpad 74 | B73: Spoorpad | C73: 74 | E73: Centrum | G73: gestapelde woningen | H73: Ja | I73: 2014 | J73: Ja | K73: Nee | L73: Nee | M73: Nee | N73: Nee | O73: A | P73: 20160106
A74: Spoorpad 76 | B74: Spoorpad | C74: 76 | E74: Centrum | G74: gestapelde woningen | H74: Ja | I74: 2014 | J74: Ja | K74: Nee | L74: Nee | M74: Nee | N74: Nee | O74: A | P74: 20160106
A75: Spoorpad 78 | B75: Spoorpad | C75: 78 | E75: Centrum | G75: gestapelde woningen | H75: Ja | I75: 2014 | J75: Ja | K75: Nee | L75: Nee | M75: Nee | N75: Nee | O75: A | P75: 20160106
A76: Spoorpad 80 | B76: Spoorpad | C76: 80 | E76: Centrum | G76: gestapelde woningen | H76: Ja | I76: 2014 | J76: Ja | K76: Nee | L76: Nee | M76: Nee | N76: Nee | O76: A | P76: 20160106
A77: Spoorpad 82 | B77: Spoorpad | C77: 82 | E77: Centrum | G77: gestapelde woningen | H77: Ja | I77: 2014 | J77: Ja | K77: Nee | L77: Nee | M77: Nee | N77: Nee | O77: B | P77: 20190915
A78: Spoorpad 84 | B78: Spoorpad | C78: 84 | E78: Centrum | G78: gestapelde woningen | H78: Ja | I78: 2014 | J78: Ja | K78: Nee | L78: Nee | M78: Nee | N78: Nee | O78: A | P78: 20220208
A79: Spoorpad 86 | B79: Spoorpad | C79: 86 | E79: Centrum | G79: gestapelde woningen | H79: Ja | I79: 2014 | J79: Ja | K79: Nee | L79: Nee | M79: Nee | N79: Nee
A80: Spoorpad 88 | B80: Spoorpad | C80: 88 | E80: Centrum | G80: gestapelde woningen | H80: Ja | I80: 2014 | J80: Ja | K80: Nee | L80: Nee | M80: Nee | N80: Nee | O80: A | P80: 20160106
A81: Spoorpad 90 | B81: Spoorpad | C81: 90 | E81: Centrum | G81: gestapelde woningen | H81: Ja | I81: 2014 | J81: Ja | K81: Nee | L81: Nee | M81: Nee | N81: Nee | O81: A | P81: 20160227
A82: Spoorpad 92 | B82: Spoorpad | C82: 92 | E82: Centrum | G82: gestapelde woningen | H82: Ja | I82: 2014 | J82: Ja | K82: Nee | L82: Nee | M82: Nee | N82: Nee | O82: A | P82: 20160106
A83: Spoorpad 94 | B83: Spoorpad | C83: 94 | E83: Centrum | G83: gestapelde woningen | H83: Ja | I83: 2014 | J83: Ja | K83: Nee | L83: Nee | M83: Nee | N83: Nee
A84: Spoorpad 96 | B84: Spoorpad | C84: 96 | E84: Centrum | G84: gestapelde woningen | H84: Ja | I84: 2014 | J84: Ja | K84: Nee | L84: Nee | M84: Nee | N84: Nee
A85: Spoorpad 98 | B85: Spoorpad | C85: 98 | E85: Centrum | G85: gestapelde woningen | H85: Ja | I85: 2014 | J85: Ja | K85: Nee | L85: Nee | M85: Nee | N85: Nee | O85: A | P85: 20160106
A86: Spoorpad 100 | B86: Spoorpad | C86: 100 | E86: Centrum | G86: gestapelde woningen | H86: Ja | I86: 2014 | J86: Ja | K86: Nee | L86: Nee | M86: Nee | N86: Nee | O86: A | P86: 20160106
A87: Spoorpad 102 | B87: Spoorpad | C87: 102 | E87: Centrum | G87: gestapelde woningen | H87: Ja | I87: 2014 | J87: Ja | K87: Nee | L87: Nee | M87: Nee | N87: Nee | O87: A | P87: 20160106
A88: Spoorpad 104 | B88: Spoorpad | C88: 104 | E88: Centrum | G88: gestapelde woningen | H88: Ja | I88: 2014 | J88: Ja | K88: Nee | L88: Nee | M88: Nee | N88: Nee | O88: A | P88: 20160106
A89: Spoorpad 106 | B89: Spoorpad | C89: 106 | E89: Centrum | G89: gestapelde woningen | H89: Ja | I89: 2014 | J89: Ja | K89: Nee | L89: Nee | M89: Nee | N89: Nee
A90: Spoorpad 108 | B90: Spoorpad | C90: 108 | E90: Centrum | G90: gestapelde woningen | H90: Ja | I90: 2014 | J90: Ja | K90: Nee | L90: Nee | M90: Nee | N90: Nee | O90: A | P90: 20161228
A91: Spoorpad 110 | B91: Spoorpad | C91: 110 | E91: Centrum | G91: gestapelde woningen | H91: Ja | I91: 2014 | J91: Ja | K91: Nee | L91: Nee | M91: Nee | N91: Nee | O91: A | P91: 20160106
A92: Spoorpad 112 | B92: Spoorpad | C92: 112 | E92: Centrum | G92: gestapelde woningen | H92: Ja | I92: 2014 | J92: Ja | K92: Nee | L92: Nee | M92: Nee | N92: Nee | O92: A | P92: 20160106
A93: Spoorpad 114 | B93: Spoorpad | C93: 114 | E93: Centrum | G93: gestapelde woningen | H93: Ja | I93: 2014 | J93: Ja | K93: Nee | L93: Nee | M93: Nee | N93: Nee | O93: A | P93: 20160106
A94: Spoorpad 116 | B94: Spoorpad | C94: 116 | E94: Centrum | G94: gestapelde woningen | H94: Ja | I94: 2014 | J94: Ja | K94: Nee | L94: Nee | M94: Nee | N94: Nee | O94: A | P94: 20160106
A95: Spoorpad 118 | B95: Spoorpad | C95: 118 | E95: Centrum | G95: gestapelde woningen | H95: Ja | I95: 2014 | J95: Ja | K95: Nee | L95: Nee | M95: Nee | N95: Nee | O95: A | P95: 20160124
A96: Spoorpad 120 | B96: Spoorpad | C96: 120 | E96: Centrum | G96: gestapelde woningen | H96: Ja | I96: 2014 | J96: Ja | K96: Nee | L96: Nee | M96: Nee | N96: Nee | O96: A | P96: 20160106
A97: Spoorpad 122 | B97: Spoorpad | C97: 122 | E97: Centrum | G97: gestapelde woningen | H97: Ja | I97: 2014 | J97: Ja | K97: Nee | L97: Nee | M97: Nee | N97: Nee | O97: A | P97: 20210713
A98: Henegouwerweg 31 | B98: Henegouwerweg | C98: 31 | E98: Zeeheldenbuurt | G98: gestapelde woningen | H98: Ja | I98: 1939 | J98: Ja | K98: Nee | L98: Bolwerk 3 | M98: Nee | N98: Nee
A99: Henegouwerweg 32 | B99: Henegouwerweg | C99: 32 | E99: Zeeheldenbuurt | G99: gestapelde woningen | H99: Ja | I99: 1939 | J99: Ja | K99: Nee | L99: Bolwerk 3 | M99: Nee | N99: Nee | O99: E | P99: 20201222
A100: Henegouwerweg 33 | B100: Henegouwerweg | C100: 33 | E100: Zeeheldenbuurt | G100: gestapelde woningen | H100: Ja | I100: 1939 | J100: Ja | K100: Nee | L100: Bolwerk 3 | M100: Nee | N100: Nee
...
