Workbook

Sheet Projecten
A1: Project | B1: Straatnaam | C1: Huisnummer | D1: CBS buurt | E1: Bolwerk spreeuw | F1: Bolwerk mus | G1: Bolwerk zwaluw | H1: Vleermuis | I1: Periode natuurvrij | J1: Periode werkzaamheden | K1: Type woning | L1: VvE | M1: 1/3 check | N1: Soort isolatie | O1: Fauna voorziening | P1: Aantal | Q1: Besluit | R1: Foto's natuurvrij maken | S1: Foto's fauna voorziening | T1: Beschrijving werkzaamheden | U1: Contactgegevens gemachtigde | V1: Contactgegevens natuurvrij | W1: Contactgegevens isolateur | Y1: C | Z1: H | AA1: I
A2: 10 | B2: mauritslaan | C2: 23 | D2: =IFERROR(IF(B2="","",VLOOKUP($B2&" "&$C2,Brondata!$A$2:$R$16612,5,0)),"niet gevonden, check spelling") -> Oranjewijk Zuid | E2: =IFERROR(IF($B2="","",VLOOKUP($B2&" "&$C2,Brondata!$A$2:$R$16612,12,0)),"niet gevonden, check spelling") -> Nee | F2: =IFERROR(IF($B2="","",VLOOKUP($B2&" "&$C2,Brondata!$A$2:$R$16612,13,0)),"niet gevonden, check spelling") -> Nee | G2: =IFERROR(IF($B2="","",VLOOKUP($B2&" "&$C2,Brondata!$A$2:$R$16612,14,0)),"niet gevonden, check spelling") -> Bolwerk 2 | H2: =IFERROR(IF($B2="","",VLOOKUP($B2&" "&$C2,Brondata!$A$2:$R$16612,11,0)),"niet gevonden, check spelling") -> Nee | I2: Q3 2025 | J2: Q3 2025 | K2: =IFERROR(IF($B2="","",VLOOKUP($B2&" "&$C2,Brondata!$A$2:$R$16612,7,0)),"niet gevonden, check spelling") -> rijwoning | L2: x | M2: akkoord | N2: spouw | O2: Spouwverblijf 30x30 per langsgevel 1x | P2: 2 | Q2: 45901 | Y2: West 2 | AA2: Ruimte onder dakpannen bereikbaar
D3: =IFERROR(IF(B3="","",VLOOKUP($B3&" "&$C3,Brondata!$A$2:$R$16612,5,0)),"niet gevonden, check spelling") | E3: =IFERROR(IF($B3="","",VLOOKUP($B3&" "&$C3,Brondata!$A$2:$R$16612,12,0)),"niet gevonden, check spelling") | F3: =IFERROR(IF($B3="","",VLOOKUP($B3&" "&$C3,Brondata!$A$2:$R$16612,13,0)),"niet gevonden, check spelling") | G3: =IFERROR(IF($B3="","",VLOOKUP($B3&" "&$C3,Brondata!$A$2:$R$16612,14,0)),"niet gevonden, check spelling") | H3: =IFERROR(IF($B3="","",VLOOKUP($B3&" "&$C3,Brondata!$A$2:$R$16612,11,0)),"niet gevonden, check spelling") | K3: =IFERROR(IF($B3="","",VLOOKUP($B3&" "&$C3,Brondata!$A$2:$R$16612,7,0)),"niet gevonden, check spelling") | L3: =IFERROR(IF($B3="","",VLOOKUP($B3&" "&$C3,Brondata!$A$2:$R$16612,10,0)),"niet gevonden, check spelling") | Y3: Oostpolderwijk
D4: =IFERROR(IF(B4="","",VLOOKUP($B4&" "&$C4,Brondata!$A$2:$R$16612,5,0)),"niet gevonden, check spelling") | E4: =IFERROR(IF($B4="","",VLOOKUP($B4&" "&$C4,Brondata!$A$2:$R$16612,12,0)),"niet gevonden, check spelling") | F4: =IFERROR(IF($B4="","",VLOOKUP($B4&" "&$C4,Brondata!$A$2:$R$16612,13,0)),"niet gevonden, check spelling") | G4: =IFERROR(IF($B4="","",VLOOKUP($B4&" "&$C4,Brondata!$A$2:$R$16612,14,0)),"niet gevonden, check spelling") | K4: =IFERROR(IF($B4="","",VLOOKUP($B4&" "&$C4,Brondata!$A$2:$R$16612,7,0)),"niet gevonden, check spelling") | L4: =IFERROR(IF($B4="","",VLOOKUP($B4&" "&$C4,Brondata!$A$2:$R$16612,10,0)),"niet gevonden, check spelling") | Y4: Zuid
D5: =IFERROR(IF(B5="","",VLOOKUP($B5&" "&$C5,Brondata!$A$2:$R$16612,5,0)),"niet gevonden, check spelling") | E5: =IFERROR(IF($B5="","",VLOOKUP($B5&" "&$C5,Brondata!$A$2:$R$16612,12,0)),"niet gevonden, check spelling") | F5: =IFERROR(IF($B5="","",VLOOKUP($B5&" "&$C5,Brondata!$A$2:$R$16612,13,0)),"niet gevonden, check spelling") | G5: =IFERROR(IF($B5="","",VLOOKUP($B5&" "&$C5,Brondata!$A$2:$R$16612,14,0)),"niet gevonden, check spelling") | H5: =IFERROR(IF($B5="","",VLOOKUP($B5&" "&$C5,Brondata!$A$2:$R$16612,11,0)),"niet gevonden, check spelling") | K5: =IFERROR(IF($B5="","",VLOOKUP($B5&" "&$C5,Brondata!$A$2:$R$16612,7,0)),"niet gevonden, check spelling") | L5: =IFERROR(IF($B5="","",VLOOKUP($B5&" "&$C5,Brondata!$A$2:$R$16612,10,0)),"niet gevonden, check spelling") | Y5: Oost
D6: =IFERROR(IF(B6="","",VLOOKUP($B6&" "&$C6,Brondata!$A$2:$R$16612,5,0)),"niet gevonden, check spelling") | E6: =IFERROR(IF($B6="","",VLOOKUP($B6&" "&$C6,Brondata!$A$2:$R$16612,12,0)),"niet gevonden, check spelling") | F6: =IFERROR(IF($B6="","",VLOOKUP($B6&" "&$C6,Brondata!$A$2:$R$16612,13,0)),"niet gevonden, check spelling") | G6: =IFERROR(IF($B6="","",VLOOKUP($B6&" "&$C6,Brondata!$A$2:$R$16612,14,0)),"niet gevonden, check spelling") | H6: =IFERROR(IF($B6="","",VLOOKUP($B6&" "&$C6,Brondata!$A$2:$R$16612,11,0)),"niet gevonden, check spelling") | K6: =IFERROR(IF($B6="","",VLOOKUP($B6&" "&$C6,Brondata!$A$2:$R$16612,7,0)),"niet gevonden, check spelling") | L6: =IFERROR(IF($B6="","",VLOOKUP($B6&" "&$C6,Brondata!$A$2:$R$16612,10,0)),"niet gevonden, check spelling") | Y6: Zeeheldenbuurt
D7: =IFERROR(IF(B7="","",VLOOKUP($B7&" "&$C7,Brondata!$A$2:$R$16612,5,0)),"niet gevonden, check spelling") | E7: =IFERROR(IF($B7="","",VLOOKUP($B7&" "&$C7,Brondata!$A$2:$R$16612,12,0)),"niet gevonden, check spelling") | F7: =IFERROR(IF($B7="","",VLOOKUP($B7&" "&$C7,Brondata!$A$2:$R$16612,13,0)),"niet gevonden, check spelling") | G7: =IFERROR(IF($B7="","",VLOOKUP($B7&" "&$C7,Brondata!$A$2:$R$16612,14,0)),"niet gevonden, check spelling") | H7: =IFERROR(IF($B7="","",VLOOKUP($B7&" "&$C7,Brondata!$A$2:$R$16612,11,0)),"niet gevonden, check spelling") | K7: =IFERROR(IF($B7="","",VLOOKUP($B7&" "&$C7,Brondata!$A$2:$R$16612,7,0)),"niet gevonden, check spelling") | L7: =IFERROR(IF($B7="","",VLOOKUP($B7&" "&$C7,Brondata!$A$2:$R$16612,10,0)),"niet gevonden, check spelling")
D8: =IFERROR(IF(B8="","",VLOOKUP($B8&" "&$C8,Brondata!$A$2:$R$16612,5,0)),"niet gevonden, check spelling") | E8: =IFERROR(IF($B8="","",VLOOKUP($B8&" "&$C8,Brondata!$A$2:$R$16612,12,0)),"niet gevonden, check spelling") | F8: =IFERROR(IF($B8="","",VLOOKUP($B8&" "&$C8,Brondata!$A$2:$R$16612,13,0)),"niet gevonden, check spelling") | G8: =IFERROR(IF($B8="","",VLOOKUP($B8&" "&$C8,Brondata!$A$2:$R$16612,14,0)),"niet gevonden, check spelling") | H8: =IFERROR(IF($B8="","",VLOOKUP($B8&" "&$C8,Brondata!$A$2:$R$16612,11,0)),"niet gevonden, check spelling") | K8: =IFERROR(IF($B8="","",VLOOKUP($B8&" "&$C8,Brondata!$A$2:$R$16612,7,0)),"niet gevonden, check spelling") | L8: =IFERROR(IF($B8="","",VLOOKUP($B8&" "&$C8,Brondata!$A$2:$R$16612,10,0)),"niet gevonden, check spelling")
D9: =IFERROR(IF(B9="","",VLOOKUP($B9&" "&$C9,Brondata!$A$2:$R$16612,5,0)),"niet gevonden, check spelling") | E9: =IFERROR(IF($B9="","",VLOOKUP($B9&" "&$C9,Brondata!$A$2:$R$16612,12,0)),"niet gevonden, check spelling") | F9: =IFERROR(IF($B9="","",VLOOKUP($B9&" "&$C9,Brondata!$A$2:$R$16612,13,0)),"niet gevonden, check spelling") | G9: =IFERROR(IF($B9="","",VLOOKUP($B9&" "&$C9,Brondata!$A$2:$R$16612,14,0)),"niet gevonden, check spelling") | H9: =IFERROR(IF($B9="","",VLOOKUP($B9&" "&$C9,Brondata!$A$2:$R$16612,11,0)),"niet gevonden, check spelling") | K9: =IFERROR(IF($B9="","",VLOOKUP($B9&" "&$C9,Brondata!$A$2:$R$16612,7,0)),"niet gevonden, check spelling") | L9: =IFERROR(IF($B9="","",VLOOKUP($B9&" "&$C9,Brondata!$A$2:$R$16612,10,0)),"niet gevonden, check spelling")
D10: =IFERROR(IF(B10="","",VLOOKUP($B10&" "&$C10,Brondata!$A$2:$R$16612,5,0)),"niet gevonden, check spelling") | E10: =IFERROR(IF($B10="","",VLOOKUP($B10&" "&$C10,Brondata!$A$2:$R$16612,12,0)),"niet gevonden, check spelling") | F10: =IFERROR(IF($B10="","",VLOOKUP($B10&" "&$C10,Brondata!$A$2:$R$16612,13,0)),"niet gevonden, check spelling") | G10: =IFERROR(IF($B10="","",VLOOKUP($B10&" "&$C10,Brondata!$A$2:$R$16612,14,0)),"niet gevonden, check spelling") | H10: =IFERROR(IF($B10="","",VLOOKUP($B10&" "&$C10,Brondata!$A$2:$R$16612,11,0)),"niet gevonden, check spelling") | K10: =IFERROR(IF($B10="","",VLOOKUP($B10&" "&$C10,Brondata!$A$2:$R$16612,7,0)),"niet gevonden, check spelling") | L10: =IFERROR(IF($B10="","",VLOOKUP($B10&" "&$C10,Brondata!$A$2:$R$16612,10,0)),"niet gevonden, check spelling")
D11: =IFERROR(IF(B11="","",VLOOKUP($B11&" "&$C11,Brondata!$A$2:$R$16612,5,0)),"niet gevonden, check spelling") | E11: =IFERROR(IF($B11="","",VLOOKUP($B11&" "&$C11,Brondata!$A$2:$R$16612,12,0)),"niet gevonden, check spelling") | F11: =IFERROR(IF($B11="","",VLOOKUP($B11&" "&$C11,Brondata!$A$2:$R$16612,13,0)),"niet gevonden, check spelling") | G11: =IFERROR(IF($B11="","",VLOOKUP($B11&" "&$C11,Brondata!$A$2:$R$16612,14,0)),"niet gevonden, check spelling") | H11: =IFERROR(IF($B11="","",VLOOKUP($B11&" "&$C11,Brondata!$A$2:$R$16612,11,0)),"niet gevonden, check spelling") | K11: =IFERROR(IF($B11="","",VLOOKUP($B11&" "&$C11,Brondata!$A$2:$R$16612,7,0)),"niet gevonden, check spelling") | L11: =IFERROR(IF($B11="","",VLOOKUP($B11&" "&$C11,Brondata!$A$2:$R$16612,10,0)),"niet gevonden, check spelling")
D12: =IFERROR(IF(B12="","",VLOOKUP($B12&" "&$C12,Brondata!$A$2:$R$16612,5,0)),"niet gevonden, check spelling") | E12: =IFERROR(IF($B12="","",VLOOKUP($B12&" "&$C12,Brondata!$A$2:$R$16612,12,0)),"niet gevonden, check spelling") | F12: =IFERROR(IF($B12="","",VLOOKUP($B12&" "&$C12,Brondata!$A$2:$R$16612,13,0)),"niet gevonden, check spelling") | G12: =IFERROR(IF($B12="","",VLOOKUP($B12&" "&$C12,Brondata!$A$2:$R$16612,14,0)),"niet gevonden, check spelling") | H12: =IFERROR(IF($B12="","",VLOOKUP($B12&" "&$C12,Brondata!$A$2:$R$16612,11,0)),"niet gevonden, check spelling") | K12: =IFERROR(IF($B12="","",VLOOKUP($B12&" "&$C12,Brondata!$A$2:$R$16612,7,0)),"niet gevonden, check spelling") | L12: =IFERROR(IF($B12="","",VLOOKUP($B12&" "&$C12,Brondata!$A$2:$R$16612,10,0)),"niet gevonden, check spelling")
D13: =IFERROR(IF(B13="","",VLOOKUP($B13&" "&$C13,Brondata!$A$2:$R$16612,5,0)),"niet gevonden, check spelling") | E13: =IFERROR(IF($B13="","",VLOOKUP($B13&" "&$C13,Brondata!$A$2:$R$16612,12,0)),"niet gevonden, check spelling") | F13: =IFERROR(IF($B13="","",VLOOKUP($B13&" "&$C13,Brondata!$A$2:$R$16612,13,0)),"niet gevonden, check spelling") | G13: =IFERROR(IF($B13="","",VLOOKUP($B13&" "&$C13,Brondata!$A$2:$R$16612,14,0)),"niet gevonden, check spelling") | H13: =IFERROR(IF($B13="","",VLOOKUP($B13&" "&$C13,Brondata!$A$2:$R$16612,11,0)),"niet gevonden, check spelling") | K13: =IFERROR(IF($B13="","",VLOOKUP($B13&" "&$C13,Brondata!$A$2:$R$16612,7,0)),"niet gevonden, check spelling") | L13: =IFERROR(IF($B13="","",VLOOKUP($B13&" "&$C13,Brondata!$A$2:$R$16612,10,0)),"niet gevonden, check spelling")
D14: =IFERROR(IF(B14="","",VLOOKUP($B14&" "&$C14,Brondata!$A$2:$R$16612,5,0)),"niet gevonden, check spelling") | E14: =IFERROR(IF($B14="","",VLOOKUP($B14&" "&$C14,Brondata!$A$2:$R$16612,12,0)),"niet gevonden, check spelling") | F14: =IFERROR(IF($B14="","",VLOOKUP($B14&" "&$C14,Brondata!$A$2:$R$16612,13,0)),"niet gevonden, check spelling") | G14: =IFERROR(IF($B14="","",VLOOKUP($B14&" "&$C14,Brondata!$A$2:$R$16612,14,0)),"niet gevonden, check spelling") | H14: =IFERROR(IF($B14="","",VLOOKUP($B14&" "&$C14,Brondata!$A$2:$R$16612,11,0)),"niet gevonden, check spelling") | K14: =IFERROR(IF($B14="","",VLOOKUP($B14&" "&$C14,Brondata!$A$2:$R$16612,7,0)),"niet gevonden, check spelling") | L14: =IFERROR(IF($B14="","",VLOOKUP($B14&" "&$C14,Brondata!$A$2:$R$16612,10,0)),"niet gevonden, check spelling")
D15: =IFERROR(IF(B15="","",VLOOKUP($B15&" "&$C15,Brondata!$A$2:$R$16612,5,0)),"niet gevonden, check spelling") | E15: =IFERROR(IF($B15="","",VLOOKUP($B15&" "&$C15,Brondata!$A$2:$R$16612,12,0)),"niet gevonden, check spelling") | F15: =IFERROR(IF($B15="","",VLOOKUP($B15&" "&$C15,Brondata!$A$2:$R$16612,13,0)),"niet gevonden, check spelling") | G15: =IFERROR(IF($B15="","",VLOOKUP($B15&" "&$C15,Brondata!$A$2:$R$16612,14,0)),"niet gevonden, check spelling") | H15: =IFERROR(IF($B15="","",VLOOKUP($B15&" "&$C15,Brondata!$A$2:$R$16612,11,0)),"niet gevonden, check spelling") | K15: =IFERROR(IF($B15="","",VLOOKUP($B15&" "&$C15,Brondata!$A$2:$R$16612,7,0)),"niet gevonden, check spelling") | L15: =IFERROR(IF($B15="","",VLOOKUP($B15&" "&$C15,Brondata!$A$2:$R$16612,10,0)),"niet gevonden, check spelling")
D16: =IFERROR(IF(B16="","",VLOOKUP($B16&" "&$C16,Brondata!$A$2:$R$16612,5,0)),"niet gevonden, check spelling") | E16: =IFERROR(IF($B16="","",VLOOKUP($B16&" "&$C16,Brondata!$A$2:$R$16612,12,0)),"niet gevonden, check spelling") | F16: =IFERROR(IF($B16="","",VLOOKUP($B16&" "&$C16,Brondata!$A$2:$R$16612,13,0)),"niet gevonden, check spelling") | G16: =IFERROR(IF($B16="","",VLOOKUP($B16&" "&$C16,Brondata!$A$2:$R$16612,14,0)),"niet gevonden, check spelling") | H16: =IFERROR(IF($B16="","",VLOOKUP($B16&" "&$C16,Brondata!$A$2:$R$16612,11,0)),"niet gevonden, check spelling") | K16: =IFERROR(IF($B16="","",VLOOKUP($B16&" "&$C16,Brondata!$A$2:$R$16612,7,0)),"niet gevonden, check spelling") | L16: =IFERROR(IF($B16="","",VLOOKUP($B16&" "&$C16,Brondata!$A$2:$R$16612,10,0)),"niet gevonden, check spelling")
D17: =IFERROR(IF(B17="","",VLOOKUP($B17&" "&$C17,Brondata!$A$2:$R$16612,5,0)),"niet gevonden, check spelling") | E17: =IFERROR(IF($B17="","",VLOOKUP($B17&" "&$C17,Brondata!$A$2:$R$16612,12,0)),"niet gevonden, check spelling") | F17: =IFERROR(IF($B17="","",VLOOKUP($B17&" "&$C17,Brondata!$A$2:$R$16612,13,0)),"niet gevonden, check spelling") | G17: =IFERROR(IF($B17="","",VLOOKUP($B17&" "&$C17,Brondata!$A$2:$R$16612,14,0)),"niet gevonden, check spelling") | H17: =IFERROR(IF($B17="","",VLOOKUP($B17&" "&$C17,Brondata!$A$2:$R$16612,11,0)),"niet gevonden, check spelling") | K17: =IFERROR(IF($B17="","",VLOOKUP($B17&" "&$C17,Brondata!$A$2:$R$16612,7,0)),"niet gevonden, check spelling") | L17: =IFERROR(IF($B17="","",VLOOKUP($B17&" "&$C17,Brondata!$A$2:$R$16612,10,0)),"niet gevonden, check spelling")
D18: =IFERROR(IF(B18="","",VLOOKUP($B18&" "&$C18,Brondata!$A$2:$R$16612,5,0)),"niet gevonden, check spelling") | E18: =IFERROR(IF($B18="","",VLOOKUP($B18&" "&$C18,Brondata!$A$2:$R$16612,12,0)),"niet gevonden, check spelling") | F18: =IFERROR(IF($B18="","",VLOOKUP($B18&" "&$C18,Brondata!$A$2:$R$16612,13,0)),"niet gevonden, check spelling") | G18: =IFERROR(IF($B18="","",VLOOKUP($B18&" "&$C18,Brondata!$A$2:$R$16612,14,0)),"niet gevonden, check spelling") | H18: =IFERROR(IF($B18="","",VLOOKUP($B18&" "&$C18,Brondata!$A$2:$R$16612,11,0)),"niet gevonden, check spelling") | K18: =IFERROR(IF($B18="","",VLOOKUP($B18&" "&$C18,Brondata!$A$2:$R$16612,7,0)),"niet gevonden, check spelling") | L18: =IFERROR(IF($B18="","",VLOOKUP($B18&" "&$C18,Brondata!$A$2:$R$16612,10,0)),"niet gevonden, check spelling")
... D102: =IFERROR(IF(B102="","",VLOOKUP($B102&" "&$C102,Brondata!$A$2:$R$16612,5,0)),"niet gevonden, check spelling") | E102: =IFERROR(IF($B102="","",VLOOKUP($B102&" "&$C102,Brondata!$A$2:$R$16612,12,0)),"niet gevonden, check spelling") | F102: =IFERROR(IF($B102="","",VLOOKUP($B102&" "&$C102,Brondata!$A$2:$R$16612,13,0)),"niet gevonden, check spelling") | G102: =IFERROR(IF($B102="","",VLOOKUP($B102&" "&$C102,Brondata!$A$2:$R$16612,14,0)),"niet gevonden, check spelling") | H102: =IFERROR(IF($B102="","",VLOOKUP($B102&" "&$C102,Brondata!$A$2:$R$16612,11,0)),"niet gevonden, check spelling") | K102: =IFERROR(IF($B102="","",VLOOKUP($B102&" "&$C102,Brondata!$A$2:$R$16612,7,0)),"niet gevonden, check spelling") | L102: =IFERROR(IF($B102="","",VLOOKUP($B102&" "&$C102,Brondata!$A$2:$R$16612,10,0)),"niet gevonden, check spelling")
D103: =IFERROR(IF(B103="","",VLOOKUP($B103&" "&$C103,Brondata!$A$2:$R$16612,5,0)),"niet gevonden, check spelling") | K103: =IFERROR(IF($B103="","",VLOOKUP($B103&" "&$C103,Brondata!$A$2:$R$16612,7,0)),"niet gevonden, check spelling") | L103: =IFERROR(IF($B103="","",VLOOKUP($B103&" "&$C103,Brondata!$A$2:$R$16612,10,0)),"niet gevonden, check spelling")
D104: =IFERROR(IF(B104="","",VLOOKUP($B104&" "&$C104,Brondata!$A$2:$R$16612,5,0)),"niet gevonden, check spelling") | K104: =IFERROR(IF($B104="","",VLOOKUP($B104&" "&$C104,Brondata!$A$2:$R$16612,7,0)),"niet gevonden, check spelling") | L104: =IFERROR(IF($B104="","",VLOOKUP($B104&" "&$C104,Brondata!$A$2:$R$16612,10,0)),"niet gevonden, check spelling")
D105: =IFERROR(IF(B105="","",VLOOKUP($B105&" "&$C105,Brondata!$A$2:$R$16612,5,0)),"niet gevonden, check spelling") | K105: =IFERROR(IF($B105="","",VLOOKUP($B105&" "&$C105,Brondata!$A$2:$R$16612,7,0)),"niet gevonden, check spelling") | L105: =IFERROR(IF($B105="","",VLOOKUP($B105&" "&$C105,Brondata!$A$2:$R$16612,10,0)),"niet gevonden, check spelling")
D106: =IFERROR(IF(B106="","",VLOOKUP($B106&" "&$C106,Brondata!$A$2:$R$16612,5,0)),"niet gevonden, check spelling") | K106: =IFERROR(IF($B106="","",VLOOKUP($B106&" "&$C106,Brondata!$A$2:$R$16612,7,0)),"niet gevonden, check spelling") | L106: =IFERROR(IF($B106="","",VLOOKUP($B106&" "&$C106,Brondata!$A$2:$R$16612,10,0)),"niet gevonden, check spelling")
D107: =IFERROR(IF(B107="","",VLOOKUP($B107&" "&$C107,Brondata!$A$2:$R$16612,5,0)),"niet gevonden, check spelling") | K107: =IFERROR(IF($B107="","",VLOOKUP($B107&" "&$C107,Brondata!$A$2:$R$16612,7,0)),"niet gevonden, check spelling") | L107: =IFERROR(IF($B107="","",VLOOKUP($B107&" "&$C107,Brondata!$A$2:$R$16612,10,0)),"niet gevonden, check spelling")
D108: =IFERROR(IF(B108="","",VLOOKUP($B108&" "&$C108,Brondata!$A$2:$R$16612,5,0)),"niet gevonden, check spelling") | K108: =IFERROR(IF($B108="","",VLOOKUP($B108&" "&$C108,Brondata!$A$2:$R$16612,7,0)),"niet gevonden, check spelling") | L108: =IFERROR(IF($B108="","",VLOOKUP($B108&" "&$C108,Brondata!$A$2:$R$16612,10,0)),"niet gevonden, check spelling")
D109: =IFERROR(IF(B109="","",VLOOKUP($B109&" "&$C109,Brondata!$A$2:$R$16612,5,0)),"niet gevonden, check spelling") | K109: =IFERROR(IF($B109="","",VLOOKUP($B109&" "&$C109,Brondata!$A$2:$R$16612,7,0)),"niet gevonden, check spelling") | L109: =IFERROR(IF($B109="","",VLOOKUP($B109&" "&$C109,Brondata!$A$2:$R$16612,10,0)),"niet gevonden, check spelling")
D110: =IFERROR(IF(B110="","",VLOOKUP($B110&" "&$C110,Brondata!$A$2:$R$16612,5,0)),"niet gevonden, check spelling") | K110: =IFERROR(IF($B110="","",VLOOKUP($B110&" "&$C110,Brondata!$A$2:$R$16612,7,0)),"niet gevonden, check spelling") | L110: =IFERROR(IF($B110="","",VLOOKUP($B110&" "&$C110,Brondata!$A$2:$R$16612,10,0)),"niet gevonden, check spelling")
D111: =IFERROR(IF(B111="","",VLOOKUP($B111&" "&$C111,Brondata!$A$2:$R$16612,5,0)),"niet gevonden, check spelling") | K111: =IFERROR(IF($B111="","",VLOOKUP($B111&" "&$C111,Brondata!$A$2:$R$16612,7,0)),"niet gevonden, check spelling") | L111: =IFERROR(IF($B111="","",VLOOKUP($B111&" "&$C111,Brondata!$A$2:$R$16612,10,0)),"niet gevonden, check spelling")
D112: =IFERROR(IF(B112="","",VLOOKUP($B112&" "&$C112,Brondata!$A$2:$R$16612,5,0)),"niet gevonden, check spelling") | K112: =IFERROR(IF($B112="","",VLOOKUP($B112&" "&$C112,Brondata!$A$2:$R$16612,7,0)),"niet gevonden, check spelling") | L112: =IFERROR(IF($B112="","",VLOOKUP($B112&" "&$C112,Brondata!$A$2:$R$16612,10,0)),"niet gevonden, check spelling")
D113: =IFERROR(IF(B113="","",VLOOKUP($B113&" "&$C113,Brondata!$A$2:$R$16612,5,0)),"niet gevonden, check spelling") | K113: =IFERROR(IF($B113="","",VLOOKUP($B113&" "&$C113,Brondata!$A$2:$R$16612,7,0)),"niet gevonden, check spelling") | L113: =IFERROR(IF($B113="","",VLOOKUP($B113&" "&$C113,Brondata!$A$2:$R$16612,10,0)),"niet gevonden, check spelling")
D114: =IFERROR(IF(B114="","",VLOOKUP($B114&" "&$C114,Brondata!$A$2:$R$16612,5,0)),"niet gevonden, check spelling") | K114: =IFERROR(IF($B114="","",VLOOKUP($B114&" "&$C114,Brondata!$A$2:$R$16612,7,0)),"niet gevonden, check spelling") | L114: =IFERROR(IF($B114="","",VLOOKUP($B114&" "&$C114,Brondata!$A$2:$R$16612,10,0)),"niet gevonden, check spelling")
... D132: =IFERROR(IF(B132="","",VLOOKUP($B132&" "&$C132,Brondata!$A$2:$R$16612,5,0)),"niet gevonden, check spelling") | K132: =IFERROR(IF($B132="","",VLOOKUP($B132&" "&$C132,Brondata!$A$2:$R$16612,7,0)),"niet gevonden, check spelling") | L132: =IFERROR(IF($B132="","",VLOOKUP($B132&" "&$C132,Brondata!$A$2:$R$16612,10,0)),"niet gevonden, check spelling")
K133: =IFERROR(IF($B133="","",VLOOKUP($B133&" "&$C133,Brondata!$A$2:$R$16612,7,0)),"niet gevonden, check spelling") | L133: =IFERROR(IF($B133="","",VLOOKUP($B133&" "&$C133,Brondata!$A$2:$R$16612,10,0)),"niet gevonden, check spelling")
K134: =IFERROR(IF($B134="","",VLOOKUP($B134&" "&$C134,Brondata!$A$2:$R$16612,7,0)),"niet gevonden, check spelling") | L134: =IFERROR(IF($B134="","",VLOOKUP($B134&" "&$C134,Brondata!$A$2:$R$16612,10,0)),"niet gevonden, check spelling")
K135: =IFERROR(IF($B135="","",VLOOKUP($B135&" "&$C135,Brondata!$A$2:$R$16612,7,0)),"niet gevonden, check spelling") | L135: =IFERROR(IF($B135="","",VLOOKUP($B135&" "&$C135,Brondata!$A$2:$R$16612,10,0)),"niet gevonden, check spelling")
K136: =IFERROR(IF($B136="","",VLOOKUP($B136&" "&$C136,Brondata!$A$2:$R$16612,7,0)),"niet gevonden, check spelling") | L136: =IFERROR(IF($B136="","",VLOOKUP($B136&" "&$C136,Brondata!$A$2:$R$16612,10,0)),"niet gevonden, check spelling")
K137: =IFERROR(IF($B137="","",VLOOKUP($B137&" "&$C137,Brondata!$A$2:$R$16612,7,0)),"niet gevonden, check spelling") | L137: =IFERROR(IF($B137="","",VLOOKUP($B137&" "&$C137,Brondata!$A$2:$R$16612,10,0)),"niet gevonden, check spelling")
K138: =IFERROR(IF($B138="","",VLOOKUP($B138&" "&$C138,Brondata!$A$2:$R$16612,7,0)),"niet gevonden, check spelling") | L138: =IFERROR(IF($B138="","",VLOOKUP($B138&" "&$C138,Brondata!$A$2:$R$16612,10,0)),"niet gevonden, check spelling")
K139: =IFERROR(IF($B139="","",VLOOKUP($B139&" "&$C139,Brondata!$A$2:$R$16612,7,0)),"niet gevonden, check spelling") | L139: =IFERROR(IF($B139="","",VLOOKUP($B139&" "&$C139,Brondata!$A$2:$R$16612,10,0)),"niet gevonden, check spelling")
K140: =IFERROR(IF($B140="","",VLOOKUP($B140&" "&$C140,Brondata!$A$2:$R$16612,7,0)),"niet gevonden, check spelling") | L140: =IFERROR(IF($B140="","",VLOOKUP($B140&" "&$C140,Brondata!$A$2:$R$16612,10,0)),"niet gevonden, check spelling")
...

Sheet Natuurvrij max
A1: Type | B1: Naam | C1: Exemplaren in 2024 | D1: Woningen | E1: Limiet | F1: Overschrijding ? | G1: Q1 2025 | H1: Q2 2025 | I1: Q3 2025 | J1: Q4 2025 | K1: Q1 2026 | L1: Q2 2026 | M1: Q3 2026 | N1: Q4 2026
A2: CBS-buurt | B2: Groenswaard 1 | D2: 409 | E2: 136 | F2: =IF(MAX(G2:N2)>E2,"Overschrijding !!!",IF(E2-MAX(G2:N2)<=1,"Kwetsbaar","Geen overschrijding")) -> Geen overschrijding | G2: =COUNTIFS(Projecten!$D$2:$D$187,'Natuurvrij max'!$B2,Projecten!$I$2:$I$187,'Natuurvrij max'!G$1) -> 0 | H2: =COUNTIFS(Projecten!$D$2:$D$187,'Natuurvrij max'!$B2,Projecten!$I$2:$I$187,'Natuurvrij max'!H$1) -> 0 | I2: =COUNTIFS(Projecten!$D$2:$D$187,'Natuurvrij max'!$B2,Projecten!$I$2:$I$187,'Natuurvrij max'!I$1) -> 0 | J2: =COUNTIFS(Projecten!$D$2:$D$187,'Natuurvrij max'!$B2,Projecten!$I$2:$I$187,'Natuurvrij max'!J$1) -> 0 | K2: =COUNTIFS(Projecten!$D$2:$D$187,'Natuurvrij max'!$B2,Projecten!$I$2:$I$187,'Natuurvrij max'!K$1) -> 0 | L2: =COUNTIFS(Projecten!$D$2:$D$187,'Natuurvrij max'!$B2,Projecten!$I$2:$I$187,'Natuurvrij max'!L$1) -> 0 | M2: =COUNTIFS(Projecten!$D$2:$D$187,'Natuurvrij max'!$B2,Projecten!$I$2:$I$187,'Natuurvrij max'!M$1) -> 0 | N2: =COUNTIFS(Projecten!$D$2:$D$187,'Natuurvrij max'!$B2,Projecten!$I$2:$I$187,'Natuurvrij max'!N$1) -> 0
A3: CBS-buurt | B3: Groenswaard 2 | D3: 498 | E3: 165 | F3: =IF(MAX(G3:N3)>E3,"Overschrijding !!!",IF(E3-MAX(G3:N3)<=1,"Kwetsbaar","Geen overschrijding")) -> Geen overschrijding | G3: =COUNTIFS(Projecten!$D$2:$D$187,'Natuurvrij max'!$B3,Projecten!$I$2:$I$187,'Natuurvrij max'!G$1) -> 0 | H3: =COUNTIFS(Projecten!$D$2:$D$187,'Natuurvrij max'!$B3,Projecten!$I$2:$I$187,'Natuurvrij max'!H$1) -> 0 | I3: =COUNTIFS(Projecten!$D$2:$D$187,'Natuurvrij max'!$B3,Projecten!$I$2:$I$187,'Natuurvrij max'!I$1) -> 0 | J3: =COUNTIFS(Projecten!$D$2:$D$187,'Natuurvrij max'!$B3,Projecten!$I$2:$I$187,'Natuurvrij max'!J$1) -> 0 | K3: =COUNTIFS(Projecten!$D$2:$D$187,'Natuurvrij max'!$B3,Projecten!$I$2:$I$187,'Natuurvrij max'!K$1) -> 0 | L3: =COUNTIFS(Projecten!$D$2:$D$187,'Natuurvrij max'!$B3,Projecten!$I$2:$I$187,'Natuurvrij max'!L$1) -> 0 | M3: =COUNTIFS(Projecten!$D$2:$D$187,'Natuurvrij max'!$B3,Projecten!$I$2:$I$187,'Natuurvrij max'!M$1) -> 0 | N3: =COUNTIFS(Projecten!$D$2:$D$187,'Natuurvrij max'!$B3,Projecten!$I$2:$I$187,'Natuurvrij max'!N$1) -> 0
A4: CBS-buurt | B4: Groenswaard 3 | D4: 624 | E4: 207 | F4: =IF(MAX(G4:N4)>E4,"Overschrijding !!!",IF(E4-MAX(G4:N4)<=1,"Kwetsbaar","Geen overschrijding")) -> Geen overschrijding | G4: =COUNTIFS(Projecten!$D$2:$D$187,'Natuurvrij max'!$B4,Projecten!$I$2:$I$187,'Natuurvrij max'!G$1) -> 0 | H4: =COUNTIFS(Projecten!$D$2:$D$187,'Natuurvrij max'!$B4,Projecten!$I$2:$I$187,'Natuurvrij max'!H$1) -> 0 | I4: =COUNTIFS(Projecten!$D$2:$D$187,'Natuurvrij max'!$B4,Projecten!$I$2:$I$187,'Natuurvrij max'!I$1) -> 0 | J4: =COUNTIFS(Projecten!$D$2:$D$187,'Natuurvrij max'!$B4,Projecten!$I$2:$I$187,'Natuurvrij max'!J$1) -> 0 | K4: =COUNTIFS(Projecten!$D$2:$D$187,'Natuurvrij max'!$B4,Projecten!$I$2:$I$187,'Natuurvrij max'!K$1) -> 0 | L4: =COUNTIFS(Projecten!$D$2:$D$187,'Natuurvrij max'!$B4,Projecten!$I$2:$I$187,'Natuurvrij max'!L$1) -> 0 | M4: =COUNTIFS(Projecten!$D$2:$D$187,'Natuurvrij max'!$B4,Projecten!$I$2:$I$187,'Natuurvrij max'!M$1) -> 0 | N4: =COUNTIFS(Projecten!$D$2:$D$187,'Natuurvrij max'!$B4,Projecten!$I$2:$I$187,'Natuurvrij max'!N$1) -> 0
A5: CBS-buurt | B5: Peter Zuidlaan en Horstenbuurt | D5: 845 | E5: 281 | F5: =IF(MAX(G5:N5)>E5,"Overschrijding !!!",IF(E5-MAX(G5:N5)<=1,"Kwetsbaar","Geen overschrijding")) -> Geen overschrijding | G5: =COUNTIFS(Projecten!$D$2:$D$187,'Natuurvrij max'!$B5,Projecten!$I$2:$I$187,'Natuurvrij max'!G$1) -> 0 | H5: =COUNTIFS(Projecten!$D$2:$D$187,'Natuurvrij max'!$B5,Projecten!$I$2:$I$187,'Natuurvrij max'!H$1) -> 0 | I5: =COUNTIFS(Projecten!$D$2:$D$187,'Natuurvrij max'!$B5,Projecten!$I$2:$I$187,'Natuurvrij max'!I$1) -> 0 | J5: =COUNTIFS(Projecten!$D$2:$D$187,'Natuurvrij max'!$B5,Projecten!$I$2:$I$187,'Natuurvrij max'!J$1) -> 0 | K5: =COUNTIFS(Projecten!$D$2:$D$187,'Natuurvrij max'!$B5,Projecten!$I$2:$I$187,'Natuurvrij max'!K$1) -> 0 | L5: =COUNTIFS(Projecten!$D$2:$D$187,'Natuurvrij max'!$B5,Projecten!$I$2:$I$187,'Natuurvrij max'!L$1) -> 0 | M5: =COUNTIFS(Projecten!$D$2:$D$187,'Natuurvrij max'!$B5,Projecten!$I$2:$I$187,'Natuurvrij max'!M$1) -> 0 | N5: =COUNTIFS(Projecten!$D$2:$D$187,'Natuurvrij max'!$B5,Projecten!$I$2:$I$187,'Natuurvrij max'!N$1) -> 0
A6: CBS-buurt | B6: West 1 | D6: 98 | E6: 32 | F6: =IF(MAX(G6:N6)>E6,"Overschrijding !!!",IF(E6-MAX(G6:N6)<=1,"Kwetsbaar","Geen overschrijding")) -> Geen overschrijding | G6: =COUNTIFS(Projecten!$D$2:$D$187,'Natuurvrij max'!$B6,Projecten!$I$2:$I$187,'Natuurvrij max'!G$1) -> 0 | H6: =COUNTIFS(Projecten!$D$2:$D$187,'Natuurvrij max'!$B6,Projecten!$I$2:$I$187,'Natuurvrij max'!H$1) -> 0 | I6: =COUNTIFS(Projecten!$D$2:$D$187,'Natuurvrij max'!$B6,Projecten!$I$2:$I$187,'Natuurvrij max'!I$1) -> 0 | J6: =COUNTIFS(Projecten!$D$2:$D$187,'Natuurvrij max'!$B6,Projecten!$I$2:$I$187,'Natuurvrij max'!J$1) -> 0 | K6: =COUNTIFS(Projecten!$D$2:$D$187,'Natuurvrij max'!$B6,Projecten!$I$2:$I$187,'Natuurvrij max'!K$1) -> 0 | L6: =COUNTIFS(Projecten!$D$2:$D$187,'Natuurvrij max'!$B6,Projecten!$I$2:$I$187,'Natuurvrij max'!L$1) -> 0 | M6: =COUNTIFS(Projecten!$D$2:$D$187,'Natuurvrij max'!$B6,Projecten!$I$2:$I$187,'Natuurvrij max'!M$1) -> 0 | N6: =COUNTIFS(Projecten!$D$2:$D$187,'Natuurvrij max'!$B6,Projecten!$I$2:$I$187,'Natuurvrij max'!N$1) -> 0
A7: CBS-buurt | B7: Bomenwijk | D7: 901 | E7: 300 | F7: =IF(MAX(G7:N7)>E7,"Overschrijding !!!",IF(E7-MAX(G7:N7)<=1,"Kwetsbaar","Geen overschrijding")) -> Geen overschrijding | G7: =COUNTIFS(Projecten!$D$2:$D$187,'Natuurvrij max'!$B7,Projecten!$I$2:$I$187,'Natuurvrij max'!G$1) -> 0 | H7: =COUNTIFS(Projecten!$D$2:$D$187,'Natuurvrij max'!$B7,Projecten!$I$2:$I$187,'Natuurvrij max'!H$1) -> 0 | I7: =COUNTIFS(Projecten!$D$2:$D$187,'Natuurvrij max'!$B7,Projecten!$I$2:$I$187,'Natuurvrij max'!I$1) -> 0 | J7: =COUNTIFS(Projecten!$D$2:$D$187,'Natuurvrij max'!$B7,Projecten!$I$2:$I$187,'Natuurvrij max'!J$1) -> 0 | K7: =COUNTIFS(Projecten!$D$2:$D$187,'Natuurvrij max'!$B7,Projecten!$I$2:$I$187,'Natuurvrij max'!K$1) -> 0 | L7: =COUNTIFS(Projecten!$D$2:$D$187,'Natuurvrij max'!$B7,Projecten!$I$2:$I$187,'Natuurvrij max'!L$1) -> 0 | M7: =COUNTIFS(Projecten!$D$2:$D$187,'Natuurvrij max'!$B7,Projecten!$I$2:$I$187,'Natuurvrij max'!M$1) -> 0 | N7: =COUNTIFS(Projecten!$D$2:$D$187,'Natuurvrij max'!$B7,Projecten!$I$2:$I$187,'Natuurvrij max'!N$1) -> 0
A8: CBS-buurt | B8: Zuidplas 80 | D8: 2280 | E8: 759 | F8: =IF(MAX(G8:N8)>E8,"Overschrijding !!!",IF(E8-MAX(G8:N8)<=1,"Kwetsbaar","Geen overschrijding")) -> Geen overschrijding | G8: =COUNTIFS(Projecten!$D$2:$D$187,'Natuurvrij max'!$B8,Projecten!$I$2:$I$187,'Natuurvrij max'!G$1) -> 0 | H8: =COUNTIFS(Projecten!$D$2:$D$187,'Natuurvrij max'!$B8,Projecten!$I$2:$I$187,'Natuurvrij max'!H$1) -> 0 | I8: =COUNTIFS(Projecten!$D$2:$D$187,'Natuurvrij max'!$B8,Projecten!$I$2:$I$187,'Natuurvrij max'!I$1) -> 0 | J8: =COUNTIFS(Projecten!$D$2:$D$187,'Natuurvrij max'!$B8,Projecten!$I$2:$I$187,'Natuurvrij max'!J$1) -> 0 | K8: =COUNTIFS(Projecten!$D$2:$D$187,'Natuurvrij max'!$B8,Projecten!$I$2:$I$187,'Natuurvrij max'!K$1) -> 0 | L8: =COUNTIFS(Projecten!$D$2:$D$187,'Natuurvrij max'!$B8,Projecten!$I$2:$I$187,'Natuurvrij max'!L$1) -> 0 | M8: =COUNTIFS(Projecten!$D$2:$D$187,'Natuurvrij max'!$B8,Projecten!$I$2:$I$187,'Natuurvrij max'!M$1) -> 0 | N8: =COUNTIFS(Projecten!$D$2:$D$187,'Natuurvrij max'!$B8,Projecten!$I$2:$I$187,'Natuurvrij max'!N$1) -> 0
A9: CBS-buurt | B9: Zuidplas 90 | D9: 622 | E9: 207 | F9: =IF(MAX(G9:N9)>E9,"Overschrijding !!!",IF(E9-MAX(G9:N9)<=1,"Kwetsbaar","Geen overschrijding")) -> Geen overschrijding | G9: =COUNTIFS(Projecten!$D$2:$D$187,'Natuurvrij max'!$B9,Projecten!$I$2:$I$187,'Natuurvrij max'!G$1) -> 0 | H9: =COUNTIFS(Projecten!$D$2:$D$187,'Natuurvrij max'!$B9,Projecten!$I$2:$I$187,'Natuurvrij max'!H$1) -> 0 | I9: =COUNTIFS(Projecten!$D$2:$D$187,'Natuurvrij max'!$B9,Projecten!$I$2:$I$187,'Natuurvrij max'!I$1) -> 0 | J9: =COUNTIFS(Projecten!$D$2:$D$187,'Natuurvrij max'!$B9,Projecten!$I$2:$I$187,'Natuurvrij max'!J$1) -> 0 | K9: =COUNTIFS(Projecten!$D$2:$D$187,'Natuurvrij max'!$B9,Projecten!$I$2:$I$187,'Natuurvrij max'!K$1) -> 0 | L9: =COUNTIFS(Projecten!$D$2:$D$187,'Natuurvrij max'!$B9,Projecten!$I$2:$I$187,'Natuurvrij max'!L$1) -> 0 | M9: =COUNTIFS(Projecten!$D$2:$D$187,'Natuurvrij max'!$B9,Projecten!$I$2:$I$187,'Natuurvrij max'!M$1) -> 0 | N9: =COUNTIFS(Projecten!$D$2:$D$187,'Natuurvrij max'!$B9,Projecten!$I$2:$I$187,'Natuurvrij max'!N$1) -> 0
A10: CBS-buurt | B10: West 2 | D10: 264 | E10: 87 | F10: =IF(MAX(G10:N10)>E10,"Overschrijding !!!",IF(E10-MAX(G10:N10)<=1,"Kwetsbaar","Geen overschrijding")) -> Geen overschrijding | G10: =COUNTIFS(Projecten!$D$2:$D$187,'Natuurvrij max'!$B10,Projecten!$I$2:$I$187,'Natuurvrij max'!G$1) -> 0 | H10: =COUNTIFS(Projecten!$D$2:$D$187,'Natuurvrij max'!$B10,Projecten!$I$2:$I$187,'Natuurvrij max'!H$1) -> 0 | I10: =COUNTIFS(Projecten!$D$2:$D$187,'Natuurvrij max'!$B10,Projecten!$I$2:$I$187,'Natuurvrij max'!I$1) -> 0 | J10: =COUNTIFS(Projecten!$D$2:$D$187,'Natuurvrij max'!$B10,Projecten!$I$2:$I$187,'Natuurvrij max'!J$1) -> 0 | K10: =COUNTIFS(Projecten!$D$2:$D$187,'Natuurvrij max'!$B10,Projecten!$I$2:$I$187,'Natuurvrij max'!K$1) -> 0 | L10: =COUNTIFS(Projecten!$D$2:$D$187,'Natuurvrij max'!$B10,Projecten!$I$2:$I$187,'Natuurvrij max'!L$1) -> 0 | M10: =COUNTIFS(Projecten!$D$2:$D$187,'Natuurvrij max'!$B10,Projecten!$I$2:$I$187,'Natuurvrij max'!M$1) -> 0 | N10: =COUNTIFS(Projecten!$D$2:$D$187,'Natuurvrij max'!$B10,Projecten!$I$2:$I$187,'Natuurvrij max'!N$1) -> 0
A11: CBS-buurt | B11: Oranjewijk Zuid | D11: 565 | E11: 188 | F11: =IF(MAX(G11:N11)>E11,"Overschrijding !!!",IF(E11-MAX(G11:N11)<=1,"Kwetsbaar","Geen overschrijding")) -> Geen overschrijding | G11: =COUNTIFS(Projecten!$D$2:$D$187,'Natuurvrij max'!$B11,Projecten!$I$2:$I$187,'Natuurvrij max'!G$1) -> 0 | H11: =COUNTIFS(Projecten!$D$2:$D$187,'Natuurvrij max'!$B11,Projecten!$I$2:$I$187,'Natuurvrij max'!H$1) -> 0 | I11: =COUNTIFS(Projecten!$D$2:$D$187,'Natuurvrij max'!$B11,Projecten!$I$2:$I$187,'Natuurvrij max'!I$1) -> 1 | J11: =COUNTIFS(Projecten!$D$2:$D$187,'Natuurvrij max'!$B11,Projecten!$I$2:$I$187,'Natuurvrij max'!J$1) -> 0 | K11: =COUNTIFS(Projecten!$D$2:$D$187,'Natuurvrij max'!$B11,Projecten!$I$2:$I$187,'Natuurvrij max'!K$1) -> 0 | L11: =COUNTIFS(Projecten!$D$2:$D$187,'Natuurvrij max'!$B11,Projecten!$I$2:$I$187,'Natuurvrij max'!L$1) -> 0 | M11: =COUNTIFS(Projecten!$D$2:$D$187,'Natuurvrij max'!$B11,Projecten!$I$2:$I$187,'Natuurvrij max'!M$1) -> 0 | N11: =COUNTIFS(Projecten!$D$2:$D$187,'Natuurvrij max'!$B11,Projecten!$I$2:$I$187,'Natuurvrij max'!N$1) -> 0
A12: CBS-buurt | B12: Oranjewijk Noord | D12: 681 | E12: 226 | F12: =IF(MAX(G12:N12)>E12,"Overschrijding !!!",IF(E12-MAX(G12:N12)<=1,"Kwetsbaar","Geen overschrijding")) -> Geen overschrijding | G12: =COUNTIFS(Projecten!$D$2:$D$187,'Natuurvrij max'!$B12,Projecten!$I$2:$I$187,'Natuurvrij max'!G$1) -> 0 | H12: =COUNTIFS(Projecten!$D$2:$D$187,'Natuurvrij max'!$B12,Projecten!$I$2:$I$187,'Natuurvrij max'!H$1) -> 0 | I12: =COUNTIFS(Projecten!$D$2:$D$187,'Natuurvrij max'!$B12,Projecten!$I$2:$I$187,'Natuurvrij max'!I$1) -> 0 | J12: =COUNTIFS(Projecten!$D$2:$D$187,'Natuurvrij max'!$B12,Projecten!$I$2:$I$187,'Natuurvrij max'!J$1) -> 0 | K12: =COUNTIFS(Projecten!$D$2:$D$187,'Natuurvrij max'!$B12,Projecten!$I$2:$I$187,'Natuurvrij max'!K$1) -> 0 | L12: =COUNTIFS(Projecten!$D$2:$D$187,'Natuurvrij max'!$B12,Projecten!$I$2:$I$187,'Natuurvrij max'!L$1) -> 0 | M12: =COUNTIFS(Projecten!$D$2:$D$187,'Natuurvrij max'!$B12,Projecten!$I$2:$I$187,'Natuurvrij max'!M$1) -> 0 | N12: =COUNTIFS(Projecten!$D$2:$D$187,'Natuurvrij max'!$B12,Projecten!$I$2:$I$187,'Natuurvrij max'!N$1) -> 0
A13: CBS-buurt | B13: Vondelwijk | D13: 954 | E13: 317 | F13: =IF(MAX(G13:N13)>E13,"Overschrijding !!!",IF(E13-MAX(G13:N13)<=1,"Kwetsbaar","Geen overschrijding")) -> Geen overschrijding | G13: =COUNTIFS(Projecten!$D$2:$D$187,'Natuurvrij max'!$B13,Projecten!$I$2:$I$187,'Natuurvrij max'!G$1) -> 0 | H13: =COUNTIFS(Projecten!$D$2:$D$187,'Natuurvrij max'!$B13,Projecten!$I$2:$I$187,'Natuurvrij max'!H$1) -> 0 | I13: =COUNTIFS(Projecten!$D$2:$D$187,'Natuurvrij max'!$B13,Projecten!$I$2:$I$187,'Natuurvrij max'!I$1) -> 0 | J13: =COUNTIFS(Projecten!$D$2:$D$187,'Natuurvrij max'!$B13,Projecten!$I$2:$I$187,'Natuurvrij max'!J$1) -> 0 | K13: =COUNTIFS(Projecten!$D$2:$D$187,'Natuurvrij max'!$B13,Projecten!$I$2:$I$187,'Natuurvrij max'!K$1) -> 0 | L13: =COUNTIFS(Projecten!$D$2:$D$187,'Natuurvrij max'!$B13,Projecten!$I$2:$I$187,'Natuurvrij max'!L$1) -> 0 | M13: =COUNTIFS(Projecten!$D$2:$D$187,'Natuurvrij max'!$B13,Projecten!$I$2:$I$187,'Natuurvrij max'!M$1) -> 0 | N13: =COUNTIFS(Projecten!$D$2:$D$187,'Natuurvrij max'!$B13,Projecten!$I$2:$I$187,'Natuurvrij max'!N$1) -> 0
... A19: CBS-buurt | B19: Zeeheldenbuurt | D19: 278 | E19: 92 | F19: =IF(MAX(G19:N19)>E19,"Overschrijding !!!",IF(E19-MAX(G19:N19)<=1,"Kwetsbaar","Geen overschrijding")) -> Geen overschrijding | G19: =COUNTIFS(Projecten!$D$2:$D$187,'Natuurvrij max'!$B19,Projecten!$I$2:$I$187,'Natuurvrij max'!G$1) -> 0 | H19: =COUNTIFS(Projecten!$D$2:$D$187,'Natuurvrij max'!$B19,Projecten!$I$2:$I$187,'Natuurvrij max'!H$1) -> 0 | I19: =COUNTIFS(Projecten!$D$2:$D$187,'Natuurvrij max'!$B19,Projecten!$I$2:$I$187,'Natuurvrij max'!I$1) -> 0 | J19: =COUNTIFS(Projecten!$D$2:$D$187,'Natuurvrij max'!$B19,Projecten!$I$2:$I$187,'Natuurvrij max'!J$1) -> 0 | K19: =COUNTIFS(Projecten!$D$2:$D$187,'Natuurvrij max'!$B19,Projecten!$I$2:$I$187,'Natuurvrij max'!K$1) -> 0 | L19: =COUNTIFS(Projecten!$D$2:$D$187,'Natuurvrij max'!$B19,Projecten!$I$2:$I$187,'Natuurvrij max'!L$1) -> 0 | M19: =COUNTIFS(Projecten!$D$2:$D$187,'Natuurvrij max'!$B19,Projecten!$I$2:$I$187,'Natuurvrij max'!M$1) -> 0 | N19: =COUNTIFS(Projecten!$D$2:$D$187,'Natuurvrij max'!$B19,Projecten!$I$2:$I$187,'Natuurvrij max'!N$1) -> 0
A20: Bolwerk spreeuw | B20: #1 | C20: 38 | D20: 516 | E20: 129 | F20: =IF(MAX(G20:N20)>E20,"Overschrijding !!!",IF(E20-MAX(G20:N20)<=1,"Kwetsbaar","Geen overschrijding")) -> Geen overschrijding | G20: =COUNTIFS(Projecten!$E$2:$E$187,"Bolwerk "&ROW()-19,Projecten!$I$2:$I$187,'Natuurvrij max'!G$1) -> 0 | H20: =COUNTIFS(Projecten!$E$2:$E$187,"Bolwerk "&ROW()-19,Projecten!$I$2:$I$187,'Natuurvrij max'!H$1) -> 0 | I20: =COUNTIFS(Projecten!$E$2:$E$187,"Bolwerk "&ROW()-19,Projecten!$I$2:$I$187,'Natuurvrij max'!I$1) -> 0 | J20: =COUNTIFS(Projecten!$E$2:$E$187,"Bolwerk "&ROW()-19,Projecten!$I$2:$I$187,'Natuurvrij max'!J$1) -> 0 | K20: =COUNTIFS(Projecten!$E$2:$E$187,"Bolwerk "&ROW()-19,Projecten!$I$2:$I$187,'Natuurvrij max'!K$1) -> 0 | L20: =COUNTIFS(Projecten!$E$2:$E$187,"Bolwerk "&ROW()-19,Projecten!$I$2:$I$187,'Natuurvrij max'!L$1) -> 0 | M20: =COUNTIFS(Projecten!$E$2:$E$187,"Bolwerk "&ROW()-19,Projecten!$I$2:$I$187,'Natuurvrij max'!M$1) -> 0 | N20: =COUNTIFS(Projecten!$E$2:$E$187,"Bolwerk "&ROW()-19,Projecten!$I$2:$I$187,'Natuurvrij max'!N$1) -> 0
A21: Bolwerk spreeuw | B21: #2 | C21: 9 | D21: 239 | E21: 119 | F21: =IF(MAX(G21:N21)>E21,"Overschrijding !!!",IF(E21-MAX(G21:N21)<=1,"Kwetsbaar","Geen overschrijding")) -> Geen overschrijding | G21: =COUNTIFS(Projecten!$E$2:$E$187,"Bolwerk "&ROW()-19,Projecten!$I$2:$I$187,'Natuurvrij max'!G$1) -> 0 | H21: =COUNTIFS(Projecten!$E$2:$E$187,"Bolwerk "&ROW()-19,Projecten!$I$2:$I$187,'Natuurvrij max'!H$1) -> 0 | I21: =COUNTIFS(Projecten!$E$2:$E$187,"Bolwerk "&ROW()-19,Projecten!$I$2:$I$187,'Natuurvrij max'!I$1) -> 0 | J21: =COUNTIFS(Projecten!$E$2:$E$187,"Bolwerk "&ROW()-19,Projecten!$I$2:$I$187,'Natuurvrij max'!J$1) -> 0 | K21: =COUNTIFS(Projecten!$E$2:$E$187,"Bolwerk "&ROW()-19,Projecten!$I$2:$I$187,'Natuurvrij max'!K$1) -> 0 | L21: =COUNTIFS(Projecten!$E$2:$E$187,"Bolwerk "&ROW()-19,Projecten!$I$2:$I$187,'Natuurvrij max'!L$1) -> 0 | M21: =COUNTIFS(Projecten!$E$2:$E$187,"Bolwerk "&ROW()-19,Projecten!$I$2:$I$187,'Natuurvrij max'!M$1) -> 0 | N21: =COUNTIFS(Projecten!$E$2:$E$187,"Bolwerk "&ROW()-19,Projecten!$I$2:$I$187,'Natuurvrij max'!N$1) -> 0
A22: Bolwerk spreeuw | B22: #3 | C22: 2 | D22: 17 | E22: 8 | F22: =IF(MAX(G22:N22)>E22,"Overschrijding !!!",IF(E22-MAX(G22:N22)<=1,"Kwetsbaar","Geen overschrijding")) -> Geen overschrijding | G22: =COUNTIFS(Projecten!$E$2:$E$187,"Bolwerk "&ROW()-19,Projecten!$I$2:$I$187,'Natuurvrij max'!G$1) -> 0 | H22: =COUNTIFS(Projecten!$E$2:$E$187,"Bolwerk "&ROW()-19,Projecten!$I$2:$I$187,'Natuurvrij max'!H$1) -> 0 | I22: =COUNTIFS(Projecten!$E$2:$E$187,"Bolwerk "&ROW()-19,Projecten!$I$2:$I$187,'Natuurvrij max'!I$1) -> 0 | J22: =COUNTIFS(Projecten!$E$2:$E$187,"Bolwerk "&ROW()-19,Projecten!$I$2:$I$187,'Natuurvrij max'!J$1) -> 0 | K22: =COUNTIFS(Projecten!$E$2:$E$187,"Bolwerk "&ROW()-19,Projecten!$I$2:$I$187,'Natuurvrij max'!K$1) -> 0 | L22: =COUNTIFS(Projecten!$E$2:$E$187,"Bolwerk "&ROW()-19,Projecten!$I$2:$I$187,'Natuurvrij max'!L$1) -> 0 | M22: =COUNTIFS(Projecten!$E$2:$E$187,"Bolwerk "&ROW()-19,Projecten!$I$2:$I$187,'Natuurvrij max'!M$1) -> 0 | N22: =COUNTIFS(Projecten!$E$2:$E$187,"Bolwerk "&ROW()-19,Projecten!$I$2:$I$187,'Natuurvrij max'!N$1) -> 0
A23: Bolwerk spreeuw | B23: #4 | C23: 8 | D23: 139 | E23: 69 | F23: =IF(MAX(G23:N23)>E23,"Overschrijding !!!",IF(E23-MAX(G23:N23)<=1,"Kwetsbaar","Geen overschrijding")) -> Geen overschrijding | G23: =COUNTIFS(Projecten!$E$2:$E$187,"Bolwerk "&ROW()-19,Projecten!$I$2:$I$187,'Natuurvrij max'!G$1) -> 0 | H23: =COUNTIFS(Projecten!$E$2:$E$187,"Bolwerk "&ROW()-19,Projecten!$I$2:$I$187,'Natuurvrij max'!H$1) -> 0 | I23: =COUNTIFS(Projecten!$E$2:$E$187,"Bolwerk "&ROW()-19,Projecten!$I$2:$I$187,'Natuurvrij max'!I$1) -> 0 | J23: =COUNTIFS(Projecten!$E$2:$E$187,"Bolwerk "&ROW()-19,Projecten!$I$2:$I$187,'Natuurvrij max'!J$1) -> 0 | K23: =COUNTIFS(Projecten!$E$2:$E$187,"Bolwerk "&ROW()-19,Projecten!$I$2:$I$187,'Natuurvrij max'!K$1) -> 0 | L23: =COUNTIFS(Projecten!$E$2:$E$187,"Bolwerk "&ROW()-19,Projecten!$I$2:$I$187,'Natuurvrij max'!L$1) -> 0 | M23: =COUNTIFS(Projecten!$E$2:$E$187,"Bolwerk "&ROW()-19,Projecten!$I$2:$I$187,'Natuurvrij max'!M$1) -> 0 | N23: =COUNTIFS(Projecten!$E$2:$E$187,"Bolwerk "&ROW()-19,Projecten!$I$2:$I$187,'Natuurvrij max'!N$1) -> 0
A24: Bolwerk spreeuw | B24: #5 | C24: 2 | D24: 88 | E24: 44 | F24: =IF(MAX(G24:N24)>E24,"Overschrijding !!!",IF(E24-MAX(G24:N24)<=1,"Kwetsbaar","Geen overschrijding")) -> Geen overschrijding | G24: =COUNTIFS(Projecten!$E$2:$E$187,"Bolwerk "&ROW()-19,Projecten!$I$2:$I$187,'Natuurvrij max'!G$1) -> 0 | H24: =COUNTIFS(Projecten!$E$2:$E$187,"Bolwerk "&ROW()-19,Projecten!$I$2:$I$187,'Natuurvrij max'!H$1) -> 0 | I24: =COUNTIFS(Projecten!$E$2:$E$187,"Bolwerk "&ROW()-19,Projecten!$I$2:$I$187,'Natuurvrij max'!I$1) -> 0 | J24: =COUNTIFS(Projecten!$E$2:$E$187,"Bolwerk "&ROW()-19,Projecten!$I$2:$I$187,'Natuurvrij max'!J$1) -> 0 | K24: =COUNTIFS(Projecten!$E$2:$E$187,"Bolwerk "&ROW()-19,Projecten!$I$2:$I$187,'Natuurvrij max'!K$1) -> 0 | L24: =COUNTIFS(Projecten!$E$2:$E$187,"Bolwerk "&ROW()-19,Projecten!$I$2:$I$187,'Natuurvrij max'!L$1) -> 0 | M24: =COUNTIFS(Projecten!$E$2:$E$187,"Bolwerk "&ROW()-19,Projecten!$I$2:$I$187,'Natuurvrij max'!M$1) -> 0 | N24: =COUNTIFS(Projecten!$E$2:$E$187,"Bolwerk "&ROW()-19,Projecten!$I$2:$I$187,'Natuurvrij max'!N$1) -> 0
A25: Bolwerk spreeuw | B25: #6 | C25: 1 | D25: 36 | E25: 18 | F25: =IF(MAX(G25:N25)>E25,"Overschrijding !!!",IF(E25-MAX(G25:N25)<=1,"Kwetsbaar","Geen overschrijding")) -> Geen overschrijding | G25: =COUNTIFS(Projecten!$E$2:$E$187,"Bolwerk "&ROW()-19,Projecten!$I$2:$I$187,'Natuurvrij max'!G$1) -> 0 | H25: =COUNTIFS(Projecten!$E$2:$E$187,"Bolwerk "&ROW()-19,Projecten!$I$2:$I$187,'Natuurvrij max'!H$1) -> 0 | I25: =COUNTIFS(Projecten!$E$2:$E$187,"Bolwerk "&ROW()-19,Projecten!$I$2:$I$187,'Natuurvrij max'!I$1) -> 0 | J25: =COUNTIFS(Projecten!$E$2:$E$187,"Bolwerk "&ROW()-19,Projecten!$I$2:$I$187,'Natuurvrij max'!J$1) -> 0 | K25: =COUNTIFS(Projecten!$E$2:$E$187,"Bolwerk "&ROW()-19,Projecten!$I$2:$I$187,'Natuurvrij max'!K$1) -> 0 | L25: =COUNTIFS(Projecten!$E$2:$E$187,"Bolwerk "&ROW()-19,Projecten!$I$2:$I$187,'Natuurvrij max'!L$1) -> 0 | M25: =COUNTIFS(Projecten!$E$2:$E$187,"Bolwerk "&ROW()-19,Projecten!$I$2:$I$187,'Natuurvrij max'!M$1) -> 0 | N25: =COUNTIFS(Projecten!$E$2:$E$187,"Bolwerk "&ROW()-19,Projecten!$I$2:$I$187,'Natuurvrij max'!N$1) -> 0
A26: Bolwerk spreeuw | B26: #7 | C26: 12 | D26: 215 | E26: 53 | F26: =IF(MAX(G26:N26)>E26,"Overschrijding !!!",IF(E26-MAX(G26:N26)<=1,"Kwetsbaar","Geen overschrijding")) -> Geen overschrijding | G26: =COUNTIFS(Projecten!$E$2:$E$187,"Bolwerk "&ROW()-19,Projecten!$I$2:$I$187,'Natuurvrij max'!G$1) -> 0 | H26: =COUNTIFS(Projecten!$E$2:$E$187,"Bolwerk "&ROW()-19,Projecten!$I$2:$I$187,'Natuurvrij max'!H$1) -> 0 | I26: =COUNTIFS(Projecten!$E$2:$E$187,"Bolwerk "&ROW()-19,Projecten!$I$2:$I$187,'Natuurvrij max'!I$1) -> 0 | J26: =COUNTIFS(Projecten!$E$2:$E$187,"Bolwerk "&ROW()-19,Projecten!$I$2:$I$187,'Natuurvrij max'!J$1) -> 0 | K26: =COUNTIFS(Projecten!$E$2:$E$187,"Bolwerk "&ROW()-19,Projecten!$I$2:$I$187,'Natuurvrij max'!K$1) -> 0 | L26: =COUNTIFS(Projecten!$E$2:$E$187,"Bolwerk "&ROW()-19,Projecten!$I$2:$I$187,'Natuurvrij max'!L$1) -> 0 | M26: =COUNTIFS(Projecten!$E$2:$E$187,"Bolwerk "&ROW()-19,Projecten!$I$2:$I$187,'Natuurvrij max'!M$1) -> 0 | N26: =COUNTIFS(Projecten!$E$2:$E$187,"Bolwerk "&ROW()-19,Projecten!$I$2:$I$187,'Natuurvrij max'!N$1) -> 0
A27: Bolwerk spreeuw | B27: #8 | C27: 16 | D27: 294 | E27: 73 | F27: =IF(MAX(G27:N27)>E27,"Overschrijding !!!",IF(E27-MAX(G27:N27)<=1,"Kwetsbaar","Geen overschrijding")) -> Geen overschrijding | G27: =COUNTIFS(Projecten!$E$2:$E$187,"Bolwerk "&ROW()-19,Projecten!$I$2:$I$187,'Natuurvrij max'!G$1) -> 0 | H27: =COUNTIFS(Projecten!$E$2:$E$187,"Bolwerk "&ROW()-19,Projecten!$I$2:$I$187,'Natuurvrij max'!H$1) -> 0 | I27: =COUNTIFS(Projecten!$E$2:$E$187,"Bolwerk "&ROW()-19,Projecten!$I$2:$I$187,'Natuurvrij max'!I$1) -> 0 | J27: =COUNTIFS(Projecten!$E$2:$E$187,"Bolwerk "&ROW()-19,Projecten!$I$2:$I$187,'Natuurvrij max'!J$1) -> 0 | K27: =COUNTIFS(Projecten!$E$2:$E$187,"Bolwerk "&ROW()-19,Projecten!$I$2:$I$187,'Natuurvrij max'!K$1) -> 0 | L27: =COUNTIFS(Projecten!$E$2:$E$187,"Bolwerk "&ROW()-19,Projecten!$I$2:$I$187,'Natuurvrij max'!L$1) -> 0 | M27: =COUNTIFS(Projecten!$E$2:$E$187,"Bolwerk "&ROW()-19,Projecten!$I$2:$I$187,'Natuurvrij max'!M$1) -> 0 | N27: =COUNTIFS(Projecten!$E$2:$E$187,"Bolwerk "&ROW()-19,Projecten!$I$2:$I$187,'Natuurvrij max'!N$1) -> 0
A28: Bolwerk spreeuw | B28: #9 | C28: 15 | D28: 115 | E28: 28 | F28: =IF(MAX(G28:N28)>E28,"Overschrijding !!!",IF(E28-MAX(G28:N28)<=1,"Kwetsbaar","Geen overschrijding")) -> Geen overschrijding | G28: =COUNTIFS(Projecten!$E$2:$E$187,"Bolwerk "&ROW()-19,Projecten!$I$2:$I$187,'Natuurvrij max'!G$1) -> 0 | H28: =COUNTIFS(Projecten!$E$2:$E$187,"Bolwerk "&ROW()-19,Projecten!$I$2:$I$187,'Natuurvrij max'!H$1) -> 0 | I28: =COUNTIFS(Projecten!$E$2:$E$187,"Bolwerk "&ROW()-19,Projecten!$I$2:$I$187,'Natuurvrij max'!I$1) -> 0 | J28: =COUNTIFS(Projecten!$E$2:$E$187,"Bolwerk "&ROW()-19,Projecten!$I$2:$I$187,'Natuurvrij max'!J$1) -> 0 | K28: =COUNTIFS(Projecten!$E$2:$E$187,"Bolwerk "&ROW()-19,Projecten!$I$2:$I$187,'Natuurvrij max'!K$1) -> 0 | L28: =COUNTIFS(Projecten!$E$2:$E$187,"Bolwerk "&ROW()-19,Projecten!$I$2:$I$187,'Natuurvrij max'!L$1) -> 0 | M28: =COUNTIFS(Projecten!$E$2:$E$187,"Bolwerk "&ROW()-19,Projecten!$I$2:$I$187,'Natuurvrij max'!M$1) -> 0 | N28: =COUNTIFS(Projecten!$E$2:$E$187,"Bolwerk "&ROW()-19,Projecten!$I$2:$I$187,'Natuurvrij max'!N$1) -> 0
A29: Bolwerk spreeuw | B29: #10 | C29: 10 | D29: 236 | E29: 59 | F29: =IF(MAX(G29:N29)>E29,"Overschrijding !!!",IF(E29-MAX(G29:N29)<=1,"Kwetsbaar","Geen overschrijding")) -> Geen overschrijding | G29: =COUNTIFS(Projecten!$E$2:$E$187,"Bolwerk "&ROW()-19,Projecten!$I$2:$I$187,'Natuurvrij max'!G$1) -> 0 | H29: =COUNTIFS(Projecten!$E$2:$E$187,"Bolwerk "&ROW()-19,Projecten!$I$2:$I$187,'Natuurvrij max'!H$1) -> 0 | I29: =COUNTIFS(Projecten!$E$2:$E$187,"Bolwerk "&ROW()-19,Projecten!$I$2:$I$187,'Natuurvrij max'!I$1) -> 0 | J29: =COUNTIFS(Projecten!$E$2:$E$187,"Bolwerk "&ROW()-19,Projecten!$I$2:$I$187,'Natuurvrij max'!J$1) -> 0 | K29: =COUNTIFS(Projecten!$E$2:$E$187,"Bolwerk "&ROW()-19,Projecten!$I$2:$I$187,'Natuurvrij max'!K$1) -> 0 | L29: =COUNTIFS(Projecten!$E$2:$E$187,"Bolwerk "&ROW()-19,Projecten!$I$2:$I$187,'Natuurvrij max'!L$1) -> 0 | M29: =COUNTIFS(Projecten!$E$2:$E$187,"Bolwerk "&ROW()-19,Projecten!$I$2:$I$187,'Natuurvrij max'!M$1) -> 0 | N29: =COUNTIFS(Projecten!$E$2:$E$187,"Bolwerk "&ROW()-19,Projecten!$I$2:$I$187,'Natuurvrij max'!N$1) -> 0
A30: Bolwerk spreeuw | B30: #11 | C30: 6 | D30: 143 | E30: 71 | F30: =IF(MAX(G30:N30)>E30,"Overschrijding !!!",IF(E30-MAX(G30:N30)<=1,"Kwetsbaar","Geen overschrijding")) -> Geen overschrijding | G30: =COUNTIFS(Projecten!$E$2:$E$187,"Bolwerk "&ROW()-19,Projecten!$I$2:$I$187,'Natuurvrij max'!G$1) -> 0 | H30: =COUNTIFS(Projecten!$E$2:$E$187,"Bolwerk "&ROW()-19,Projecten!$I$2:$I$187,'Natuurvrij max'!H$1) -> 0 | I30: =COUNTIFS(Projecten!$E$2:$E$187,"Bolwerk "&ROW()-19,Projecten!$I$2:$I$187,'Natuurvrij max'!I$1) -> 0 | J30: =COUNTIFS(Projecten!$E$2:$E$187,"Bolwerk "&ROW()-19,Projecten!$I$2:$I$187,'Natuurvrij max'!J$1) -> 0 | K30: =COUNTIFS(Projecten!$E$2:$E$187,"Bolwerk "&ROW()-19,Projecten!$I$2:$I$187,'Natuurvrij max'!K$1) -> 0 | L30: =COUNTIFS(Projecten!$E$2:$E$187,"Bolwerk "&ROW()-19,Projecten!$I$2:$I$187,'Natuurvrij max'!L$1) -> 0 | M30: =COUNTIFS(Projecten!$E$2:$E$187,"Bolwerk "&ROW()-19,Projecten!$I$2:$I$187,'Natuurvrij max'!M$1) -> 0 | N30: =COUNTIFS(Projecten!$E$2:$E$187,"Bolwerk "&ROW()-19,Projecten!$I$2:$I$187,'Natuurvrij max'!N$1) -> 0
A31: Bolwerk spreeuw | B31: #12 | C31: 11 | D31: 132 | E31: 33 | F31: =IF(MAX(G31:N31)>E31,"Overschrijding !!!",IF(E31-MAX(G31:N31)<=1,"Kwetsbaar","Geen overschrijding")) -> Geen overschrijding | G31: =COUNTIFS(Projecten!$E$2:$E$187,"Bolwerk "&ROW()-19,Projecten!$I$2:$I$187,'Natuurvrij max'!G$1) -> 0 | H31: =COUNTIFS(Projecten!$E$2:$E$187,"Bolwerk "&ROW()-19,Projecten!$I$2:$I$187,'Natuurvrij max'!H$1) -> 0 | I31: =COUNTIFS(Projecten!$E$2:$E$187,"Bolwerk "&ROW()-19,Projecten!$I$2:$I$187,'Natuurvrij max'!I$1) -> 0 | J31: =COUNTIFS(Projecten!$E$2:$E$187,"Bolwerk "&ROW()-19,Projecten!$I$2:$I$187,'Natuurvrij max'!J$1) -> 0 | K31: =COUNTIFS(Projecten!$E$2:$E$187,"Bolwerk "&ROW()-19,Projecten!$I$2:$I$187,'Natuurvrij max'!K$1) -> 0 | L31: =COUNTIFS(Projecten!$E$2:$E$187,"Bolwerk "&ROW()-19,Projecten!$I$2:$I$187,'Natuurvrij max'!L$1) -> 0 | M31: =COUNTIFS(Projecten!$E$2:$E$187,"Bolwerk "&ROW()-19,Projecten!$I$2:$I$187,'Natuurvrij max'!M$1) -> 0 | N31: =COUNTIFS(Projecten!$E$2:$E$187,"Bolwerk "&ROW()-19,Projecten!$I$2:$I$187,'Natuurvrij max'!N$1) -> 0
... A52: Bolwerk spreeuw | B52: #33 | C52: 1 | D52: 12 | E52: 6 | F52: =IF(MAX(G52:N52)>E52,"Overschrijding !!!",IF(E52-MAX(G52:N52)<=1,"Kwetsbaar","Geen overschrijding")) -> Geen overschrijding | G52: =COUNTIFS(Projecten!$E$2:$E$187,"Bolwerk "&ROW()-19,Projecten!$I$2:$I$187,'Natuurvrij max'!G$1) -> 0 | H52: =COUNTIFS(Projecten!$E$2:$E$187,"Bolwerk "&ROW()-19,Projecten!$I$2:$I$187,'Natuurvrij max'!H$1) -> 0 | I52: =COUNTIFS(Projecten!$E$2:$E$187,"Bolwerk "&ROW()-19,Projecten!$I$2:$I$187,'Natuurvrij max'!I$1) -> 0 | J52: =COUNTIFS(Projecten!$E$2:$E$187,"Bolwerk "&ROW()-19,Projecten!$I$2:$I$187,'Natuurvrij max'!J$1) -> 0 | K52: =COUNTIFS(Projecten!$E$2:$E$187,"Bolwerk "&ROW()-19,Projecten!$I$2:$I$187,'Natuurvrij max'!K$1) -> 0 | L52: =COUNTIFS(Projecten!$E$2:$E$187,"Bolwerk "&ROW()-19,Projecten!$I$2:$I$187,'Natuurvrij max'!L$1) -> 0 | M52: =COUNTIFS(Projecten!$E$2:$E$187,"Bolwerk "&ROW()-19,Projecten!$I$2:$I$187,'Natuurvrij max'!M$1) -> 0 | N52: =COUNTIFS(Projecten!$E$2:$E$187,"Bolwerk "&ROW()-19,Projecten!$I$2:$I$187,'Natuurvrij max'!N$1) -> 0
A53: Bolwerk mus | B53: #1 | C53: 11 | D53: 164 | E53: 41 | F53: =IF(MAX(G53:N53)>E53,"Overschrijding !!!",IF(E53-MAX(G53:N53)<=1,"Kwetsbaar","Geen overschrijding")) -> Geen overschrijding | G53: =COUNTIFS(Projecten!$F$2:$F$187,"Bolwerk "&ROW()-52,Projecten!$I$2:$I$187,'Natuurvrij max'!G$1) -> 0 | H53: =COUNTIFS(Projecten!$F$2:$F$187,"Bolwerk "&ROW()-52,Projecten!$I$2:$I$187,'Natuurvrij max'!H$1) -> 0 | I53: =COUNTIFS(Projecten!$F$2:$F$187,"Bolwerk "&ROW()-52,Projecten!$I$2:$I$187,'Natuurvrij max'!I$1) -> 0 | J53: =COUNTIFS(Projecten!$F$2:$F$187,"Bolwerk "&ROW()-52,Projecten!$I$2:$I$187,'Natuurvrij max'!J$1) -> 0 | K53: =COUNTIFS(Projecten!$F$2:$F$187,"Bolwerk "&ROW()-52,Projecten!$I$2:$I$187,'Natuurvrij max'!K$1) -> 0 | L53: =COUNTIFS(Projecten!$F$2:$F$187,"Bolwerk "&ROW()-52,Projecten!$I$2:$I$187,'Natuurvrij max'!L$1) -> 0 | M53: =COUNTIFS(Projecten!$F$2:$F$187,"Bolwerk "&ROW()-52,Projecten!$I$2:$I$187,'Natuurvrij max'!M$1) -> 0 | N53: =COUNTIFS(Projecten!$F$2:$F$187,"Bolwerk "&ROW()-52,Projecten!$I$2:$I$187,'Natuurvrij max'!N$1) -> 0
A54: Bolwerk mus | B54: #2 | C54: 22 | D54: 184 | E54: 46 | F54: =IF(MAX(G54:N54)>E54,"Overschrijding !!!",IF(E54-MAX(G54:N54)<=1,"Kwetsbaar","Geen overschrijding")) -> Geen overschrijding | G54: =COUNTIFS(Projecten!$F$2:$F$187,"Bolwerk "&ROW()-52,Projecten!$I$2:$I$187,'Natuurvrij max'!G$1) -> 0 | H54: =COUNTIFS(Projecten!$F$2:$F$187,"Bolwerk "&ROW()-52,Projecten!$I$2:$I$187,'Natuurvrij max'!H$1) -> 0 | I54: =COUNTIFS(Projecten!$F$2:$F$187,"Bolwerk "&ROW()-52,Projecten!$I$2:$I$187,'Natuurvrij max'!I$1) -> 0 | J54: =COUNTIFS(Projecten!$F$2:$F$187,"Bolwerk "&ROW()-52,Projecten!$I$2:$I$187,'Natuurvrij max'!J$1) -> 0 | K54: =COUNTIFS(Projecten!$F$2:$F$187,"Bolwerk "&ROW()-52,Projecten!$I$2:$I$187,'Natuurvrij max'!K$1) -> 0 | L54: =COUNTIFS(Projecten!$F$2:$F$187,"Bolwerk "&ROW()-52,Projecten!$I$2:$I$187,'Natuurvrij max'!L$1) -> 0 | M54: =COUNTIFS(Projecten!$F$2:$F$187,"Bolwerk "&ROW()-52,Projecten!$I$2:$I$187,'Natuurvrij max'!M$1) -> 0 | N54: =COUNTIFS(Projecten!$F$2:$F$187,"Bolwerk "&ROW()-52,Projecten!$I$2:$I$187,'Natuurvrij max'!N$1) -> 0
A55: Bolwerk mus | B55: #3 | C55: 18 | D55: 86 | E55: 21 | F55: =IF(MAX(G55:N55)>E55,"Overschrijding !!!",IF(E55-MAX(G55:N55)<=1,"Kwetsbaar","Geen overschrijding")) -> Geen overschrijding | G55: =COUNTIFS(Projecten!$F$2:$F$187,"Bolwerk "&ROW()-52,Projecten!$I$2:$I$187,'Natuurvrij max'!G$1) -> 0 | H55: =COUNTIFS(Projecten!$F$2:$F$187,"Bolwerk "&ROW()-52,Projecten!$I$2:$I$187,'Natuurvrij max'!H$1) -> 0 | I55: =COUNTIFS(Projecten!$F$2:$F$187,"Bolwerk "&ROW()-52,Projecten!$I$2:$I$187,'Natuurvrij max'!I$1) -> 0 | J55: =COUNTIFS(Projecten!$F$2:$F$187,"Bolwerk "&ROW()-52,Projecten!$I$2:$I$187,'Natuurvrij max'!J$1) -> 0 | K55: =COUNTIFS(Projecten!$F$2:$F$187,"Bolwerk "&ROW()-52,Projecten!$I$2:$I$187,'Natuurvrij max'!K$1) -> 0 | L55: =COUNTIFS(Projecten!$F$2:$F$187,"Bolwerk "&ROW()-52,Projecten!$I$2:$I$187,'Natuurvrij max'!L$1) -> 0 | M55: =COUNTIFS(Projecten!$F$2:$F$187,"Bolwerk "&ROW()-52,Projecten!$I$2:$I$187,'Natuurvrij max'!M$1) -> 0 | N55: =COUNTIFS(Projecten!$F$2:$F$187,"Bolwerk "&ROW()-52,Projecten!$I$2:$I$187,'Natuurvrij max'!N$1) -> 0
A56: Bolwerk mus | B56: #4 | C56: 4 | D56: 105 | E56: 52 | F56: =IF(MAX(G56:N56)>E56,"Overschrijding !!!",IF(E56-MAX(G56:N56)<=1,"Kwetsbaar","Geen overschrijding")) -> Geen overschrijding | G56: =COUNTIFS(Projecten!$F$2:$F$187,"Bolwerk "&ROW()-52,Projecten!$I$2:$I$187,'Natuurvrij max'!G$1) -> 0 | H56: =COUNTIFS(Projecten!$F$2:$F$187,"Bolwerk "&ROW()-52,Projecten!$I$2:$I$187,'Natuurvrij max'!H$1) -> 0 | I56: =COUNTIFS(Projecten!$F$2:$F$187,"Bolwerk "&ROW()-52,Projecten!$I$2:$I$187,'Natuurvrij max'!I$1) -> 0 | J56: =COUNTIFS(Projecten!$F$2:$F$187,"Bolwerk "&ROW()-52,Projecten!$I$2:$I$187,'Natuurvrij max'!J$1) -> 0 | K56: =COUNTIFS(Projecten!$F$2:$F$187,"Bolwerk "&ROW()-52,Projecten!$I$2:$I$187,'Natuurvrij max'!K$1) -> 0 | L56: =COUNTIFS(Projecten!$F$2:$F$187,"Bolwerk "&ROW()-52,Projecten!$I$2:$I$187,'Natuurvrij max'!L$1) -> 0 | M56: =COUNTIFS(Projecten!$F$2:$F$187,"Bolwerk "&ROW()-52,Projecten!$I$2:$I$187,'Natuurvrij max'!M$1) -> 0 | N56: =COUNTIFS(Projecten!$F$2:$F$187,"Bolwerk "&ROW()-52,Projecten!$I$2:$I$187,'Natuurvrij max'!N$1) -> 0
A57: Bolwerk mus | B57: #5 | C57: 31 | D57: 151 | E57: 37 | F57: =IF(MAX(G57:N57)>E57,"Overschrijding !!!",IF(E57-MAX(G57:N57)<=1,"Kwetsbaar","Geen overschrijding")) -> Geen overschrijding | G57: =COUNTIFS(Projecten!$F$2:$F$187,"Bolwerk "&ROW()-52,Projecten!$I$2:$I$187,'Natuurvrij max'!G$1) -> 0 | H57: =COUNTIFS(Projecten!$F$2:$F$187,"Bolwerk "&ROW()-52,Projecten!$I$2:$I$187,'Natuurvrij max'!H$1) -> 0 | I57: =COUNTIFS(Projecten!$F$2:$F$187,"Bolwerk "&ROW()-52,Projecten!$I$2:$I$187,'Natuurvrij max'!I$1) -> 0 | J57: =COUNTIFS(Projecten!$F$2:$F$187,"Bolwerk "&ROW()-52,Projecten!$I$2:$I$187,'Natuurvrij max'!J$1) -> 0 | K57: =COUNTIFS(Projecten!$F$2:$F$187,"Bolwerk "&ROW()-52,Projecten!$I$2:$I$187,'Natuurvrij max'!K$1) -> 0 | L57: =COUNTIFS(Projecten!$F$2:$F$187,"Bolwerk "&ROW()-52,Projecten!$I$2:$I$187,'Natuurvrij max'!L$1) -> 0 | M57: =COUNTIFS(Projecten!$F$2:$F$187,"Bolwerk "&ROW()-52,Projecten!$I$2:$I$187,'Natuurvrij max'!M$1) -> 0 | N57: =COUNTIFS(Projecten!$F$2:$F$187,"Bolwerk "&ROW()-52,Projecten!$I$2:$I$187,'Natuurvrij max'!N$1) -> 0
A58: Bolwerk mus | B58: #6 | C58: 11 | D58: 63 | E58: 15 | F58: =IF(MAX(G58:N58)>E58,"Overschrijding !!!",IF(E58-MAX(G58:N58)<=1,"Kwetsbaar","Geen overschrijding")) -> Geen overschrijding | G58: =COUNTIFS(Projecten!$F$2:$F$187,"Bolwerk "&ROW()-52,Projecten!$I$2:$I$187,'Natuurvrij max'!G$1) -> 0 | H58: =COUNTIFS(Projecten!$F$2:$F$187,"Bolwerk "&ROW()-52,Projecten!$I$2:$I$187,'Natuurvrij max'!H$1) -> 0 | I58: =COUNTIFS(Projecten!$F$2:$F$187,"Bolwerk "&ROW()-52,Projecten!$I$2:$I$187,'Natuurvrij max'!I$1) -> 0 | J58: =COUNTIFS(Projecten!$F$2:$F$187,"Bolwerk "&ROW()-52,Projecten!$I$2:$I$187,'Natuurvrij max'!J$1) -> 0 | K58: =COUNTIFS(Projecten!$F$2:$F$187,"Bolwerk "&ROW()-52,Projecten!$I$2:$I$187,'Natuurvrij max'!K$1) -> 0 | L58: =COUNTIFS(Projecten!$F$2:$F$187,"Bolwerk "&ROW()-52,Projecten!$I$2:$I$187,'Natuurvrij max'!L$1) -> 0 | M58: =COUNTIFS(Projecten!$F$2:$F$187,"Bolwerk "&ROW()-52,Projecten!$I$2:$I$187,'Natuurvrij max'!M$1) -> 0 | N58: =COUNTIFS(Projecten!$F$2:$F$187,"Bolwerk "&ROW()-52,Projecten!$I$2:$I$187,'Natuurvrij max'!N$1) -> 0
A59: Bolwerk mus | B59: #7 | C59: 68 | D59: 85 | E59: 21 | F59: =IF(MAX(G59:N59)>E59,"Overschrijding !!!",IF(E59-MAX(G59:N59)<=1,"Kwetsbaar","Geen overschrijding")) -> Geen overschrijding | G59: =COUNTIFS(Projecten!$F$2:$F$187,"Bolwerk "&ROW()-52,Projecten!$I$2:$I$187,'Natuurvrij max'!G$1) -> 0 | H59: =COUNTIFS(Projecten!$F$2:$F$187,"Bolwerk "&ROW()-52,Projecten!$I$2:$I$187,'Natuurvrij max'!H$1) -> 0 | I59: =COUNTIFS(Projecten!$F$2:$F$187,"Bolwerk "&ROW()-52,Projecten!$I$2:$I$187,'Natuurvrij max'!I$1) -> 0 | J59: =COUNTIFS(Projecten!$F$2:$F$187,"Bolwerk "&ROW()-52,Projecten!$I$2:$I$187,'Natuurvrij max'!J$1) -> 0 | K59: =COUNTIFS(Projecten!$F$2:$F$187,"Bolwerk "&ROW()-52,Projecten!$I$2:$I$187,'Natuurvrij max'!K$1) -> 0 | L59: =COUNTIFS(Projecten!$F$2:$F$187,"Bolwerk "&ROW()-52,Projecten!$I$2:$I$187,'Natuurvrij max'!L$1) -> 0 | M59: =COUNTIFS(Projecten!$F$2:$F$187,"Bolwerk "&ROW()-52,Projecten!$I$2:$I$187,'Natuurvrij max'!M$1) -> 0 | N59: =COUNTIFS(Projecten!$F$2:$F$187,"Bolwerk "&ROW()-52,Projecten!$I$2:$I$187,'Natuurvrij max'!N$1) -> 0
A60: Bolwerk mus | B60: #8 | C60: 68 | D60: 521 | E60: 130 | F60: =IF(MAX(G60:N60)>E60,"Overschrijding !!!",IF(E60-MAX(G60:N60)<=1,"Kwetsbaar","Geen overschrijding")) -> Geen overschrijding | G60: =COUNTIFS(Projecten!$F$2:$F$187,"Bolwerk "&ROW()-52,Projecten!$I$2:$I$187,'Natuurvrij max'!G$1) -> 0 | H60: =COUNTIFS(Projecten!$F$2:$F$187,"Bolwerk "&ROW()-52,Projecten!$I$2:$I$187,'Natuurvrij max'!H$1) -> 0 | I60: =COUNTIFS(Projecten!$F$2:$F$187,"Bolwerk "&ROW()-52,Projecten!$I$2:$I$187,'Natuurvrij max'!I$1) -> 0 | J60: =COUNTIFS(Projecten!$F$2:$F$187,"Bolwerk "&ROW()-52,Projecten!$I$2:$I$187,'Natuurvrij max'!J$1) -> 0 | K60: =COUNTIFS(Projecten!$F$2:$F$187,"Bolwerk "&ROW()-52,Projecten!$I$2:$I$187,'Natuurvrij max'!K$1) -> 0 | L60: =COUNTIFS(Projecten!$F$2:$F$187,"Bolwerk "&ROW()-52,Projecten!$I$2:$I$187,'Natuurvrij max'!L$1) -> 0 | M60: =COUNTIFS(Projecten!$F$2:$F$187,"Bolwerk "&ROW()-52,Projecten!$I$2:$I$187,'Natuurvrij max'!M$1) -> 0 | N60: =COUNTIFS(Projecten!$F$2:$F$187,"Bolwerk "&ROW()-52,Projecten!$I$2:$I$187,'Natuurvrij max'!N$1) -> 0
A61: Bolwerk mus | B61: #9 | C61: 25 | D61: 88 | E61: 22 | F61: =IF(MAX(G61:N61)>E61,"Overschrijding !!!",IF(E61-MAX(G61:N61)<=1,"Kwetsbaar","Geen overschrijding")) -> Geen overschrijding | G61: =COUNTIFS(Projecten!$F$2:$F$187,"Bolwerk "&ROW()-52,Projecten!$I$2:$I$187,'Natuurvrij max'!G$1) -> 0 | H61: =COUNTIFS(Projecten!$F$2:$F$187,"Bolwerk "&ROW()-52,Projecten!$I$2:$I$187,'Natuurvrij max'!H$1) -> 0 | I61: =COUNTIFS(Projecten!$F$2:$F$187,"Bolwerk "&ROW()-52,Projecten!$I$2:$I$187,'Natuurvrij max'!I$1) -> 0 | J61: =COUNTIFS(Projecten!$F$2:$F$187,"Bolwerk "&ROW()-52,Projecten!$I$2:$I$187,'Natuurvrij max'!J$1) -> 0 | K61: =COUNTIFS(Projecten!$F$2:$F$187,"Bolwerk "&ROW()-52,Projecten!$I$2:$I$187,'Natuurvrij max'!K$1) -> 0 | L61: =COUNTIFS(Projecten!$F$2:$F$187,"Bolwerk "&ROW()-52,Projecten!$I$2:$I$187,'Natuurvrij max'!L$1) -> 0 | M61: =COUNTIFS(Projecten!$F$2:$F$187,"Bolwerk "&ROW()-52,Projecten!$I$2:$I$187,'Natuurvrij max'!M$1) -> 0 | N61: =COUNTIFS(Projecten!$F$2:$F$187,"Bolwerk "&ROW()-52,Projecten!$I$2:$I$187,'Natuurvrij max'!N$1) -> 0
A62: Bolwerk mus | B62: #10 | C62: 10 | D62: 204 | E62: 51 | F62: =IF(MAX(G62:N62)>E62,"Overschrijding !!!",IF(E62-MAX(G62:N62)<=1,"Kwetsbaar","Geen overschrijding")) -> Geen overschrijding | G62: =COUNTIFS(Projecten!$F$2:$F$187,"Bolwerk "&ROW()-52,Projecten!$I$2:$I$187,'Natuurvrij max'!G$1) -> 0 | H62: =COUNTIFS(Projecten!$F$2:$F$187,"Bolwerk "&ROW()-52,Projecten!$I$2:$I$187,'Natuurvrij max'!H$1) -> 0 | I62: =COUNTIFS(Projecten!$F$2:$F$187,"Bolwerk "&ROW()-52,Projecten!$I$2:$I$187,'Natuurvrij max'!I$1) -> 0 | J62: =COUNTIFS(Projecten!$F$2:$F$187,"Bolwerk "&ROW()-52,Projecten!$I$2:$I$187,'Natuurvrij max'!J$1) -> 0 | K62: =COUNTIFS(Projecten!$F$2:$F$187,"Bolwerk "&ROW()-52,Projecten!$I$2:$I$187,'Natuurvrij max'!K$1) -> 0 | L62: =COUNTIFS(Projecten!$F$2:$F$187,"Bolwerk "&ROW()-52,Projecten!$I$2:$I$187,'Natuurvrij max'!L$1) -> 0 | M62: =COUNTIFS(Projecten!$F$2:$F$187,"Bolwerk "&ROW()-52,Projecten!$I$2:$I$187,'Natuurvrij max'!M$1) -> 0 | N62: =COUNTIFS(Projecten!$F$2:$F$187,"Bolwerk "&ROW()-52,Projecten!$I$2:$I$187,'Natuurvrij max'!N$1) -> 0
