Workbook
Name min: route!$F$5
Name REF: route!$B$2
Name uur: Blad1!$E$5
Name uur: route!$E$5

Sheet route
A1: Versie 3 | C1: MBT | D1: Metec Olympia Tour Stage 5
A2: Van: | B2: 46085 | D2: Tiel-Tiel
D3: https://www.afstandmeten.nl/index.php?id=4049966
A4: km/u | B4: km/u | D4: 46110
A5: 44 | B5: 46 | D5: vertrek/départ | E5: 0.5 | F5: h / u | J5: =IF(ISNA(#REF!),"Na de Finish-vermelding, in kolom D, wordt hier de totale lengte van de dagetappe vermeld","Afstand / Distance : "&TEXT(#REF!,"0,0")&" km") -> #REF!
A6: door komst tijd | B6: door komst tijd | C6: nog te rijden km's | D6: PLAATS | E6: gereden km's | F6: tussen afstand | G6: Richting | J6: OMSCHRIJVING | K6: KRUISENDE WEG | L6: NR
A7: =IF(E7="","",Blad1!A7) -> 0.5 | B7: =IF(E7="","",Blad1!B7) -> 0.5 | C7: =IF(ISERROR(Blad1!C7),"",Blad1!C7) -> 4.9 | D7: Tiel | E7: 0 | F7: =Blad1!E7 | J7: Markt | L7: a
A8: =IF(E8="","",Blad1!A8) -> 0.5 | B8: =IF(E8="","",Blad1!B8) -> 0.5 | C8: =IF(ISERROR(Blad1!C8),"",Blad1!C8) -> 4.9 | D8: Neutralisatie | E8: 0 | F8: =Blad1!E8 -> 0 | G8: LI-AF | J8: Markt | K8: -Waterstraat | L8: b
A9: =IF(E9="","",Blad1!A9) -> 0.50015046 | B9: =IF(E9="","",Blad1!B9) -> 0.50015046 | C9: =IF(ISERROR(Blad1!C9),"",Blad1!C9) -> 4.8 | D9: . | E9: 0.1 | F9: =Blad1!E9 | J9: Damstraat (Bord C04-R negeren) | K9: Markt-Vleestraat | L9: c
A10: =IF(E10="","",Blad1!A10) -> 0.50030093 | B10: =IF(E10="","",Blad1!B10) -> 0.50030093 | C10: =IF(ISERROR(Blad1!C10),"",Blad1!C10) -> 4.7 | D10: . | E10: 0.2 | F10: =Blad1!E10 -> 0.2 | G10: RE-AF | J10: Koornmarkt | K10: -Damstraat | L10: d
A11: =IF(E11="","",Blad1!A11) -> 0.50045139 | B11: =IF(E11="","",Blad1!B11) -> 0.50045139 | C11: =IF(ISERROR(Blad1!C11),"",Blad1!C11) -> 4.6 | D11: . | E11: 0.3 | F11: =Blad1!E11 | J11: Ambtmanstraat | K11: Kerkstraat- | L11: e
A12: =IF(E12="","",Blad1!A12) -> 0.50060185 | B12: =IF(E12="","",Blad1!B12) -> 0.50060185 | C12: =IF(ISERROR(Blad1!C12),"",Blad1!C12) -> 4.5 | D12: . | E12: 0.4 | F12: =Blad1!E12 -> 0.2 | G12: LI-AF | J12: Eerste Achterstraat | K12: Eerste Achterstraat- | L12: f
A13: =IF(E13="","",Blad1!A13) -> 0.50075231 | B13: =IF(E13="","",Blad1!B13) -> 0.50075231 | C13: =IF(ISERROR(Blad1!C13),"",Blad1!C13) -> 4.4 | D13: . | E13: 0.5 | F13: =Blad1!E13 | J13: Eerste Achterstraat | K13: -Tweede Achterstraat | L13: g
A14: =IF(E14="","",Blad1!A14) -> 0.50075231 | B14: =IF(E14="","",Blad1!B14) -> 0.50075231 | C14: =IF(ISERROR(Blad1!C14),"",Blad1!C14) -> 4.4 | D14: . | E14: 0.5 | F14: =Blad1!E14 | J14: Vervallen | L14: h
A15: =IF(E15="","",Blad1!A15) -> 0.50075231 | B15: =IF(E15="","",Blad1!B15) -> 0.50075231 | C15: =IF(ISERROR(Blad1!C15),"",Blad1!C15) -> 4.4 | D15: . | E15: 0.5 | F15: =Blad1!E15 | J15: Vervallen | L15: i
A16: =IF(E16="","",Blad1!A16) -> 0.50075231 | B16: =IF(E16="","",Blad1!B16) -> 0.50075231 | C16: =IF(ISERROR(Blad1!C16),"",Blad1!C16) -> 4.4 | D16: . | E16: 0.5 | F16: =Blad1!E16 | J16: Vervallen | L16: j
A17: =IF(E17="","",Blad1!A17) -> 0.50090278 | B17: =IF(E17="","",Blad1!B17) -> 0.50090278 | C17: =IF(ISERROR(Blad1!C17),"",Blad1!C17) -> 4.3 | D17: . | E17: 0.6 | F17: =Blad1!E17 -> 0.2 | G17: LI-AF | J17: Achterweg | K17: Achterweg | L17: k
A18: =IF(E18="","",Blad1!A18) -> 0.50105324 | B18: =IF(E18="","",Blad1!B18) -> 0.50105324 | C18: =IF(ISERROR(Blad1!C18),"",Blad1!C18) -> 4.2 | D18: . | E18: 0.7 | F18: =Blad1!E18 | J18: Achterweg | K18: Eerste Achterstraat- | L18: l
A19: =IF(E19="","",Blad1!A19) -> 0.5012037 | B19: =IF(E19="","",Blad1!B19) -> 0.5012037 | C19: =IF(ISERROR(Blad1!C19),"",Blad1!C19) -> 4.1 | D19: . | E19: 0.8 | F19: =Blad1!E19 | J19: Eerste Bleekveldstraat | K19: -Schoolstraat | L19: m
A20: =IF(E20="","",Blad1!A20) -> 0.5012037 | B20: =IF(E20="","",Blad1!B20) -> 0.5012037 | C20: =IF(ISERROR(Blad1!C20),"",Blad1!C20) -> 4.1 | D20: . | E20: 0.8 | F20: =Blad1!E20 | J20: Eerste Bleekveldstraat | K20: Kerkstraat- | L20: n
A21: =IF(E21="","",Blad1!A21) -> 0.5015162 | B21: =IF(E21="","",Blad1!B21) -> 0.5015162 | C21: =IF(ISERROR(Blad1!C21),"",Blad1!C21) -> 3.9 | D21: . | E21: 1 | F21: =Blad1!E21 -> 0.4 | G21: RE-AF | J21: Bleekveld | K21: Koninginnestraat- | L21: o
A22: =IF(E22="","",Blad1!A22) -> 0.5015162 | B22: =IF(E22="","",Blad1!B22) -> 0.5015162 | C22: =IF(ISERROR(Blad1!C22),"",Blad1!C22) -> 3.9 | D22: . | E22: 1 | F22: =Blad1!E22 | J22: Rechtbankstraat VHZ | K22: Huf v Burenstraat-Hucht | L22: p
A23: =IF(E23="","",Blad1!A23) -> 0.50166667 | B23: =IF(E23="","",Blad1!B23) -> 0.50166667 | C23: =IF(ISERROR(Blad1!C23),"",Blad1!C23) -> 3.8 | D23: . | E23: 1.1 | F23: =Blad1!E23 -> 0.1 | G23: RTD 3/4 LI-AF | J23: P-Route Centrum Nieuwe Tielseweg | K23: Nieuwe Tielseweg | L23: =IF(J23="","",Blad1!W23) -> q
A24: =IF(E24="","",Blad1!A24) -> 0.50230324 | B24: =IF(E24="","",Blad1!B24) -> 0.50230324 | C24: =IF(ISERROR(Blad1!C24),"",Blad1!C24) -> 3.4 | D24: . | E24: 1.5 | F24: =Blad1!E24 | J24: Havendijk VHZ | K24: -Veerweg | L24: =IF(J24="","",Blad1!W24) -> r
A25: =IF(E25="","",Blad1!A25) -> 0.50261574 | B25: =IF(E25="","",Blad1!B25) -> 0.50261574 | C25: =IF(ISERROR(Blad1!C25),"",Blad1!C25) -> 3.2 | D25: . | E25: 1.7 | F25: =Blad1!E25 | J25: Havendijk | K25: -Havenkade | L25: =IF(J25="","",Blad1!W25) -> s
A26: =IF(E26="","",Blad1!A26) -> 0.50261574 | B26: =IF(E26="","",Blad1!B26) -> 0.50261574 | C26: =IF(ISERROR(Blad1!C26),"",Blad1!C26) -> 3.2 | D26: . | E26: 1.7 | F26: =Blad1!E26 | J26: Havendijk | K26: Zoutkeetstraatje- | L26: =IF(J26="","",Blad1!W26) -> t
A27: =IF(E27="","",Blad1!A27) -> 0.5027662 | B27: =IF(E27="","",Blad1!B27) -> 0.5027662 | C27: =IF(ISERROR(Blad1!C27),"",Blad1!C27) -> 3.1 | D27: . | E27: 1.8 | F27: =Blad1!E27 | J27: Havendijk | K27: -Havenkade | L27: =IF(J27="","",Blad1!W27) -> u
A28: =IF(E28="","",Blad1!A28) -> 0.50291667 | B28: =IF(E28="","",Blad1!B28) -> 0.50291667 | C28: =IF(ISERROR(Blad1!C28),"",Blad1!C28) -> 3 | D28: . | E28: 1.9 | F28: =Blad1!E28 | J28: Havendijk | K28: -Echtelsedijk | L28: =IF(J28="","",Blad1!W28) -> v
A29: =IF(E29="","",Blad1!A29) -> 0.50306713 | B29: =IF(E29="","",Blad1!B29) -> 0.50306713 | C29: =IF(ISERROR(Blad1!C29),"",Blad1!C29) -> 2.9 | D29: . | E29: 2 | F29: =Blad1!E29 -> 0.9 | G29: RTD 2/4 RE-DO | J29: Havendijk VHZ Rechterstructuur | K29: Santwijkse Poort-Fabriekslaantje | L29: =IF(J29="","",Blad1!W29) -> w
A30: =IF(E30="","",Blad1!A30) -> 0.50306713 | B30: =IF(E30="","",Blad1!B30) -> 0.50306713 | C30: =IF(ISERROR(Blad1!C30),"",Blad1!C30) -> 2.9 | D30: . | E30: 2 | F30: =Blad1!E30 | J30: Havendijk | K30: -Grotebrugsegrintweg | L30: =IF(J30="","",Blad1!W30) -> x
A31: =IF(E31="","",Blad1!A31) -> 0.50337963 | B31: =IF(E31="","",Blad1!B31) -> 0.50337963 | C31: =IF(ISERROR(Blad1!C31),"",Blad1!C31) -> 2.7 | D31: . | E31: 2.2 | F31: =Blad1!E31 | J31: Binnenhoek | K31: Verbindingsweg- | L31: =IF(J31="","",Blad1!W31) -> ij
A32: =IF(E32="","",Blad1!A32) -> 0.50353009 | B32: =IF(E32="","",Blad1!B32) -> 0.50353009 | C32: =IF(ISERROR(Blad1!C32),"",Blad1!C32) -> 2.6 | D32: . | E32: 2.3 | F32: =Blad1!E32 | J32: Binnenhoek | K32: -Uitrit P-Garage | L32: =IF(J32="","",Blad1!W32) -> z
A33: =IF(E33="","",Blad1!A33) -> 0.50368056 | B33: =IF(E33="","",Blad1!B33) -> 0.50368056 | C33: =IF(ISERROR(Blad1!C33),"",Blad1!C33) -> 2.5 | D33: . | E33: 2.4 | F33: =Blad1!E33 | J33: Binnenhoek | K33: Vinkenstraatje- | L33: =IF(J33="","",Blad1!W33) -> aa
A34: =IF(E34="","",Blad1!A34) -> 0.50383102 | B34: =IF(E34="","",Blad1!B34) -> 0.50383102 | C34: =IF(ISERROR(Blad1!C34),"",Blad1!C34) -> 2.4 | D34: . | E34: 2.5 | F34: =Blad1!E34 | J34: Binnenhoek | K34: -Postlaantje | L34: =IF(J34="","",Blad1!W34) -> ab
A35: =IF(E35="","",Blad1!A35) -> 0.50398148 | B35: =IF(E35="","",Blad1!B35) -> 0.50398148 | C35: =IF(ISERROR(Blad1!C35),"",Blad1!C35) -> 2.3 | D35: . | E35: 2.6 | F35: =Blad1!E35 | J35: Lokstraat | K35: Esdoornstraat- | L35: =IF(J35="","",Blad1!W35) -> ac
A36: =IF(E36="","",Blad1!A36) -> 0.50413194 | B36: =IF(E36="","",Blad1!B36) -> 0.50413194 | C36: =IF(ISERROR(Blad1!C36),"",Blad1!C36) -> 2.2 | D36: . | E36: 2.7 | F36: =Blad1!E36 | J36: Lokstraat | K36: Lijsterbesstraat- | L36: =IF(J36="","",Blad1!W36) -> ad
A37: =IF(E37="","",Blad1!A37) -> 0.50413194 | B37: =IF(E37="","",Blad1!B37) -> 0.50413194 | C37: =IF(ISERROR(Blad1!C37),"",Blad1!C37) -> 2.2 | D37: . | E37: 2.7 | F37: =Blad1!E37 -> 0.7 | G37: RTD 1/3 RE-AF | J37: Westroijensestraat VHZ | K37: Westroijensestraat | L37: =IF(J37="","",Blad1!W37) -> ae
A38: =IF(E38="","",Blad1!A38) -> 0.50413194 | B38: =IF(E38="","",Blad1!B38) -> 0.50413194 | C38: =IF(ISERROR(Blad1!C38),"",Blad1!C38) -> 2.2 | D38: . | E38: 2.7 | F38: =Blad1!E38 | J38: Grotebrugsegrintweg 3x Obstakels | L38: =IF(J38="","",Blad1!W38) -> af
A39: =IF(E39="","",Blad1!A39) -> 0.50428241 | B39: =IF(E39="","",Blad1!B39) -> 0.50428241 | C39: =IF(ISERROR(Blad1!C39),"",Blad1!C39) -> 2.1 | D39: . | E39: 2.8 | F39: =Blad1!E39 | J39: Grotebrugsegrintweg | K39: -Grotebrugsegrintweg | L39: =IF(J39="","",Blad1!W39) -> ag
A40: =IF(E40="","",Blad1!A40) -> 0.50443287 | B40: =IF(E40="","",Blad1!B40) -> 0.50443287 | C40: =IF(ISERROR(Blad1!C40),"",Blad1!C40) -> 2 | D40: . | E40: 2.9 | F40: =Blad1!E40 | J40: Grotebrugsegrintweg | K40: -Meeslaan | L40: =IF(J40="","",Blad1!W40) -> ah
A41: =IF(E41="","",Blad1!A41) -> 0.50474537 | B41: =IF(E41="","",Blad1!B41) -> 0.50474537 | C41: =IF(ISERROR(Blad1!C41),"",Blad1!C41) -> 1.8 | D41: . | E41: 3.1 | F41: =Blad1!E41 | J41: Grotebrugsegrintweg | K41: -Lugtenburgstraat | L41: =IF(J41="","",Blad1!W41) -> ai
A42: =IF(E42="","",Blad1!A42) -> 0.50489583 | B42: =IF(E42="","",Blad1!B42) -> 0.50489583 | C42: =IF(ISERROR(Blad1!C42),"",Blad1!C42) -> 1.7 | D42: . | E42: 3.2 | F42: =Blad1!E42 | J42: Grotebrugsegrintweg Obstakels | K42: Peppellaan-Weth.Schootslaan | L42: =IF(J42="","",Blad1!W42) -> aj
A43: =IF(E43="","",Blad1!A43) -> 0.50537037 | B43: =IF(E43="","",Blad1!B43) -> 0.50537037 | C43: =IF(ISERROR(Blad1!C43),"",Blad1!C43) -> 1.4 | D43: . | E43: 3.5 | F43: =Blad1!E43 -> 0.8 | G43: LI-AF | J43: Grotebrugsegrintweg VHZ | K43: -Bulkweg | L43: =IF(J43="","",Blad1!W43) -> ak
A44: =IF(E44="","",Blad1!A44) -> 0.50537037 | B44: =IF(E44="","",Blad1!B44) -> 0.50537037 | C44: =IF(ISERROR(Blad1!C44),"",Blad1!C44) -> 1.4 | D44: . | E44: 3.5 | F44: =Blad1!E44 | J44: Spoorviaduct | L44: =IF(J44="","",Blad1!W44) -> al
A45: =IF(E45="","",Blad1!A45) -> 0.50552083 | B45: =IF(E45="","",Blad1!B45) -> 0.50552083 | C45: =IF(ISERROR(Blad1!C45),"",Blad1!C45) -> 1.3 | D45: . | E45: 3.6 | F45: =Blad1!E45 -> 0.1 | G45: RTD 1/3 RE-DO | J45: P-Kellen Grotebrugsegrintweg | K45: Laan van Westrooijen- | L45: =IF(J45="","",Blad1!W45) -> am
A46: =IF(E46="","",Blad1!A46) -> 0.5056713 | B46: =IF(E46="","",Blad1!B46) -> 0.5056713 | C46: =IF(ISERROR(Blad1!C46),"",Blad1!C46) -> 1.2 | D46: . | E46: 3.7 | F46: =Blad1!E46 | J46: Viaduct A15 | L46: =IF(J46="","",Blad1!W46) -> an
A47: =IF(E47="","",Blad1!A47) -> 0.5056713 | B47: =IF(E47="","",Blad1!B47) -> 0.5056713 | C47: =IF(ISERROR(Blad1!C47),"",Blad1!C47) -> 1.2 | D47: . | E47: 3.7 | F47: =Blad1!E47 | J47: Viaduct Betuwelijn | L47: =IF(J47="","",Blad1!W47) -> ao
A48: =IF(E48="","",Blad1!A48) -> 0.50582176 | B48: =IF(E48="","",Blad1!B48) -> 0.50582176 | C48: =IF(ISERROR(Blad1!C48),"",Blad1!C48) -> 1.1 | D48: Opkomst parkoers | E48: 3.8 | F48: =Blad1!E48 -> 0.2 | G48: VKL RE-AF | J48: Grotebrugsegrintweg VHZ | K48: Hoogkellenseweg- | L48: =IF(J48="","",Blad1!W48) -> ap
A49: =IF(E49="","",Blad1!A49) -> 0.50645833 | B49: =IF(E49="","",Blad1!B49) -> 0.50645833 | C49: =IF(ISERROR(Blad1!C49),"",Blad1!C49) -> 0.7 | D49: EB | E49: 4.2 | F49: =Blad1!E49 | J49: Grotebrugsegrintweg | L49: =IF(J49="","",Blad1!W49) -> aq
A50: =IF(E50="","",Blad1!A50) -> 0.50725694 | B50: =IF(E50="","",Blad1!B50) -> 0.50725694 | C50: =IF(ISERROR(Blad1!C50),"",Blad1!C50) -> 0.2 | D50: . | E50: 4.7 | F50: =Blad1!E50 -> 0.9 | G50: VKL LI-AF | J50: EW P AMERONGEN, Brugse Grintweg Oost VHZ | K50: -De Diepert | L50: =IF(J50="","",Blad1!W50) -> ar
A51: =IF(E51="","",Blad1!A51) -> 0.50756944 | B51: =IF(E51="","",Blad1!B51) -> 0.50756944 | C51: =IF(ISERROR(Blad1!C51),"",Blad1!C51) -> 0 | D51: Einde Neutralisatie | E51: 4.9 | F51: =Blad1!E51 | J51: Grotebrugsegrintweg | L51: =IF(J51="","",Blad1!W51) -> as
A52: =IF(E52="","",Blad1!A52) | B52: =IF(E52="","",Blad1!B52) | C52: =IF(ISERROR(Blad1!C52),"",Blad1!C52) | L52: =IF(J52="","",Blad1!W50)
A53: =IF(E53="","",Blad1!A53) | B53: =IF(E53="","",Blad1!B53) | C53: =IF(ISERROR(Blad1!C53),"",Blad1!C53) | L53: =IF(J53="","",Blad1!W50)
A54: =IF(E54="","",Blad1!A54) | B54: =IF(E54="","",Blad1!B54) | C54: =IF(ISERROR(Blad1!C54),"",Blad1!C54) | L54: =IF(J54="","",Blad1!W51)
A55: =IF(E55="","",Blad1!A55) | B55: =IF(E55="","",Blad1!B55) | C55: =IF(ISERROR(Blad1!C55),"",Blad1!C55) | L55: =IF(J55="","",Blad1!W52)
A56: =IF(E56="","",Blad1!A56) | B56: =IF(E56="","",Blad1!B56) | C56: =IF(ISERROR(Blad1!C56),"",Blad1!C56) | L56: =IF(J56="","",Blad1!W53)
A57: =IF(E57="","",Blad1!A57) | B57: =IF(E57="","",Blad1!B57) | C57: =IF(ISERROR(Blad1!C57),"",Blad1!C57) | L57: =IF(J57="","",Blad1!W49)
A58: =IF(E58="","",Blad1!A58) | B58: =IF(E58="","",Blad1!B58) | C58: =IF(ISERROR(Blad1!C58),"",Blad1!C58) | L58: =IF(J58="","",Blad1!W50)
A59: =IF(E59="","",Blad1!A59) | B59: =IF(E59="","",Blad1!B59) | C59: =IF(ISERROR(Blad1!C59),"",Blad1!C59) | F59: =Blad1!E51 | L59: =IF(J59="","",Blad1!W51)
A60: =IF(E60="","",Blad1!A60) | B60: =IF(E60="","",Blad1!B60) | C60: =IF(ISERROR(Blad1!C60),"",Blad1!C60) | F60: =Blad1!E52 | L60: =IF(J60="","",Blad1!W52)
A61: =IF(E61="","",Blad1!A61) | B61: =IF(E61="","",Blad1!B61) | C61: =IF(ISERROR(Blad1!C61),"",Blad1!C61) | F61: =Blad1!E53 | L61: =IF(J61="","",Blad1!W53)
A62: =IF(E62="","",Blad1!A62) | B62: =IF(E62="","",Blad1!B62) | C62: =IF(ISERROR(Blad1!C62),"",Blad1!C62) | F62: =Blad1!E54 | L62: =IF(J62="","",Blad1!W54)
A63: =IF(E63="","",Blad1!A63) | B63: =IF(E63="","",Blad1!B63) | C63: =IF(ISERROR(Blad1!C63),"",Blad1!C63) | F63: =Blad1!E55 | L63: =IF(J63="","",Blad1!W55)
A64: =IF(E64="","",Blad1!A64) | B64: =IF(E64="","",Blad1!B64) | C64: =IF(ISERROR(Blad1!C64),"",Blad1!C64) | F64: =Blad1!E56 | L64: =IF(J64="","",Blad1!W56)
A65: =IF(E65="","",Blad1!A65) | B65: =IF(E65="","",Blad1!B65) | C65: =IF(ISERROR(Blad1!C65),"",Blad1!C65) | F65: =Blad1!E57 | L65: =IF(J65="","",Blad1!W57)
A66: =IF(E66="","",Blad1!A66) | B66: =IF(E66="","",Blad1!B66) | C66: =IF(ISERROR(Blad1!C66),"",Blad1!C66) | F66: =Blad1!E58 | L66: =IF(J66="","",Blad1!W58)
A67: =IF(E67="","",Blad1!A67) | B67: =IF(E67="","",Blad1!B67) | C67: =IF(ISERROR(Blad1!C67),"",Blad1!C67) | F67: =Blad1!E59 | L67: =IF(J67="","",Blad1!W59)
A68: =IF(E68="","",Blad1!A68) | B68: =IF(E68="","",Blad1!B68) | C68: =IF(ISERROR(Blad1!C68),"",Blad1!C68) | F68: =Blad1!E60 | L68: =IF(J68="","",Blad1!W60)
A69: =IF(E69="","",Blad1!A69) | B69: =IF(E69="","",Blad1!B69) | C69: =IF(ISERROR(Blad1!C69),"",Blad1!C69) | F69: =Blad1!E61 | L69: =IF(J69="","",Blad1!W61)
A70: =IF(E70="","",Blad1!A70) | B70: =IF(E70="","",Blad1!B70) | C70: =IF(ISERROR(Blad1!C70),"",Blad1!C70) | F70: =Blad1!E62 | L70: =IF(J70="","",Blad1!W62)
... A141: =IF(E141="","",Blad1!A141) | B141: =IF(E141="","",Blad1!B141) | C141: =IF(ISERROR(Blad1!C141),"",Blad1!C141) | F141: =Blad1!E133 | L141: =IF(J141="","",Blad1!W133)
A142: =IF(E142="","",Blad1!A142) | B142: =IF(E142="","",Blad1!B142) | C142: =IF(ISERROR(Blad1!C142),"",Blad1!C142) | F142: =Blad1!E134
A143: =IF(E143="","",Blad1!A143) | B143: =IF(E143="","",Blad1!B143) | C143: =IF(ISERROR(Blad1!C143),"",Blad1!C143) | F143: =Blad1!E135
A144: =IF(E144="","",Blad1!A144) | B144: =IF(E144="","",Blad1!B144) | C144: =IF(ISERROR(Blad1!C144),"",Blad1!C144) | F144: =Blad1!E136
A145: =IF(E145="","",Blad1!A145) | B145: =IF(E145="","",Blad1!B145) | C145: =IF(ISERROR(Blad1!C145),"",Blad1!C145) | F145: =Blad1!E137
A146: =IF(E146="","",Blad1!A146) | B146: =IF(E146="","",Blad1!B146) | C146: =IF(ISERROR(Blad1!C146),"",Blad1!C146) | F146: =Blad1!E138
A147: =IF(E147="","",Blad1!A147) | B147: =IF(E147="","",Blad1!B147) | C147: =IF(ISERROR(Blad1!C147),"",Blad1!C147) | F147: =Blad1!E139
A148: =IF(E148="","",Blad1!A148) | B148: =IF(E148="","",Blad1!B148) | C148: =IF(ISERROR(Blad1!C148),"",Blad1!C148) | F148: =Blad1!E140
A149: =IF(E149="","",Blad1!A149) | B149: =IF(E149="","",Blad1!B149) | C149: =IF(ISERROR(Blad1!C149),"",Blad1!C149) | F149: =Blad1!E141
A150: =IF(E150="","",Blad1!A150) | B150: =IF(E150="","",Blad1!B150) | C150: =IF(ISERROR(Blad1!C150),"",Blad1!C150) | F150: =Blad1!E142
A151: =IF(E151="","",Blad1!A151) | B151: =IF(E151="","",Blad1!B151) | C151: =IF(ISERROR(Blad1!C151),"",Blad1!C151) | F151: =Blad1!E143
A152: =IF(E152="","",Blad1!A152) | B152: =IF(E152="","",Blad1!B152) | C152: =IF(ISERROR(Blad1!C152),"",Blad1!C152) | F152: =Blad1!E144
A153: =IF(E153="","",Blad1!A153) | B153: =IF(E153="","",Blad1!B153) | C153: =IF(ISERROR(Blad1!C153),"",Blad1!C153) | F153: =Blad1!E145
... A200: =IF(E200="","",Blad1!A200) | B200: =IF(E200="","",Blad1!B200) | C200: =IF(ISERROR(Blad1!C200),"",Blad1!C200) | F200: =Blad1!E192
A201: =IF(E201="","",Blad1!A201) -> 0.50756944 | B201: =IF(E201="","",Blad1!B201) -> 0.50756944 | C201: =IF(ISERROR(Blad1!C201),"",Blad1!C201) -> 144.2 | E201: 0 | F201: =Blad1!E201 | G201: Start | J201: thv einde max snelheid 50 | L201: 1
A202: =IF(E202="","",Blad1!A202) -> 0.50793981 | B202: =IF(E202="","",Blad1!B202) -> 0.50792824 | C202: =IF(ISERROR(Blad1!C202),"",Blad1!C202) -> 143.8 | D202: , | E202: 0.4 | F202: 0.4 | G202: RTD2/3RE.DO | J202: Grote Brugse Grintweg VHZ | K202: - De Prinsenhof | L202: =IF(J202<>"",L201+1,"") -> 2
A203: =IF(E203="","",Blad1!A203) -> 0.50850694 | B203: =IF(E203="","",Blad1!B203) -> 0.50846065 | C203: =IF(ISERROR(Blad1!C203),"",Blad1!C203) -> 143.2 | E203: 1 | F203: =Blad1!E203 -> 0.6 | G203: RTD1/3RE.DO | J203: Grote Brugse Grintweg Oost VHZ | K203: Grotewei - | L203: =IF(J203<>"",L202+1,"") -> 3
A204: =IF(E204="","",Blad1!A204) -> 0.50887731 | B204: =IF(E204="","",Blad1!B204) -> 0.50881944 | C204: =IF(ISERROR(Blad1!C204),"",Blad1!C204) -> 142.8 | E204: 1.4 | F204: =Blad1!E204 -> 0.4 | G204: RTD2/4RE.DO | J204: Grote Brugse Grintwei VHZ | K204: De Riemsdijk Lingwei | L204: =IF(J204<>"",L203+1,"") -> 4
A205: =IF(E205="","",Blad1!A205) -> 0.5090625 | B205: =IF(E205="","",Blad1!B205) -> 0.50899306 | C205: =IF(ISERROR(Blad1!C205),"",Blad1!C205) -> 142.6 | E205: 1.6 | F205: =Blad1!E205 | J205: Grote Brugse Grintwei | K205: Mauriksestraat - | L205: =IF(J205<>"",L204+1,"") -> 5
A206: =IF(E206="","",Blad1!A206) -> 0.50915509 | B206: =IF(E206="","",Blad1!B206) -> 0.50907407 | C206: =IF(ISERROR(Blad1!C206),"",Blad1!C206) -> 142.5 | E206: 1.7 | F206: =Blad1!E206 | G206: RE.AF | J206: Blauwe Kampseweg (bij manege) | K206: Grote Brugsegrintweg - | L206: =IF(J206<>"",L205+1,"") -> 6
A207: =IF(E207="","",Blad1!A207) -> 0.50943287 | B207: =IF(E207="","",Blad1!B207) -> 0.50934028 | C207: =IF(ISERROR(Blad1!C207),"",Blad1!C207) -> 142.2 | E207: 2 | F207: =Blad1!E207 | J207: Blauwe Kampseweg | K207: -Uitrit p | L207: =IF(J207<>"",L206+1,"") -> 7
A208: =IF(E208="","",Blad1!A208) -> 0.51 | B208: =IF(E208="","",Blad1!B208) -> 0.50987269 | C208: =IF(ISERROR(Blad1!C208),"",Blad1!C208) -> 141.6 | E208: 2.6 | F208: =Blad1!E208 | J208: Blauwe Kampseweg | K208: -Bredesteeg | L208: =IF(J208<>"",L207+1,"") -> 8
A209: =IF(E209="","",Blad1!A209) -> 0.51046296 | B209: =IF(E209="","",Blad1!B209) -> 0.51032407 | C209: =IF(ISERROR(Blad1!C209),"",Blad1!C209) -> 141.1 | E209: 3.1 | F209: =Blad1!E209 | J209: Blauwe Kampseweg | K209: Harensestraat- | L209: =IF(J209<>"",L208+1,"") -> 9
A210: =IF(E210="","",Blad1!A210) -> 0.51130787 | B210: =IF(E210="","",Blad1!B210) -> 0.51113426 | C210: =IF(ISERROR(Blad1!C210),"",Blad1!C210) -> 140.2 | E210: 4 | F210: =Blad1!E210 | G210: RE.AF | J210: Bloembosweg | K210: Ommerense veldweg- | L210: =IF(J210<>"",L209+1,"") -> 10
A211: =IF(E211="","",Blad1!A211) -> 0.51158565 | B211: =IF(E211="","",Blad1!B211) -> 0.51140046 | C211: =IF(ISERROR(Blad1!C211),"",Blad1!C211) -> 139.9 | E211: 4.3 | F211: =Blad1!E211 | J211: Bloembosweg | K211: -Uitrit P | L211: =IF(J211<>"",L210+1,"") -> 11
A212: =IF(E212="","",Blad1!A212) -> 0.51186343 | B212: =IF(E212="","",Blad1!B212) -> 0.51166667 | C212: =IF(ISERROR(Blad1!C212),"",Blad1!C212) -> 139.6 | E212: 4.6 | F212: =Blad1!E212 | J212: Bloembosweg | K212: Zijveling | L212: =IF(J212<>"",L211+1,"") -> 12
A213: =IF(E213="","",Blad1!A213) -> 0.51252315 | B213: =IF(E213="","",Blad1!B213) -> 0.51229167 | C213: =IF(ISERROR(Blad1!C213),"",Blad1!C213) -> 138.9 | E213: 5.3 | F213: =Blad1!E213 | J213: Bloembosweg | K213: Hoogmeijen- | L213: =IF(J213<>"",L212+1,"") -> 13
A214: =IF(E214="","",Blad1!A214) -> 0.51289352 | B214: =IF(E214="","",Blad1!B214) -> 0.51265046 | C214: =IF(ISERROR(Blad1!C214),"",Blad1!C214) -> 138.5 | E214: 5.7 | F214: =Blad1!E214 -> 4.3 | G214: LI-AF | J214: EW Vogelenzangseweg | K214: Vogelenzangseweg | L214: =IF(J214<>"",L213+1,"") -> 14
A215: =IF(E215="","",Blad1!A215) -> 0.51364583 | B215: =IF(E215="","",Blad1!B215) -> 0.51336806 | C215: =IF(ISERROR(Blad1!C215),"",Blad1!C215) -> 137.7 | E215: 6.5 | F215: =Blad1!E215 -> 0.8 | G215: RE-AF | J215: Panderweg | L215: =IF(J215<>"",L214+1,"") -> 15
A216: =IF(E216="","",Blad1!A216) -> 0.51582176 | B216: =IF(E216="","",Blad1!B216) -> 0.51545139 | C216: =IF(ISERROR(Blad1!C216),"",Blad1!C216) -> 135.4 | E216: 8.8 | F216: =Blad1!E216 | J216: Veldstraat | K216: -Zilverlandseweg | L216: =IF(J216<>"",L215+1,"") -> 16
...

Sheet Sortering
A1: MBT | B1: NR | C1: door komst tijd | F1: Eerst alle dubbele in deze matrix oplossen, daarna de matrix vullen
B2: 76a | C2: 0.54930556
B3: 158a | C3: 0.59375
B4: 158b | C4: 0.59513889
B5: 169a | C5: 0.60833333
B6: 169b | C6: 0.60902778
B7: 210a | C7: 0.62222222
B8: 210b | C8: 0.62361111
B9: a | C9: 0.5
B10: aa | C10: 0.50347222
B11: ab | C11: 0.50347222
B12: ac | C12: 0.50347222
B13: ad | C13: 0.50347222
A14: 9 | B14: ae | C14: 0.50347222
B15: af | C15: 0.50347222
B16: ag | C16: 0.50416667
B17: ah | C17: 0.50416667
B18: ai | C18: 0.50416667
B19: aj | C19: 0.50486111
A20: 10 | B20: ak | C20: 0.50486111
B21: al | C21: 0.50486111
A22: 11 | B22: am | C22: 0.50486111
B23: an | C23: 0.50555556
B24: ao | C24: 0.50555556
A25: 12 | B25: ap | C25: 0.50555556
B26: aq | C26: 0.50625
A27: 13 | B27: ar | C27: 0.50694444
B28: as | C28: 0.50694444
B29: b | C29: 0.5
B30: c | C30: 0.5
A31: 1 | B31: d | C31: 0.5
B32: e | C32: 0.5
A33: 2 | B33: f | C33: 0.5
B34: g | C34: 0.50069444
B35: h | C35: 0.50069444
B36: i | C36: 0.50069444
A37: 8 | B37: ij | C37: 0.50277778
B38: j | C38: 0.50069444
A39: 3 | B39: k | C39: 0.50069444
B40: l | C40: 0.50069444
B41: m | C41: 0.50069444
B42: n | C42: 0.50069444
A43: 4 | B43: o | C43: 0.50138889
B44: p | C44: 0.50138889
A45: 46178 | B45: q | C45: 0.50138889
B46: r | C46: 0.50208333
B47: s | C47: 0.50208333
B48: t | C48: 0.50208333
B49: u | C49: 0.50208333
B50: v | C50: 0.50277778
A51: 7 | B51: w | C51: 0.50277778
B52: x | C52: 0.50277778
B53: z | C53: 0.50347222
B54: 1 | C54: 0.50694444
A55: 14 | B55: 2 | C55: 0.50763889
A56: 15 | B56: 3 | C56: 0.50833333
A57: 16 17 | B57: 4 | C57: 0.50833333
A58: 18 | B58: 5 | C58: 0.50833333
A59: 19 | B59: 6 | C59: 0.50902778
B60: 7 | C60: 0.50902778
B61: 8 | C61: 0.50972222
B62: 9 | C62: 0.50972222
A63: 20 | B63: 10 | C63: 0.51111111
B64: 11 | C64: 0.51111111
B65: 12 | C65: 0.51111111
B66: 13 | C66: 0.51180556
A67: 21 | B67: 14 | C67: 0.5125
A68: 22 | B68: 15 | C68: 0.51319444
B69: 16 | C69: 0.51527778
B70: 17 | C70: 0.51527778
A71: 23 | B71: 18 | C71: 0.51527778
A72: 24 | B72: 19 | C72: 0.51597222
A73: 25 | B73: 20 | C73: 0.51597222
A74: 26 | B74: 21 | C74: 0.51666667
A75: 27 | B75: 22 | C75: 0.51666667
A76: 28 | B76: 23 | C76: 0.51736111
A77: 29 | B77: 24 | C77: 0.51736111
B78: 25 | C78: 0.51805556
A79: 30 | B79: 26 | C79: 0.51875
A80: 31 | B80: 27 | C80: 0.51875
B81: 28 | C81: 0.51944444
A82: 32 | B82: 29 | C82: 0.52083333
B83: 30 | C83: 0.52152778
B84: 31 | C84: 0.52222222
A85: 33 | B85: 32 | C85: 0.52222222
B86: 33 | C86: 0.52222222
B87: 34 | C87: 0.52291667
A88: 34 | B88: 35 | C88: 0.52430556
A89: 35 | B89: 36 | C89: 0.52430556
B90: 37 | C90: 0.52569444
A91: 1 | B91: 38 | C91: 0.52708333
A92: 2 | B92: 39 | C92: 0.52708333
A93: 3 | B93: 40 | C93: 0.52708333
A94: 4 | B94: 41 | C94: 0.52847222
B95: 42 | C95: 0.52916667
B96: 43 | C96: 0.52986111
B97: 44 | C97: 0.53055556
B98: 45 | C98: 0.53125
A99: 5 | B99: 46 | C99: 0.53402778
B100: 47 | C100: 0.53402778
...

Sheet Legenda
C1: Lijst van afkortingen
C4: DLW | D4: Dood Lopende Weg
C5: EN DIRECT | D5: Volgende routepunt is zéér nabij
C6: EW | D6: Einde Weg
C7: Hoofdstraat- | D7: Zijstraat aan L-kant
C8: Hoofdstraat | D8: Kruist Hoofdstraat L en R
C9: -Hoofdstraat | D9: Zijstraat aan R-kant
C10: P Assen 2 | D10: ANWB Paal Assen 2 km
C11: VHZ | D11: Vluchtheuvel(zuil)
C12: VRW | D12: Voorrangsweg
C13: VKL.RE.DO | D13: Verkeerslicht
C14: VKL.RE.AF | D14: Verkeerslicht
C15: VKL.LI.AF | D15: Verkeerslicht
... C39: BEW.BRUG | D39: Beweegbare Brug

Sheet Rekenblad
A1: Was | B1: Wordt | D1: Mutatie
A2: 55 | B2: =A2+$D$2 -> 50.3 | D2: -4.7
A3: 55.6 | B3: =A3+$D$2 -> 50.9 | G3: 13.5 | I3: 118.3 | J3: 126.4
A4: 56 | B4: =A4+$D$2 -> 51.3 | I4: =I3+G3 -> 131.8 | J4: 134.5
A5: 56.2 | B5: =A5+$D$2 -> 51.5 | J5: =J4-J3 -> 8.1
A6: 56.3 | B6: =A6+$D$2 -> 51.6
A7: 56.6 | B7: =A7+$D$2 -> 51.9
A8: 57.2 | B8: =A8+$D$2 -> 52.5
A9: 57.7 | B9: =A9+$D$2 -> 53
A10: 58.6 | B10: =A10+$D$2 -> 53.9
A11: 58.9 | B11: =A11+$D$2 -> 54.2
A12: 59.2 | B12: =A12+$D$2 -> 54.5
A13: 59.9 | B13: =A13+$D$2 -> 55.2
A14: 60.3 | B14: =A14+$D$2 -> 55.6
A15: 61.1 | B15: =A15+$D$2 -> 56.4
A16: 63.4 | B16: =A16+$D$2 -> 58.7
A17: 63.5 | B17: =A17+$D$2 -> 58.8
... A178: 149.3 | B178: =A178+$D$2 -> 144.6
B179: =A179+$D$2 -> -4.7

Sheet Blad1
G2: {=VLOOKUP("EINDE NEUTR*",INDIRECT("route!D$6"):INDIRECT("route!E$6518"),2,FALSE)} -> 4.9
G3: {=VLOOKUP("FINISH",INDIRECT("route!D$6"):INDIRECT("route!E$6518"),2,FALSE)} -> 144.2
A5: =route!$A$5 -> 44 | B5: =route!$B$5 -> 46 | E5: =route!E5 -> 0.5
A6: door komst tijd | B6: door komst tijd | D6: Gereden km's | E6: tussen afstand | F6: =B5 -> 46 | I6: =A5 -> 44 | O6: re-a* | P6: li-a* | Q6: inv* | R6: uitv* | S6: rtd*
A7: {=IF(INDIRECT("route!D7")>0,L7,(""))} -> 0.5 | B7: {=IF(route!E7="","",IF(INDIRECT("route!D7")>0,G7,("")))} -> 0.5 | C7: =IF(D7>=0,VLOOKUP("EINDE NEUTR*",INDIRECT("route!D$6"):INDIRECT("route!E$8500"),2,FALSE)-D7," ") -> 4.9 | D7: {=INDIRECT("route!E7")} -> 0 | E7: =IF($T7=TRUE,"",N7-N6) | F7: 7.2 | G7: =Blad1!uur -> 0.5 | H7: =Blad1!uur -> 0.5 | I7: 7.2 | J7: =Blad1!uur -> 0.5 | L7: =Blad1!uur -> 0.5 | M7: 0 | N7: {=IF(INDIRECT("route!D7")="START",0,IF(T7=TRUE,N6,INDIRECT("route!E7")))} -> 0 | O7: =SEARCH($O$6,INDIRECT("route!G"&U7)) -> #VALUE! | P7: =SEARCH($P$6,INDIRECT("route!G"&U7)) -> #VALUE! | Q7: =SEARCH($Q$6,INDIRECT("route!G"&U7)) -> #VALUE! | R7: =SEARCH($R$6,INDIRECT("route!G"&U7)) -> #VALUE! | S7: =SEARCH($S$6,INDIRECT("route!G"&U7)) -> #VALUE! | T7: =AND(ISERROR(O7),ISERROR(P7),ISERROR(Q7),ISERROR(R7),ISERROR(S7)) -> TRUE | U7: 7 | W7: a
A8: {=IF(INDIRECT("route!D8")>0,L8,(""))} -> 0.5 | B8: {=IF(INDIRECT("route!D8")>0,H8,(""))} -> 0.5 | C8: =IF(D8>=0,VLOOKUP("EINDE NEUTR*",INDIRECT("route!D$6"):INDIRECT("route!E$8500"),2,FALSE)-D8," ") -> 4.9 | D8: {=INDIRECT("route!E8")} -> 0 | E8: =IF($T8=TRUE,"",N8-N7) -> 0 | F8: 7.2 | G8: =TIME(0,0,0+M8*1000/F8) -> 0 | H8: =H7+G8 -> 0.5 | I8: 7.2 | J8: =TIME(0,0,0+M8*1000/I8) -> 0 | L8: =L7+J8 -> 0.5 | M8: {=INDIRECT("route!E8")-INDIRECT("route!E7")} -> 0 | N8: {=IF(INDIRECT("route!D8")="START",0,IF(T8=TRUE,N7,INDIRECT("route!E8")))} -> 0 | O8: =SEARCH($O$6,INDIRECT("route!G"&U8)) -> #VALUE! | P8: =SEARCH($P$6,INDIRECT("route!G"&U8)) -> 1 | Q8: =SEARCH($Q$6,INDIRECT("route!G"&U8)) -> #VALUE! | R8: =SEARCH($R$6,INDIRECT("route!G"&U8)) -> #VALUE! | S8: =SEARCH($S$6,INDIRECT("route!G"&U8)) -> #VALUE! | T8: =AND(ISERROR(O8),ISERROR(P8),ISERROR(Q8),ISERROR(R8),ISERROR(S8)) -> FALSE | U8: 8 | W8: b
A9: {=IF(INDIRECT("route!D9")>0,L9,(""))} -> 0.50015046 | B9: {=IF(INDIRECT("route!D9")>0,H9,(""))} -> 0.50015046 | C9: =IF(D9>=0,VLOOKUP("EINDE NEUTR*",INDIRECT("route!D$6"):INDIRECT("route!E$8500"),2,FALSE)-D9," ") -> 4.8 | D9: {=INDIRECT("route!E9")} -> 0.1 | E9: =IF($T9=TRUE,"",N9-N8) | F9: 7.2 | G9: =TIME(0,0,0+M9*1000/F9) -> 0.00015046296 | H9: =H8+G9 -> 0.50015046 | I9: 7.2 | J9: =TIME(0,0,0+M9*1000/I9) -> 0.00015046296 | L9: =L8+J9 -> 0.50015046 | M9: {=INDIRECT("route!E9")-INDIRECT("route!E8")} -> 0.1 | N9: {=IF(INDIRECT("route!D9")="START",0,IF(T9=TRUE,N8,INDIRECT("route!E9")))} -> 0 | O9: =SEARCH($O$6,INDIRECT("route!G"&U9)) -> #VALUE! | P9: =SEARCH($P$6,INDIRECT("route!G"&U9)) -> #VALUE! | Q9: =SEARCH($Q$6,INDIRECT("route!G"&U9)) -> #VALUE! | R9: =SEARCH($R$6,INDIRECT("route!G"&U9)) -> #VALUE! | S9: =SEARCH($S$6,INDIRECT("route!G"&U9)) -> #VALUE! | T9: =AND(ISERROR(O9),ISERROR(P9),ISERROR(Q9),ISERROR(R9),ISERROR(S9)) -> TRUE | U9: 9 | W9: c
A10: {=IF(INDIRECT("route!D10")>0,L10,(""))} -> 0.50030093 | B10: {=IF(INDIRECT("route!D10")>0,H10,(""))} -> 0.50030093 | C10: =IF(D10>0,VLOOKUP("EINDE NEUTR*",INDIRECT("route!D$6"):INDIRECT("route!E$8500"),2,FALSE)-D10," ") -> 4.7 | D10: {=INDIRECT("route!E10")} -> 0.2 | E10: =IF($T10=TRUE,"",N10-N9) -> 0.2 | F10: 7.2 | G10: =TIME(0,0,0+M10*1000/F10) -> 0.00015046296 | H10: =H9+G10 -> 0.50030093 | I10: 7.2 | J10: =TIME(0,0,0+M10*1000/I10) -> 0.00015046296 | L10: =L9+J10 -> 0.50030093 | M10: {=INDIRECT("route!E10")-INDIRECT("route!E9")} -> 0.1 | N10: {=IF(INDIRECT("route!D10")="START",0,IF(T10=TRUE,N9,INDIRECT("route!E10")))} -> 0.2 | O10: =SEARCH($O$6,INDIRECT("route!G"&U10)) -> 1 | P10: =SEARCH($P$6,INDIRECT("route!G"&U10)) -> #VALUE! | Q10: =SEARCH($Q$6,INDIRECT("route!G"&U10)) -> #VALUE! | R10: =SEARCH($R$6,INDIRECT("route!G"&U10)) -> #VALUE! | S10: =SEARCH($S$6,INDIRECT("route!G"&U10)) -> #VALUE! | T10: =AND(ISERROR(O10),ISERROR(P10),ISERROR(Q10),ISERROR(R10),ISERROR(S10)) -> FALSE | U10: 10 | W10: d
A11: {=IF(INDIRECT("route!D11")>0,L11,(""))} -> 0.50045139 | B11: {=IF(INDIRECT("route!D11")>0,H11,(""))} -> 0.50045139 | C11: =IF(D11>0,VLOOKUP("EINDE NEUTR*",INDIRECT("route!D$6"):INDIRECT("route!E$8500"),2,FALSE)-D11," ") -> 4.6 | D11: {=INDIRECT("route!E11")} -> 0.3 | E11: =IF($T11=TRUE,"",N11-N10) | F11: 7.2 | G11: =TIME(0,0,0+M11*1000/F11) -> 0.00015046296 | H11: =H10+G11 -> 0.50045139 | I11: 7.2 | J11: =TIME(0,0,0+M11*1000/I11) -> 0.00015046296 | L11: =L10+J11 -> 0.50045139 | M11: {=INDIRECT("route!E11")-INDIRECT("route!E10")} -> 0.1 | N11: {=IF(INDIRECT("route!D11")="START",0,IF(T11=TRUE,N10,INDIRECT("route!E11")))} -> 0.2 | O11: =SEARCH($O$6,INDIRECT("route!G"&U11)) -> #VALUE! | P11: =SEARCH($P$6,INDIRECT("route!G"&U11)) -> #VALUE! | Q11: =SEARCH($Q$6,INDIRECT("route!G"&U11)) -> #VALUE! | R11: =SEARCH($R$6,INDIRECT("route!G"&U11)) -> #VALUE! | S11: =SEARCH($S$6,INDIRECT("route!G"&U11)) -> #VALUE! | T11: =AND(ISERROR(O11),ISERROR(P11),ISERROR(Q11),ISERROR(R11),ISERROR(S11)) -> TRUE | U11: 11 | W11: e
A12: {=IF(INDIRECT("route!D12")>0,L12,(""))} -> 0.50060185 | B12: {=IF(INDIRECT("route!D12")>0,H12,(""))} -> 0.50060185 | C12: =IF(D12>0,VLOOKUP("EINDE NEUTR*",INDIRECT("route!D$6"):INDIRECT("route!E$8500"),2,FALSE)-D12," ") -> 4.5 | D12: {=INDIRECT("route!E12")} -> 0.4 | E12: =IF($T12=TRUE,"",N12-N11) -> 0.2 | F12: 7.2 | G12: =TIME(0,0,0+M12*1000/F12) -> 0.00015046296 | H12: =H11+G12 -> 0.50060185 | I12: 7.2 | J12: =TIME(0,0,0+M12*1000/I12) -> 0.00015046296 | L12: =L11+J12 -> 0.50060185 | M12: {=INDIRECT("route!E12")-INDIRECT("route!E11")} -> 0.1 | N12: {=IF(INDIRECT("route!D12")="START",0,IF(T12=TRUE,N11,INDIRECT("route!E12")))} -> 0.4 | O12: =SEARCH($O$6,INDIRECT("route!G"&U12)) -> #VALUE! | P12: =SEARCH($P$6,INDIRECT("route!G"&U12)) -> 1 | Q12: =SEARCH($Q$6,INDIRECT("route!G"&U12)) -> #VALUE! | R12: =SEARCH($R$6,INDIRECT("route!G"&U12)) -> #VALUE! | S12: =SEARCH($S$6,INDIRECT("route!G"&U12)) -> #VALUE! | T12: =AND(ISERROR(O12),ISERROR(P12),ISERROR(Q12),ISERROR(R12),ISERROR(S12)) -> FALSE | U12: 12 | W12: f
A13: {=IF(INDIRECT("route!D13")>0,L13,(""))} -> 0.50075231 | B13: {=IF(INDIRECT("route!D13")>0,H13,(""))} -> 0.50075231 | C13: =IF(D13>0,VLOOKUP("EINDE NEUTR*",INDIRECT("route!D$6"):INDIRECT("route!E$8500"),2,FALSE)-D13," ") -> 4.4 | D13: {=INDIRECT("route!E13")} -> 0.5 | E13: =IF($T13=TRUE,"",N13-N12) | F13: 7.2 | G13: =TIME(0,0,0+M13*1000/F13) -> 0.00015046296 | H13: =H12+G13 -> 0.50075231 | I13: 7.2 | J13: =TIME(0,0,0+M13*1000/I13) -> 0.00015046296 | L13: =L12+J13 -> 0.50075231 | M13: {=INDIRECT("route!E13")-INDIRECT("route!E12")} -> 0.1 | N13: {=IF(INDIRECT("route!D13")="START",0,IF(T13=TRUE,N12,INDIRECT("route!E13")))} -> 0.4 | O13: =SEARCH($O$6,INDIRECT("route!G"&U13)) -> #VALUE! | P13: =SEARCH($P$6,INDIRECT("route!G"&U13)) -> #VALUE! | Q13: =SEARCH($Q$6,INDIRECT("route!G"&U13)) -> #VALUE! | R13: =SEARCH($R$6,INDIRECT("route!G"&U13)) -> #VALUE! | S13: =SEARCH($S$6,INDIRECT("route!G"&U13)) -> #VALUE! | T13: =AND(ISERROR(O13),ISERROR(P13),ISERROR(Q13),ISERROR(R13),ISERROR(S13)) -> TRUE | U13: 13 | W13: g
A14: {=IF(INDIRECT("route!D14")>0,L14,(""))} -> 0.50075231 | B14: {=IF(INDIRECT("route!D14")>0,H14,(""))} -> 0.50075231 | C14: =IF(D14>0,VLOOKUP("EINDE NEUTR*",INDIRECT("route!D$6"):INDIRECT("route!E$8500"),2,FALSE)-D14," ") -> 4.4 | D14: {=INDIRECT("route!E14")} -> 0.5 | E14: =IF($T14=TRUE,"",N14-N13) | F14: 7.2 | G14: =TIME(0,0,0+M14*1000/F14) -> 0 | H14: =H13+G14 -> 0.50075231 | I14: 7.2 | J14: =TIME(0,0,0+M14*1000/I14) -> 0 | L14: =L13+J14 -> 0.50075231 | M14: {=INDIRECT("route!E14")-INDIRECT("route!E13")} -> 0 | N14: {=IF(INDIRECT("route!D14")="START",0,IF(T14=TRUE,N13,INDIRECT("route!E14")))} -> 0.4 | O14: =SEARCH($O$6,INDIRECT("route!G"&U14)) -> #VALUE! | P14: =SEARCH($P$6,INDIRECT("route!G"&U14)) -> #VALUE! | Q14: =SEARCH($Q$6,INDIRECT("route!G"&U14)) -> #VALUE! | R14: =SEARCH($R$6,INDIRECT("route!G"&U14)) -> #VALUE! | S14: =SEARCH($S$6,INDIRECT("route!G"&U14)) -> #VALUE! | T14: =AND(ISERROR(O14),ISERROR(P14),ISERROR(Q14),ISERROR(R14),ISERROR(S14)) -> TRUE | U14: 14 | W14: h
A15: {=IF(INDIRECT("route!D15")>0,L15,(""))} -> 0.50075231 | B15: {=IF(INDIRECT("route!D15")>0,H15,(""))} -> 0.50075231 | C15: =IF(D15>0,VLOOKUP("EINDE NEUTR*",INDIRECT("route!D$6"):INDIRECT("route!E$8500"),2,FALSE)-D15," ") -> 4.4 | D15: {=INDIRECT("route!E15")} -> 0.5 | E15: =IF($T15=TRUE,"",N15-N14) | F15: 7.2 | G15: =TIME(0,0,0+M15*1000/F15) -> 0 | H15: =H14+G15 -> 0.50075231 | I15: 7.2 | J15: =TIME(0,0,0+M15*1000/I15) -> 0 | L15: =L14+J15 -> 0.50075231 | M15: {=INDIRECT("route!E15")-INDIRECT("route!E14")} -> 0 | N15: {=IF(INDIRECT("route!D15")="START",0,IF(T15=TRUE,N14,INDIRECT("route!E15")))} -> 0.4 | O15: =SEARCH($O$6,INDIRECT("route!G"&U15)) -> #VALUE! | P15: =SEARCH($P$6,INDIRECT("route!G"&U15)) -> #VALUE! | Q15: =SEARCH($Q$6,INDIRECT("route!G"&U15)) -> #VALUE! | R15: =SEARCH($R$6,INDIRECT("route!G"&U15)) -> #VALUE! | S15: =SEARCH($S$6,INDIRECT("route!G"&U15)) -> #VALUE! | T15: =AND(ISERROR(O15),ISERROR(P15),ISERROR(Q15),ISERROR(R15),ISERROR(S15)) -> TRUE | U15: 15 | W15: i
A16: {=IF(INDIRECT("route!D16")>0,L16,(""))} -> 0.50075231 | B16: {=IF(INDIRECT("route!D16")>0,H16,(""))} -> 0.50075231 | C16: =IF(D16>0,VLOOKUP("EINDE NEUTR*",INDIRECT("route!D$6"):INDIRECT("route!E$8500"),2,FALSE)-D16," ") -> 4.4 | D16: {=INDIRECT("route!E16")} -> 0.5 | E16: =IF($T16=TRUE,"",N16-N15) | F16: 7.2 | G16: =TIME(0,0,0+M16*1000/F16) -> 0 | H16: =H15+G16 -> 0.50075231 | I16: 7.2 | J16: =TIME(0,0,0+M16*1000/I16) -> 0 | L16: =L15+J16 -> 0.50075231 | M16: {=INDIRECT("route!E16")-INDIRECT("route!E15")} -> 0 | N16: {=IF(INDIRECT("route!D16")="START",0,IF(T16=TRUE,N15,INDIRECT("route!E16")))} -> 0.4 | O16: =SEARCH($O$6,INDIRECT("route!G"&U16)) -> #VALUE! | P16: =SEARCH($P$6,INDIRECT("route!G"&U16)) -> #VALUE! | Q16: =SEARCH($Q$6,INDIRECT("route!G"&U16)) -> #VALUE! | R16: =SEARCH($R$6,INDIRECT("route!G"&U16)) -> #VALUE! | S16: =SEARCH($S$6,INDIRECT("route!G"&U16)) -> #VALUE! | T16: =AND(ISERROR(O16),ISERROR(P16),ISERROR(Q16),ISERROR(R16),ISERROR(S16)) -> TRUE | U16: 16 | W16: j
A17: {=IF(INDIRECT("route!D17")>0,L17,(""))} -> 0.50090278 | B17: {=IF(INDIRECT("route!D17")>0,H17,(""))} -> 0.50090278 | C17: =IF(D17>0,VLOOKUP("EINDE NEUTR*",INDIRECT("route!D$6"):INDIRECT("route!E$8500"),2,FALSE)-D17," ") -> 4.3 | D17: {=INDIRECT("route!E17")} -> 0.6 | E17: =IF($T17=TRUE,"",N17-N16) -> 0.2 | F17: 7.2 | G17: =TIME(0,0,0+M17*1000/F17) -> 0.00015046296 | H17: =H16+G17 -> 0.50090278 | I17: 7.2 | J17: =TIME(0,0,0+M17*1000/I17) -> 0.00015046296 | L17: =L16+J17 -> 0.50090278 | M17: {=INDIRECT("route!E17")-INDIRECT("route!E16")} -> 0.1 | N17: {=IF(INDIRECT("route!D17")="START",0,IF(T17=TRUE,N16,INDIRECT("route!E17")))} -> 0.6 | O17: =SEARCH($O$6,INDIRECT("route!G"&U17)) -> #VALUE! | P17: =SEARCH($P$6,INDIRECT("route!G"&U17)) -> 1 | Q17: =SEARCH($Q$6,INDIRECT("route!G"&U17)) -> #VALUE! | R17: =SEARCH($R$6,INDIRECT("route!G"&U17)) -> #VALUE! | S17: =SEARCH($S$6,INDIRECT("route!G"&U17)) -> #VALUE! | T17: =AND(ISERROR(O17),ISERROR(P17),ISERROR(Q17),ISERROR(R17),ISERROR(S17)) -> FALSE | U17: 17 | W17: k
A18: {=IF(INDIRECT("route!D18")>0,L18,(""))} -> 0.50105324 | B18: {=IF(INDIRECT("route!D18")>0,H18,(""))} -> 0.50105324 | C18: =IF(D18>0,VLOOKUP("EINDE NEUTR*",INDIRECT("route!D$6"):INDIRECT("route!E$8500"),2,FALSE)-D18," ") -> 4.2 | D18: {=INDIRECT("route!E18")} -> 0.7 | E18: =IF($T18=TRUE,"",N18-N17) | F18: 7.2 | G18: =TIME(0,0,0+M18*1000/F18) -> 0.00015046296 | H18: =H17+G18 -> 0.50105324 | I18: 7.2 | J18: =TIME(0,0,0+M18*1000/I18) -> 0.00015046296 | L18: =L17+J18 -> 0.50105324 | M18: {=INDIRECT("route!E18")-INDIRECT("route!E17")} -> 0.1 | N18: {=IF(INDIRECT("route!D18")="START",0,IF(T18=TRUE,N17,INDIRECT("route!E18")))} -> 0.6 | O18: =SEARCH($O$6,INDIRECT("route!G"&U18)) -> #VALUE! | P18: =SEARCH($P$6,INDIRECT("route!G"&U18)) -> #VALUE! | Q18: =SEARCH($Q$6,INDIRECT("route!G"&U18)) -> #VALUE! | R18: =SEARCH($R$6,INDIRECT("route!G"&U18)) -> #VALUE! | S18: =SEARCH($S$6,INDIRECT("route!G"&U18)) -> #VALUE! | T18: =AND(ISERROR(O18),ISERROR(P18),ISERROR(Q18),ISERROR(R18),ISERROR(S18)) -> TRUE | U18: 18 | W18: l
A19: {=IF(INDIRECT("route!D19")>0,L19,(""))} -> 0.5012037 | B19: {=IF(INDIRECT("route!D19")>0,H19,(""))} -> 0.5012037 | C19: =IF(D19>0,VLOOKUP("EINDE NEUTR*",INDIRECT("route!D$6"):INDIRECT("route!E$8500"),2,FALSE)-D19," ") -> 4.1 | D19: {=INDIRECT("route!E19")} -> 0.8 | E19: =IF($T19=TRUE,"",N19-N18) | F19: 7.2 | G19: =TIME(0,0,0+M19*1000/F19) -> 0.00015046296 | H19: =H18+G19 -> 0.5012037 | I19: 7.2 | J19: =TIME(0,0,0+M19*1000/I19) -> 0.00015046296 | L19: =L18+J19 -> 0.5012037 | M19: {=INDIRECT("route!E19")-INDIRECT("route!E18")} -> 0.1 | N19: {=IF(INDIRECT("route!D19")="START",0,IF(T19=TRUE,N18,INDIRECT("route!E19")))} -> 0.6 | O19: =SEARCH($O$6,INDIRECT("route!G"&U19)) -> #VALUE! | P19: =SEARCH($P$6,INDIRECT("route!G"&U19)) -> #VALUE! | Q19: =SEARCH($Q$6,INDIRECT("route!G"&U19)) -> #VALUE! | R19: =SEARCH($R$6,INDIRECT("route!G"&U19)) -> #VALUE! | S19: =SEARCH($S$6,INDIRECT("route!G"&U19)) -> #VALUE! | T19: =AND(ISERROR(O19),ISERROR(P19),ISERROR(Q19),ISERROR(R19),ISERROR(S19)) -> TRUE | U19: 19 | W19: m
A20: {=IF(INDIRECT("route!D20")>0,L20,(""))} -> 0.5012037 | B20: {=IF(INDIRECT("route!D20")>0,H20,(""))} -> 0.5012037 | C20: =IF(D20>0,VLOOKUP("EINDE NEUTR*",INDIRECT("route!D$6"):INDIRECT("route!E$8500"),2,FALSE)-D20," ") -> 4.1 | D20: {=INDIRECT("route!E20")} -> 0.8 | E20: =IF($T20=TRUE,"",N20-N19) | F20: 7.2 | G20: =TIME(0,0,0+M20*1000/F20) -> 0 | H20: =H19+G20 -> 0.5012037 | I20: 7.2 | J20: =TIME(0,0,0+M20*1000/I20) -> 0 | L20: =L19+J20 -> 0.5012037 | M20: {=INDIRECT("route!E20")-INDIRECT("route!E19")} -> 0 | N20: {=IF(INDIRECT("route!D20")="START",0,IF(T20=TRUE,N19,INDIRECT("route!E20")))} -> 0.6 | O20: =SEARCH($O$6,INDIRECT("route!G"&U20)) -> #VALUE! | P20: =SEARCH($P$6,INDIRECT("route!G"&U20)) -> #VALUE! | Q20: =SEARCH($Q$6,INDIRECT("route!G"&U20)) -> #VALUE! | R20: =SEARCH($R$6,INDIRECT("route!G"&U20)) -> #VALUE! | S20: =SEARCH($S$6,INDIRECT("route!G"&U20)) -> #VALUE! | T20: =AND(ISERROR(O20),ISERROR(P20),ISERROR(Q20),ISERROR(R20),ISERROR(S20)) -> TRUE | U20: 20 | W20: n
A21: {=IF(INDIRECT("route!D21")>0,L21,(""))} -> 0.5015162 | B21: {=IF(INDIRECT("route!D21")>0,H21,(""))} -> 0.5015162 | C21: =IF(D21>0,VLOOKUP("EINDE NEUTR*",INDIRECT("route!D$6"):INDIRECT("route!E$8500"),2,FALSE)-D21," ") -> 3.9 | D21: {=INDIRECT("route!E21")} -> 1 | E21: =IF($T21=TRUE,"",N21-N20) -> 0.4 | F21: 7.2 | G21: =TIME(0,0,0+M21*1000/F21) -> 0.0003125 | H21: =H20+G21 -> 0.5015162 | I21: 7.2 | J21: =TIME(0,0,0+M21*1000/I21) -> 0.0003125 | L21: =L20+J21 -> 0.5015162 | M21: {=INDIRECT("route!E21")-INDIRECT("route!E20")} -> 0.2 | N21: {=IF(INDIRECT("route!D21")="START",0,IF(T21=TRUE,N20,INDIRECT("route!E21")))} -> 1 | O21: =SEARCH($O$6,INDIRECT("route!G"&U21)) -> 1 | P21: =SEARCH($P$6,INDIRECT("route!G"&U21)) -> #VALUE! | Q21: =SEARCH($Q$6,INDIRECT("route!G"&U21)) -> #VALUE! | R21: =SEARCH($R$6,INDIRECT("route!G"&U21)) -> #VALUE! | S21: =SEARCH($S$6,INDIRECT("route!G"&U21)) -> #VALUE! | T21: =AND(ISERROR(O21),ISERROR(P21),ISERROR(Q21),ISERROR(R21),ISERROR(S21)) -> FALSE | U21: 21 | W21: o
A22: {=IF(INDIRECT("route!D22")>0,L22,(""))} -> 0.5015162 | B22: {=IF(INDIRECT("route!D22")>0,H22,(""))} -> 0.5015162 | C22: =IF(D22>0,VLOOKUP("EINDE NEUTR*",INDIRECT("route!D$6"):INDIRECT("route!E$8500"),2,FALSE)-D22," ") -> 3.9 | D22: {=INDIRECT("route!E22")} -> 1 | E22: =IF($T22=TRUE,"",N22-N21) | F22: 7.2 | G22: =TIME(0,0,0+M22*1000/F22) -> 0 | H22: =H21+G22 -> 0.5015162 | I22: 7.2 | J22: =TIME(0,0,0+M22*1000/I22) -> 0 | L22: =L21+J22 -> 0.5015162 | M22: {=INDIRECT("route!E22")-INDIRECT("route!E21")} -> 0 | N22: {=IF(INDIRECT("route!D22")="START",0,IF(T22=TRUE,N21,INDIRECT("route!E22")))} -> 1 | O22: =SEARCH($O$6,INDIRECT("route!G"&U22)) -> #VALUE! | P22: =SEARCH($P$6,INDIRECT("route!G"&U22)) -> #VALUE! | Q22: =SEARCH($Q$6,INDIRECT("route!G"&U22)) -> #VALUE! | R22: =SEARCH($R$6,INDIRECT("route!G"&U22)) -> #VALUE! | S22: =SEARCH($S$6,INDIRECT("route!G"&U22)) -> #VALUE! | T22: =AND(ISERROR(O22),ISERROR(P22),ISERROR(Q22),ISERROR(R22),ISERROR(S22)) -> TRUE | U22: 22 | W22: p
A23: {=IF(INDIRECT("route!D23")>0,L23,(""))} -> 0.50166667 | B23: {=IF(INDIRECT("route!D23")>0,H23,(""))} -> 0.50166667 | C23: =IF(D23>0,VLOOKUP("EINDE NEUTR*",INDIRECT("route!D$6"):INDIRECT("route!E$8500"),2,FALSE)-D23," ") -> 3.8 | D23: {=INDIRECT("route!E23")} -> 1.1 | E23: =IF($T23=TRUE,"",N23-N22) -> 0.1 | F23: 7.2 | G23: =TIME(0,0,0+M23*1000/F23) -> 0.00015046296 | H23: =H22+G23 -> 0.50166667 | I23: 7.2 | J23: =TIME(0,0,0+M23*1000/I23) -> 0.00015046296 | L23: =L22+J23 -> 0.50166667 | M23: {=INDIRECT("route!E23")-INDIRECT("route!E22")} -> 0.1 | N23: {=IF(INDIRECT("route!D23")="START",0,IF(T23=TRUE,N22,INDIRECT("route!E23")))} -> 1.1 | O23: =SEARCH($O$6,INDIRECT("route!G"&U23)) -> #VALUE! | P23: =SEARCH($P$6,INDIRECT("route!G"&U23)) -> 9 | Q23: =SEARCH($Q$6,INDIRECT("route!G"&U23)) -> #VALUE! | R23: =SEARCH($R$6,INDIRECT("route!G"&U23)) -> #VALUE! | S23: =SEARCH($S$6,INDIRECT("route!G"&U23)) -> 1 | T23: =AND(ISERROR(O23),ISERROR(P23),ISERROR(Q23),ISERROR(R23),ISERROR(S23)) -> FALSE | U23: 23 | W23: q
A24: {=IF(INDIRECT("route!D24")>0,L24,(""))} -> 0.50230324 | B24: {=IF(INDIRECT("route!D24")>0,H24,(""))} -> 0.50230324 | C24: =IF(D24>0,VLOOKUP("EINDE NEUTR*",INDIRECT("route!D$6"):INDIRECT("route!E$8500"),2,FALSE)-D24," ") -> 3.4 | D24: {=INDIRECT("route!E24")} -> 1.5 | E24: =IF($T24=TRUE,"",N24-N23) | F24: 7.2 | G24: =TIME(0,0,0+M24*1000/F24) -> 0.00063657407 | H24: =H23+G24 -> 0.50230324 | I24: 7.2 | J24: =TIME(0,0,0+M24*1000/I24) -> 0.00063657407 | L24: =L23+J24 -> 0.50230324 | M24: {=INDIRECT("route!E24")-INDIRECT("route!E23")} -> 0.4 | N24: {=IF(INDIRECT("route!D24")="START",0,IF(T24=TRUE,N23,INDIRECT("route!E24")))} -> 1.1 | O24: =SEARCH($O$6,INDIRECT("route!G"&U24)) -> #VALUE! | P24: =SEARCH($P$6,INDIRECT("route!G"&U24)) -> #VALUE! | Q24: =SEARCH($Q$6,INDIRECT("route!G"&U24)) -> #VALUE! | R24: =SEARCH($R$6,INDIRECT("route!G"&U24)) -> #VALUE! | S24: =SEARCH($S$6,INDIRECT("route!G"&U24)) -> #VALUE! | T24: =AND(ISERROR(O24),ISERROR(P24),ISERROR(Q24),ISERROR(R24),ISERROR(S24)) -> TRUE | U24: 24 | W24: r
A25: {=IF(INDIRECT("route!D25")>0,L25,(""))} -> 0.50261574 | B25: {=IF(INDIRECT("route!D25")>0,H25,(""))} -> 0.50261574 | C25: =IF(D25>0,VLOOKUP("EINDE NEUTR*",INDIRECT("route!D$6"):INDIRECT("route!E$8500"),2,FALSE)-D25," ") -> 3.2 | D25: {=INDIRECT("route!E25")} -> 1.7 | E25: =IF($T25=TRUE,"",N25-N24) | F25: 7.2 | G25: =TIME(0,0,0+M25*1000/F25) -> 0.0003125 | H25: =H24+G25 -> 0.50261574 | I25: 7.2 | J25: =TIME(0,0,0+M25*1000/I25) -> 0.0003125 | L25: =L24+J25 -> 0.50261574 | M25: {=INDIRECT("route!E25")-INDIRECT("route!E24")} -> 0.2 | N25: {=IF(INDIRECT("route!D25")="START",0,IF(T25=TRUE,N24,INDIRECT("route!E25")))} -> 1.1 | O25: =SEARCH($O$6,INDIRECT("route!G"&U25)) -> #VALUE! | P25: =SEARCH($P$6,INDIRECT("route!G"&U25)) -> #VALUE! | Q25: =SEARCH($Q$6,INDIRECT("route!G"&U25)) -> #VALUE! | R25: =SEARCH($R$6,INDIRECT("route!G"&U25)) -> #VALUE! | S25: =SEARCH($S$6,INDIRECT("route!G"&U25)) -> #VALUE! | T25: =AND(ISERROR(O25),ISERROR(P25),ISERROR(Q25),ISERROR(R25),ISERROR(S25)) -> TRUE | U25: 25 | W25: s
A26: {=IF(INDIRECT("route!D26")>0,L26,(""))} -> 0.50261574 | B26: {=IF(INDIRECT("route!D26")>0,H26,(""))} -> 0.50261574 | C26: =IF(D26>0,VLOOKUP("EINDE NEUTR*",INDIRECT("route!D$6"):INDIRECT("route!E$8500"),2,FALSE)-D26," ") -> 3.2 | D26: {=INDIRECT("route!E26")} -> 1.7 | E26: =IF($T26=TRUE,"",N26-N25) | F26: 7.2 | G26: =TIME(0,0,0+M26*1000/F26) -> 0 | H26: =H25+G26 -> 0.50261574 | I26: 7.2 | J26: =TIME(0,0,0+M26*1000/I26) -> 0 | L26: =L25+J26 -> 0.50261574 | M26: {=INDIRECT("route!E26")-INDIRECT("route!E25")} -> 0 | N26: {=IF(INDIRECT("route!D26")="START",0,IF(T26=TRUE,N25,INDIRECT("route!E26")))} -> 1.1 | O26: =SEARCH($O$6,INDIRECT("route!G"&U26)) -> #VALUE! | P26: =SEARCH($P$6,INDIRECT("route!G"&U26)) -> #VALUE! | Q26: =SEARCH($Q$6,INDIRECT("route!G"&U26)) -> #VALUE! | R26: =SEARCH($R$6,INDIRECT("route!G"&U26)) -> #VALUE! | S26: =SEARCH($S$6,INDIRECT("route!G"&U26)) -> #VALUE! | T26: =AND(ISERROR(O26),ISERROR(P26),ISERROR(Q26),ISERROR(R26),ISERROR(S26)) -> TRUE | U26: 26 | W26: t
A27: {=IF(INDIRECT("route!D27")>0,L27,(""))} -> 0.5027662 | B27: {=IF(INDIRECT("route!D27")>0,H27,(""))} -> 0.5027662 | C27: =IF(D27>0,VLOOKUP("EINDE NEUTR*",INDIRECT("route!D$6"):INDIRECT("route!E$8500"),2,FALSE)-D27," ") -> 3.1 | D27: {=INDIRECT("route!E27")} -> 1.8 | E27: =IF($T27=TRUE,"",N27-N26) | F27: 7.2 | G27: =TIME(0,0,0+M27*1000/F27) -> 0.00015046296 | H27: =H26+G27 -> 0.5027662 | I27: 7.2 | J27: =TIME(0,0,0+M27*1000/I27) -> 0.00015046296 | L27: =L26+J27 -> 0.5027662 | M27: {=INDIRECT("route!E27")-INDIRECT("route!E26")} -> 0.1 | N27: {=IF(INDIRECT("route!D27")="START",0,IF(T27=TRUE,N26,INDIRECT("route!E27")))} -> 1.1 | O27: =SEARCH($O$6,INDIRECT("route!G"&U27)) -> #VALUE! | P27: =SEARCH($P$6,INDIRECT("route!G"&U27)) -> #VALUE! | Q27: =SEARCH($Q$6,INDIRECT("route!G"&U27)) -> #VALUE! | R27: =SEARCH($R$6,INDIRECT("route!G"&U27)) -> #VALUE! | S27: =SEARCH($S$6,INDIRECT("route!G"&U27)) -> #VALUE! | T27: =AND(ISERROR(O27),ISERROR(P27),ISERROR(Q27),ISERROR(R27),ISERROR(S27)) -> TRUE | U27: 27 | W27: u
A28: {=IF(INDIRECT("route!D28")>0,L28,(""))} -> 0.50291667 | B28: {=IF(INDIRECT("route!D28")>0,H28,(""))} -> 0.50291667 | C28: =IF(D28>0,VLOOKUP("EINDE NEUTR*",INDIRECT("route!D$6"):INDIRECT("route!E$8500"),2,FALSE)-D28," ") -> 3 | D28: {=INDIRECT("route!E28")} -> 1.9 | E28: =IF($T28=TRUE,"",N28-N27) | F28: 7.2 | G28: =TIME(0,0,0+M28*1000/F28) -> 0.00015046296 | H28: =H27+G28 -> 0.50291667 | I28: 7.2 | J28: =TIME(0,0,0+M28*1000/I28) -> 0.00015046296 | L28: =L27+J28 -> 0.50291667 | M28: {=INDIRECT("route!E28")-INDIRECT("route!E27")} -> 0.1 | N28: {=IF(INDIRECT("route!D28")="START",0,IF(T28=TRUE,N27,INDIRECT("route!E28")))} -> 1.1 | O28: =SEARCH($O$6,INDIRECT("route!G"&U28)) -> #VALUE! | P28: =SEARCH($P$6,INDIRECT("route!G"&U28)) -> #VALUE! | Q28: =SEARCH($Q$6,INDIRECT("route!G"&U28)) -> #VALUE! | R28: =SEARCH($R$6,INDIRECT("route!G"&U28)) -> #VALUE! | S28: =SEARCH($S$6,INDIRECT("route!G"&U28)) -> #VALUE! | T28: =AND(ISERROR(O28),ISERROR(P28),ISERROR(Q28),ISERROR(R28),ISERROR(S28)) -> TRUE | U28: 28 | W28: v
A29: {=IF(INDIRECT("route!D29")>0,L29,(""))} -> 0.50306713 | B29: {=IF(INDIRECT("route!D29")>0,H29,(""))} -> 0.50306713 | C29: =IF(D29>0,VLOOKUP("EINDE NEUTR*",INDIRECT("route!D$6"):INDIRECT("route!E$8500"),2,FALSE)-D29," ") -> 2.9 | D29: {=INDIRECT("route!E29")} -> 2 | E29: =IF($T29=TRUE,"",N29-N28) -> 0.9 | F29: 7.2 | G29: =TIME(0,0,0+M29*1000/F29) -> 0.00015046296 | H29: =H28+G29 -> 0.50306713 | I29: 7.2 | J29: =TIME(0,0,0+M29*1000/I29) -> 0.00015046296 | L29: =L28+J29 -> 0.50306713 | M29: {=INDIRECT("route!E29")-INDIRECT("route!E28")} -> 0.1 | N29: {=IF(INDIRECT("route!D29")="START",0,IF(T29=TRUE,N28,INDIRECT("route!E29")))} -> 2 | O29: =SEARCH($O$6,INDIRECT("route!G"&U29)) -> #VALUE! | P29: =SEARCH($P$6,INDIRECT("route!G"&U29)) -> #VALUE! | Q29: =SEARCH($Q$6,INDIRECT("route!G"&U29)) -> #VALUE! | R29: =SEARCH($R$6,INDIRECT("route!G"&U29)) -> #VALUE! | S29: =SEARCH($S$6,INDIRECT("route!G"&U29)) -> 1 | T29: =AND(ISERROR(O29),ISERROR(P29),ISERROR(Q29),ISERROR(R29),ISERROR(S29)) -> FALSE | U29: 29 | W29: w
A30: {=IF(INDIRECT("route!D30")>0,L30,(""))} -> 0.50306713 | B30: {=IF(INDIRECT("route!D30")>0,H30,(""))} -> 0.50306713 | C30: =IF(D30>0,VLOOKUP("EINDE NEUTR*",INDIRECT("route!D$6"):INDIRECT("route!E$8500"),2,FALSE)-D30," ") -> 2.9 | D30: {=INDIRECT("route!E30")} -> 2 | E30: =IF($T30=TRUE,"",N30-N29) | F30: 7.2 | G30: =TIME(0,0,0+M30*1000/F30) -> 0 | H30: =H29+G30 -> 0.50306713 | I30: 7.2 | J30: =TIME(0,0,0+M30*1000/I30) -> 0 | L30: =L29+J30 -> 0.50306713 | M30: {=INDIRECT("route!E30")-INDIRECT("route!E29")} -> 0 | N30: {=IF(INDIRECT("route!D30")="START",0,IF(T30=TRUE,N29,INDIRECT("route!E30")))} -> 2 | O30: =SEARCH($O$6,INDIRECT("route!G"&U30)) -> #VALUE! | P30: =SEARCH($P$6,INDIRECT("route!G"&U30)) -> #VALUE! | Q30: =SEARCH($Q$6,INDIRECT("route!G"&U30)) -> #VALUE! | R30: =SEARCH($R$6,INDIRECT("route!G"&U30)) -> #VALUE! | S30: =SEARCH($S$6,INDIRECT("route!G"&U30)) -> #VALUE! | T30: =AND(ISERROR(O30),ISERROR(P30),ISERROR(Q30),ISERROR(R30),ISERROR(S30)) -> TRUE | U30: 30 | W30: x
A31: {=IF(INDIRECT("route!D31")>0,L31,(""))} -> 0.50337963 | B31: {=IF(INDIRECT("route!D31")>0,H31,(""))} -> 0.50337963 | C31: =IF(D31>0,VLOOKUP("EINDE NEUTR*",INDIRECT("route!D$6"):INDIRECT("route!E$8500"),2,FALSE)-D31," ") -> 2.7 | D31: {=INDIRECT("route!E31")} -> 2.2 | E31: =IF($T31=TRUE,"",N31-N30) | F31: 7.2 | G31: =TIME(0,0,0+M31*1000/F31) -> 0.0003125 | H31: =H30+G31 -> 0.50337963 | I31: 7.2 | J31: =TIME(0,0,0+M31*1000/I31) -> 0.0003125 | L31: =L30+J31 -> 0.50337963 | M31: {=INDIRECT("route!E31")-INDIRECT("route!E30")} -> 0.2 | N31: {=IF(INDIRECT("route!D31")="START",0,IF(T31=TRUE,N30,INDIRECT("route!E31")))} -> 2 | O31: =SEARCH($O$6,INDIRECT("route!G"&U31)) -> #VALUE! | P31: =SEARCH($P$6,INDIRECT("route!G"&U31)) -> #VALUE! | Q31: =SEARCH($Q$6,INDIRECT("route!G"&U31)) -> #VALUE! | R31: =SEARCH($R$6,INDIRECT("route!G"&U31)) -> #VALUE! | S31: =SEARCH($S$6,INDIRECT("route!G"&U31)) -> #VALUE! | T31: =AND(ISERROR(O31),ISERROR(P31),ISERROR(Q31),ISERROR(R31),ISERROR(S31)) -> TRUE | U31: 31 | W31: ij
A32: {=IF(INDIRECT("route!D32")>0,L32,(""))} -> 0.50353009 | B32: {=IF(INDIRECT("route!D32")>0,H32,(""))} -> 0.50353009 | C32: =IF(D32>0,VLOOKUP("EINDE NEUTR*",INDIRECT("route!D$6"):INDIRECT("route!E$8500"),2,FALSE)-D32," ") -> 2.6 | D32: {=INDIRECT("route!E32")} -> 2.3 | E32: =IF($T32=TRUE,"",N32-N31) | F32: 7.2 | G32: =TIME(0,0,0+M32*1000/F32) -> 0.00015046296 | H32: =H31+G32 -> 0.50353009 | I32: 7.2 | J32: =TIME(0,0,0+M32*1000/I32) -> 0.00015046296 | L32: =L31+J32 -> 0.50353009 | M32: {=INDIRECT("route!E32")-INDIRECT("route!E31")} -> 0.1 | N32: {=IF(INDIRECT("route!D32")="START",0,IF(T32=TRUE,N31,INDIRECT("route!E32")))} -> 2 | O32: =SEARCH($O$6,INDIRECT("route!G"&U32)) -> #VALUE! | P32: =SEARCH($P$6,INDIRECT("route!G"&U32)) -> #VALUE! | Q32: =SEARCH($Q$6,INDIRECT("route!G"&U32)) -> #VALUE! | R32: =SEARCH($R$6,INDIRECT("route!G"&U32)) -> #VALUE! | S32: =SEARCH($S$6,INDIRECT("route!G"&U32)) -> #VALUE! | T32: =AND(ISERROR(O32),ISERROR(P32),ISERROR(Q32),ISERROR(R32),ISERROR(S32)) -> TRUE | U32: 32 | W32: z
A33: {=IF(INDIRECT("route!D33")>0,L33,(""))} -> 0.50368056 | B33: {=IF(INDIRECT("route!D33")>0,H33,(""))} -> 0.50368056 | C33: =IF(D33>0,VLOOKUP("EINDE NEUTR*",INDIRECT("route!D$6"):INDIRECT("route!E$8500"),2,FALSE)-D33," ") -> 2.5 | D33: {=INDIRECT("route!E33")} -> 2.4 | E33: =IF($T33=TRUE,"",N33-N32) | F33: 7.2 | G33: =TIME(0,0,0+M33*1000/F33) -> 0.00015046296 | H33: =H32+G33 -> 0.50368056 | I33: 7.2 | J33: =TIME(0,0,0+M33*1000/I33) -> 0.00015046296 | L33: =L32+J33 -> 0.50368056 | M33: {=INDIRECT("route!E33")-INDIRECT("route!E32")} -> 0.1 | N33: {=IF(INDIRECT("route!D33")="START",0,IF(T33=TRUE,N32,INDIRECT("route!E33")))} -> 2 | O33: =SEARCH($O$6,INDIRECT("route!G"&U33)) -> #VALUE! | P33: =SEARCH($P$6,INDIRECT("route!G"&U33)) -> #VALUE! | Q33: =SEARCH($Q$6,INDIRECT("route!G"&U33)) -> #VALUE! | R33: =SEARCH($R$6,INDIRECT("route!G"&U33)) -> #VALUE! | S33: =SEARCH($S$6,INDIRECT("route!G"&U33)) -> #VALUE! | T33: =AND(ISERROR(O33),ISERROR(P33),ISERROR(Q33),ISERROR(R33),ISERROR(S33)) -> TRUE | U33: 33 | W33: aa
A34: {=IF(INDIRECT("route!D34")>0,L34,(""))} -> 0.50383102 | B34: {=IF(INDIRECT("route!D34")>0,H34,(""))} -> 0.50383102 | C34: =IF(D34>0,VLOOKUP("EINDE NEUTR*",INDIRECT("route!D$6"):INDIRECT("route!E$8500"),2,FALSE)-D34," ") -> 2.4 | D34: {=INDIRECT("route!E34")} -> 2.5 | E34: =IF($T34=TRUE,"",N34-N33) | F34: 7.2 | G34: =TIME(0,0,0+M34*1000/F34) -> 0.00015046296 | H34: =H33+G34 -> 0.50383102 | I34: 7.2 | J34: =TIME(0,0,0+M34*1000/I34) -> 0.00015046296 | L34: =L33+J34 -> 0.50383102 | M34: {=INDIRECT("route!E34")-INDIRECT("route!E33")} -> 0.1 | N34: {=IF(INDIRECT("route!D34")="START",0,IF(T34=TRUE,N33,INDIRECT("route!E34")))} -> 2 | O34: =SEARCH($O$6,INDIRECT("route!G"&U34)) -> #VALUE! | P34: =SEARCH($P$6,INDIRECT("route!G"&U34)) -> #VALUE! | Q34: =SEARCH($Q$6,INDIRECT("route!G"&U34)) -> #VALUE! | R34: =SEARCH($R$6,INDIRECT("route!G"&U34)) -> #VALUE! | S34: =SEARCH($S$6,INDIRECT("route!G"&U34)) -> #VALUE! | T34: =AND(ISERROR(O34),ISERROR(P34),ISERROR(Q34),ISERROR(R34),ISERROR(S34)) -> TRUE | U34: 34 | W34: ab
A35: {=IF(INDIRECT("route!D35")>0,L35,(""))} -> 0.50398148 | B35: {=IF(INDIRECT("route!D35")>0,H35,(""))} -> 0.50398148 | C35: =IF(D35>0,VLOOKUP("EINDE NEUTR*",INDIRECT("route!D$6"):INDIRECT("route!E$8500"),2,FALSE)-D35," ") -> 2.3 | D35: {=INDIRECT("route!E35")} -> 2.6 | E35: =IF($T35=TRUE,"",N35-N34) | F35: 7.2 | G35: =TIME(0,0,0+M35*1000/F35) -> 0.00015046296 | H35: =H34+G35 -> 0.50398148 | I35: 7.2 | J35: =TIME(0,0,0+M35*1000/I35) -> 0.00015046296 | L35: =L34+J35 -> 0.50398148 | M35: {=INDIRECT("route!E35")-INDIRECT("route!E34")} -> 0.1 | N35: {=IF(INDIRECT("route!D35")="START",0,IF(T35=TRUE,N34,INDIRECT("route!E35")))} -> 2 | O35: =SEARCH($O$6,INDIRECT("route!G"&U35)) -> #VALUE! | P35: =SEARCH($P$6,INDIRECT("route!G"&U35)) -> #VALUE! | Q35: =SEARCH($Q$6,INDIRECT("route!G"&U35)) -> #VALUE! | R35: =SEARCH($R$6,INDIRECT("route!G"&U35)) -> #VALUE! | S35: =SEARCH($S$6,INDIRECT("route!G"&U35)) -> #VALUE! | T35: =AND(ISERROR(O35),ISERROR(P35),ISERROR(Q35),ISERROR(R35),ISERROR(S35)) -> TRUE | U35: 35 | W35: ac
A36: {=IF(INDIRECT("route!D36")>0,L36,(""))} -> 0.50413194 | B36: {=IF(INDIRECT("route!D36")>0,H36,(""))} -> 0.50413194 | C36: =IF(D36>0,VLOOKUP("EINDE NEUTR*",INDIRECT("route!D$6"):INDIRECT("route!E$8500"),2,FALSE)-D36," ") -> 2.2 | D36: {=INDIRECT("route!E36")} -> 2.7 | E36: =IF($T36=TRUE,"",N36-N35) | F36: 7.2 | G36: =TIME(0,0,0+M36*1000/F36) -> 0.00015046296 | H36: =H35+G36 -> 0.50413194 | I36: 7.2 | J36: =TIME(0,0,0+M36*1000/I36) -> 0.00015046296 | L36: =L35+J36 -> 0.50413194 | M36: {=INDIRECT("route!E36")-INDIRECT("route!E35")} -> 0.1 | N36: {=IF(INDIRECT("route!D36")="START",0,IF(T36=TRUE,N35,INDIRECT("route!E36")))} -> 2 | O36: =SEARCH($O$6,INDIRECT("route!G"&U36)) -> #VALUE! | P36: =SEARCH($P$6,INDIRECT("route!G"&U36)) -> #VALUE! | Q36: =SEARCH($Q$6,INDIRECT("route!G"&U36)) -> #VALUE! | R36: =SEARCH($R$6,INDIRECT("route!G"&U36)) -> #VALUE! | S36: =SEARCH($S$6,INDIRECT("route!G"&U36)) -> #VALUE! | T36: =AND(ISERROR(O36),ISERROR(P36),ISERROR(Q36),ISERROR(R36),ISERROR(S36)) -> TRUE | U36: 36 | W36: ad
A37: {=IF(INDIRECT("route!D37")>0,L37,(""))} -> 0.50413194 | B37: {=IF(INDIRECT("route!D37")>0,H37,(""))} -> 0.50413194 | C37: =IF(D37>0,VLOOKUP("EINDE NEUTR*",INDIRECT("route!D$6"):INDIRECT("route!E$8500"),2,FALSE)-D37," ") -> 2.2 | D37: {=INDIRECT("route!E37")} -> 2.7 | E37: =IF($T37=TRUE,"",N37-N36) -> 0.7 | F37: 7.2 | G37: =TIME(0,0,0+M37*1000/F37) -> 0 | H37: =H36+G37 -> 0.50413194 | I37: 7.2 | J37: =TIME(0,0,0+M37*1000/I37) -> 0 | L37: =L36+J37 -> 0.50413194 | M37: {=INDIRECT("route!E37")-INDIRECT("route!E36")} -> 0 | N37: {=IF(INDIRECT("route!D37")="START",0,IF(T37=TRUE,N36,INDIRECT("route!E37")))} -> 2.7 | O37: =SEARCH($O$6,INDIRECT("route!G"&U37)) -> 9 | P37: =SEARCH($P$6,INDIRECT("route!G"&U37)) -> #VALUE! | Q37: =SEARCH($Q$6,INDIRECT("route!G"&U37)) -> #VALUE! | R37: =SEARCH($R$6,INDIRECT("route!G"&U37)) -> #VALUE! | S37: =SEARCH($S$6,INDIRECT("route!G"&U37)) -> 1 | T37: =AND(ISERROR(O37),ISERROR(P37),ISERROR(Q37),ISERROR(R37),ISERROR(S37)) -> FALSE | U37: 37 | W37: ae
A38: {=IF(INDIRECT("route!D38")>0,L38,(""))} -> 0.50413194 | B38: {=IF(INDIRECT("route!D38")>0,H38,(""))} -> 0.50413194 | C38: =IF(D38>0,VLOOKUP("EINDE NEUTR*",INDIRECT("route!D$6"):INDIRECT("route!E$8500"),2,FALSE)-D38," ") -> 2.2 | D38: {=INDIRECT("route!E38")} -> 2.7 | E38: =IF($T38=TRUE,"",N38-N37) | F38: 7.2 | G38: =TIME(0,0,0+M38*1000/F38) -> 0 | H38: =H37+G38 -> 0.50413194 | I38: 7.2 | J38: =TIME(0,0,0+M38*1000/I38) -> 0 | L38: =L37+J38 -> 0.50413194 | M38: {=INDIRECT("route!E38")-INDIRECT("route!E37")} -> 0 | N38: {=IF(INDIRECT("route!D38")="START",0,IF(T38=TRUE,N37,INDIRECT("route!E38")))} -> 2.7 | O38: =SEARCH($O$6,INDIRECT("route!G"&U38)) -> #VALUE! | P38: =SEARCH($P$6,INDIRECT("route!G"&U38)) -> #VALUE! | Q38: =SEARCH($Q$6,INDIRECT("route!G"&U38)) -> #VALUE! | R38: =SEARCH($R$6,INDIRECT("route!G"&U38)) -> #VALUE! | S38: =SEARCH($S$6,INDIRECT("route!G"&U38)) -> #VALUE! | T38: =AND(ISERROR(O38),ISERROR(P38),ISERROR(Q38),ISERROR(R38),ISERROR(S38)) -> TRUE | U38: 38 | W38: af
A39: {=IF(INDIRECT("route!D39")>0,L39,(""))} -> 0.50428241 | B39: {=IF(INDIRECT("route!D39")>0,H39,(""))} -> 0.50428241 | C39: =IF(D39>0,VLOOKUP("EINDE NEUTR*",INDIRECT("route!D$6"):INDIRECT("route!E$8500"),2,FALSE)-D39," ") -> 2.1 | D39: {=INDIRECT("route!E39")} -> 2.8 | E39: =IF($T39=TRUE,"",N39-N38) | F39: 7.2 | G39: =TIME(0,0,0+M39*1000/F39) -> 0.00015046296 | H39: =H38+G39 -> 0.50428241 | I39: 7.2 | J39: =TIME(0,0,0+M39*1000/I39) -> 0.00015046296 | L39: =L38+J39 -> 0.50428241 | M39: {=INDIRECT("route!E39")-INDIRECT("route!E38")} -> 0.1 | N39: {=IF(INDIRECT("route!D39")="START",0,IF(T39=TRUE,N38,INDIRECT("route!E39")))} -> 2.7 | O39: =SEARCH($O$6,INDIRECT("route!G"&U39)) -> #VALUE! | P39: =SEARCH($P$6,INDIRECT("route!G"&U39)) -> #VALUE! | Q39: =SEARCH($Q$6,INDIRECT("route!G"&U39)) -> #VALUE! | R39: =SEARCH($R$6,INDIRECT("route!G"&U39)) -> #VALUE! | S39: =SEARCH($S$6,INDIRECT("route!G"&U39)) -> #VALUE! | T39: =AND(ISERROR(O39),ISERROR(P39),ISERROR(Q39),ISERROR(R39),ISERROR(S39)) -> TRUE | U39: 39 | W39: ag
A40: {=IF(INDIRECT("route!D40")>0,L40,(""))} -> 0.50443287 | B40: {=IF(INDIRECT("route!D40")>0,H40,(""))} -> 0.50443287 | C40: =IF(D40>0,VLOOKUP("EINDE NEUTR*",INDIRECT("route!D$6"):INDIRECT("route!E$8500"),2,FALSE)-D40," ") -> 2 | D40: {=INDIRECT("route!E40")} -> 2.9 | E40: =IF($T40=TRUE,"",N40-N39) | F40: 7.2 | G40: =TIME(0,0,0+M40*1000/F40) -> 0.00015046296 | H40: =H39+G40 -> 0.50443287 | I40: 7.2 | J40: =TIME(0,0,0+M40*1000/I40) -> 0.00015046296 | L40: =L39+J40 -> 0.50443287 | M40: {=INDIRECT("route!E40")-INDIRECT("route!E39")} -> 0.1 | N40: {=IF(INDIRECT("route!D40")="START",0,IF(T40=TRUE,N39,INDIRECT("route!E40")))} -> 2.7 | O40: =SEARCH($O$6,INDIRECT("route!G"&U40)) -> #VALUE! | P40: =SEARCH($P$6,INDIRECT("route!G"&U40)) -> #VALUE! | Q40: =SEARCH($Q$6,INDIRECT("route!G"&U40)) -> #VALUE! | R40: =SEARCH($R$6,INDIRECT("route!G"&U40)) -> #VALUE! | S40: =SEARCH($S$6,INDIRECT("route!G"&U40)) -> #VALUE! | T40: =AND(ISERROR(O40),ISERROR(P40),ISERROR(Q40),ISERROR(R40),ISERROR(S40)) -> TRUE | U40: 40 | W40: ah
A41: {=IF(INDIRECT("route!D41")>0,L41,(""))} -> 0.50474537 | B41: {=IF(INDIRECT("route!D41")>0,H41,(""))} -> 0.50474537 | C41: =IF(D41>0,VLOOKUP("EINDE NEUTR*",INDIRECT("route!D$6"):INDIRECT("route!E$8500"),2,FALSE)-D41," ") -> 1.8 | D41: {=INDIRECT("route!E41")} -> 3.1 | E41: =IF($T41=TRUE,"",N41-N40) | F41: 7.2 | G41: =TIME(0,0,0+M41*1000/F41) -> 0.0003125 | H41: =H40+G41 -> 0.50474537 | I41: 7.2 | J41: =TIME(0,0,0+M41*1000/I41) -> 0.0003125 | L41: =L40+J41 -> 0.50474537 | M41: {=INDIRECT("route!E41")-INDIRECT("route!E40")} -> 0.2 | N41: {=IF(INDIRECT("route!D41")="START",0,IF(T41=TRUE,N40,INDIRECT("route!E41")))} -> 2.7 | O41: =SEARCH($O$6,INDIRECT("route!G"&U41)) -> #VALUE! | P41: =SEARCH($P$6,INDIRECT("route!G"&U41)) -> #VALUE! | Q41: =SEARCH($Q$6,INDIRECT("route!G"&U41)) -> #VALUE! | R41: =SEARCH($R$6,INDIRECT("route!G"&U41)) -> #VALUE! | S41: =SEARCH($S$6,INDIRECT("route!G"&U41)) -> #VALUE! | T41: =AND(ISERROR(O41),ISERROR(P41),ISERROR(Q41),ISERROR(R41),ISERROR(S41)) -> TRUE | U41: 41 | W41: ai
A42: {=IF(INDIRECT("route!D42")>0,L42,(""))} -> 0.50489583 | B42: {=IF(INDIRECT("route!D42")>0,H42,(""))} -> 0.50489583 | C42: =IF(D42>0,VLOOKUP("EINDE NEUTR*",INDIRECT("route!D$6"):INDIRECT("route!E$8500"),2,FALSE)-D42," ") -> 1.7 | D42: {=INDIRECT("route!E42")} -> 3.2 | E42: =IF($T42=TRUE,"",N42-N41) | F42: 7.2 | G42: =TIME(0,0,0+M42*1000/F42) -> 0.00015046296 | H42: =H41+G42 -> 0.50489583 | I42: 7.2 | J42: =TIME(0,0,0+M42*1000/I42) -> 0.00015046296 | L42: =L41+J42 -> 0.50489583 | M42: {=INDIRECT("route!E42")-INDIRECT("route!E41")} -> 0.1 | N42: {=IF(INDIRECT("route!D42")="START",0,IF(T42=TRUE,N41,INDIRECT("route!E42")))} -> 2.7 | O42: =SEARCH($O$6,INDIRECT("route!G"&U42)) -> #VALUE! | P42: =SEARCH($P$6,INDIRECT("route!G"&U42)) -> #VALUE! | Q42: =SEARCH($Q$6,INDIRECT("route!G"&U42)) -> #VALUE! | R42: =SEARCH($R$6,INDIRECT("route!G"&U42)) -> #VALUE! | S42: =SEARCH($S$6,INDIRECT("route!G"&U42)) -> #VALUE! | T42: =AND(ISERROR(O42),ISERROR(P42),ISERROR(Q42),ISERROR(R42),ISERROR(S42)) -> TRUE | U42: 42 | W42: aj
A43: {=IF(INDIRECT("route!D43")>0,L43,(""))} -> 0.50537037 | B43: {=IF(INDIRECT("route!D43")>0,H43,(""))} -> 0.50537037 | C43: =IF(D43>0,VLOOKUP("EINDE NEUTR*",INDIRECT("route!D$6"):INDIRECT("route!E$8500"),2,FALSE)-D43," ") -> 1.4 | D43: {=INDIRECT("route!E43")} -> 3.5 | E43: =IF($T43=TRUE,"",N43-N42) -> 0.8 | F43: 7.2 | G43: =TIME(0,0,0+M43*1000/F43) -> 0.00047453704 | H43: =H42+G43 -> 0.50537037 | I43: 7.2 | J43: =TIME(0,0,0+M43*1000/I43) -> 0.00047453704 | L43: =L42+J43 -> 0.50537037 | M43: {=INDIRECT("route!E43")-INDIRECT("route!E42")} -> 0.3 | N43: {=IF(INDIRECT("route!D43")="START",0,IF(T43=TRUE,N42,INDIRECT("route!E43")))} -> 3.5 | O43: =SEARCH($O$6,INDIRECT("route!G"&U43)) -> #VALUE! | P43: =SEARCH($P$6,INDIRECT("route!G"&U43)) -> 1 | Q43: =SEARCH($Q$6,INDIRECT("route!G"&U43)) -> #VALUE! | R43: =SEARCH($R$6,INDIRECT("route!G"&U43)) -> #VALUE! | S43: =SEARCH($S$6,INDIRECT("route!G"&U43)) -> #VALUE! | T43: =AND(ISERROR(O43),ISERROR(P43),ISERROR(Q43),ISERROR(R43),ISERROR(S43)) -> FALSE | U43: 43 | W43: ak
A44: {=IF(INDIRECT("route!D44")>0,L44,(""))} -> 0.50537037 | B44: {=IF(INDIRECT("route!D44")>0,H44,(""))} -> 0.50537037 | C44: =IF(D44>0,VLOOKUP("EINDE NEUTR*",INDIRECT("route!D$6"):INDIRECT("route!E$8500"),2,FALSE)-D44," ") -> 1.4 | D44: {=INDIRECT("route!E44")} -> 3.5 | E44: =IF($T44=TRUE,"",N44-N43) | F44: 7.2 | G44: =TIME(0,0,0+M44*1000/F44) -> 0 | H44: =H43+G44 -> 0.50537037 | I44: 7.2 | J44: =TIME(0,0,0+M44*1000/I44) -> 0 | L44: =L43+J44 -> 0.50537037 | M44: {=INDIRECT("route!E44")-INDIRECT("route!E43")} -> 0 | N44: {=IF(INDIRECT("route!D44")="START",0,IF(T44=TRUE,N43,INDIRECT("route!E44")))} -> 3.5 | O44: =SEARCH($O$6,INDIRECT("route!G"&U44)) -> #VALUE! | P44: =SEARCH($P$6,INDIRECT("route!G"&U44)) -> #VALUE! | Q44: =SEARCH($Q$6,INDIRECT("route!G"&U44)) -> #VALUE! | R44: =SEARCH($R$6,INDIRECT("route!G"&U44)) -> #VALUE! | S44: =SEARCH($S$6,INDIRECT("route!G"&U44)) -> #VALUE! | T44: =AND(ISERROR(O44),ISERROR(P44),ISERROR(Q44),ISERROR(R44),ISERROR(S44)) -> TRUE | U44: 44 | W44: al
A45: {=IF(INDIRECT("route!D45")>0,L45,(""))} -> 0.50552083 | B45: {=IF(INDIRECT("route!D45")>0,H45,(""))} -> 0.50552083 | C45: =IF(D45>0,VLOOKUP("EINDE NEUTR*",INDIRECT("route!D$6"):INDIRECT("route!E$8500"),2,FALSE)-D45," ") -> 1.3 | D45: {=INDIRECT("route!E45")} -> 3.6 | E45: =IF($T45=TRUE,"",N45-N44) -> 0.1 | F45: 7.2 | G45: =TIME(0,0,0+M45*1000/F45) -> 0.00015046296 | H45: =H44+G45 -> 0.50552083 | I45: 7.2 | J45: =TIME(0,0,0+M45*1000/I45) -> 0.00015046296 | L45: =L44+J45 -> 0.50552083 | M45: {=INDIRECT("route!E45")-INDIRECT("route!E44")} -> 0.1 | N45: {=IF(INDIRECT("route!D45")="START",0,IF(T45=TRUE,N44,INDIRECT("route!E45")))} -> 3.6 | O45: =SEARCH($O$6,INDIRECT("route!G"&U45)) -> #VALUE! | P45: =SEARCH($P$6,INDIRECT("route!G"&U45)) -> #VALUE! | Q45: =SEARCH($Q$6,INDIRECT("route!G"&U45)) -> #VALUE! | R45: =SEARCH($R$6,INDIRECT("route!G"&U45)) -> #VALUE! | S45: =SEARCH($S$6,INDIRECT("route!G"&U45)) -> 1 | T45: =AND(ISERROR(O45),ISERROR(P45),ISERROR(Q45),ISERROR(R45),ISERROR(S45)) -> FALSE | U45: 45 | W45: am
A46: {=IF(INDIRECT("route!D46")>0,L46,(""))} -> 0.5056713 | B46: {=IF(INDIRECT("route!D46")>0,H46,(""))} -> 0.5056713 | C46: =IF(D46>0,VLOOKUP("EINDE NEUTR*",INDIRECT("route!D$6"):INDIRECT("route!E$8500"),2,FALSE)-D46," ") -> 1.2 | D46: {=INDIRECT("route!E46")} -> 3.7 | E46: =IF($T46=TRUE,"",N46-N45) | F46: 7.2 | G46: =TIME(0,0,0+M46*1000/F46) -> 0.00015046296 | H46: =H45+G46 -> 0.5056713 | I46: 7.2 | J46: =TIME(0,0,0+M46*1000/I46) -> 0.00015046296 | L46: =L45+J46 -> 0.5056713 | M46: {=INDIRECT("route!E46")-INDIRECT("route!E45")} -> 0.1 | N46: {=IF(INDIRECT("route!D46")="START",0,IF(T46=TRUE,N45,INDIRECT("route!E46")))} -> 3.6 | O46: =SEARCH($O$6,INDIRECT("route!G"&U46)) -> #VALUE! | P46: =SEARCH($P$6,INDIRECT("route!G"&U46)) -> #VALUE! | Q46: =SEARCH($Q$6,INDIRECT("route!G"&U46)) -> #VALUE! | R46: =SEARCH($R$6,INDIRECT("route!G"&U46)) -> #VALUE! | S46: =SEARCH($S$6,INDIRECT("route!G"&U46)) -> #VALUE! | T46: =AND(ISERROR(O46),ISERROR(P46),ISERROR(Q46),ISERROR(R46),ISERROR(S46)) -> TRUE | U46: 46 | W46: an
A47: {=IF(INDIRECT("route!D47")>0,L47,(""))} -> 0.5056713 | B47: {=IF(INDIRECT("route!D47")>0,H47,(""))} -> 0.5056713 | C47: =IF(D47>0,VLOOKUP("EINDE NEUTR*",INDIRECT("route!D$6"):INDIRECT("route!E$8500"),2,FALSE)-D47," ") -> 1.2 | D47: {=INDIRECT("route!E47")} -> 3.7 | E47: =IF($T47=TRUE,"",N47-N46) | F47: 7.2 | G47: =TIME(0,0,0+M47*1000/F47) -> 0 | H47: =H46+G47 -> 0.5056713 | I47: 7.2 | J47: =TIME(0,0,0+M47*1000/I47) -> 0 | L47: =L46+J47 -> 0.5056713 | M47: {=INDIRECT("route!E47")-INDIRECT("route!E46")} -> 0 | N47: {=IF(INDIRECT("route!D47")="START",0,IF(T47=TRUE,N46,INDIRECT("route!E47")))} -> 3.6 | O47: =SEARCH($O$6,INDIRECT("route!G"&U47)) -> #VALUE! | P47: =SEARCH($P$6,INDIRECT("route!G"&U47)) -> #VALUE! | Q47: =SEARCH($Q$6,INDIRECT("route!G"&U47)) -> #VALUE! | R47: =SEARCH($R$6,INDIRECT("route!G"&U47)) -> #VALUE! | S47: =SEARCH($S$6,INDIRECT("route!G"&U47)) -> #VALUE! | T47: =AND(ISERROR(O47),ISERROR(P47),ISERROR(Q47),ISERROR(R47),ISERROR(S47)) -> TRUE | U47: 47 | W47: ao
A48: {=IF(INDIRECT("route!D48")>0,L48,(""))} -> 0.50582176 | B48: {=IF(INDIRECT("route!D48")>0,H48,(""))} -> 0.50582176 | C48: =IF(D48>0,VLOOKUP("EINDE NEUTR*",INDIRECT("route!D$6"):INDIRECT("route!E$8500"),2,FALSE)-D48," ") -> 1.1 | D48: {=INDIRECT("route!E48")} -> 3.8 | E48: =IF($T48=TRUE,"",N48-N47) -> 0.2 | F48: 7.2 | G48: =TIME(0,0,0+M48*1000/F48) -> 0.00015046296 | H48: =H47+G48 -> 0.50582176 | I48: 7.2 | J48: =TIME(0,0,0+M48*1000/I48) -> 0.00015046296 | L48: =L47+J48 -> 0.50582176 | M48: {=INDIRECT("route!E48")-INDIRECT("route!E47")} -> 0.1 | N48: {=IF(INDIRECT("route!D48")="START",0,IF(T48=TRUE,N47,INDIRECT("route!E48")))} -> 3.8 | O48: =SEARCH($O$6,INDIRECT("route!G"&U48)) -> 5 | P48: =SEARCH($P$6,INDIRECT("route!G"&U48)) -> #VALUE! | Q48: =SEARCH($Q$6,INDIRECT("route!G"&U48)) -> #VALUE! | R48: =SEARCH($R$6,INDIRECT("route!G"&U48)) -> #VALUE! | S48: =SEARCH($S$6,INDIRECT("route!G"&U48)) -> #VALUE! | T48: =AND(ISERROR(O48),ISERROR(P48),ISERROR(Q48),ISERROR(R48),ISERROR(S48)) -> FALSE | U48: 48 | W48: ap
A49: {=IF(INDIRECT("route!D49")>0,L49,(""))} -> 0.50645833 | B49: {=IF(INDIRECT("route!D49")>0,H49,(""))} -> 0.50645833 | C49: =IF(D49>0,VLOOKUP("EINDE NEUTR*",INDIRECT("route!D$6"):INDIRECT("route!E$8500"),2,FALSE)-D49," ") -> 0.7 | D49: {=INDIRECT("route!E49")} -> 4.2 | E49: =IF($T49=TRUE,"",N49-N48) | F49: 7.2 | G49: =TIME(0,0,0+M49*1000/F49) -> 0.00063657407 | H49: =H48+G49 -> 0.50645833 | I49: 7.2 | J49: =TIME(0,0,0+M49*1000/I49) -> 0.00063657407 | L49: =L48+J49 -> 0.50645833 | M49: {=INDIRECT("route!E49")-INDIRECT("route!E48")} -> 0.4 | N49: {=IF(INDIRECT("route!D49")="START",0,IF(T49=TRUE,N48,INDIRECT("route!E49")))} -> 3.8 | O49: =SEARCH($O$6,INDIRECT("route!G"&U49)) -> #VALUE! | P49: =SEARCH($P$6,INDIRECT("route!G"&U49)) -> #VALUE! | Q49: =SEARCH($Q$6,INDIRECT("route!G"&U49)) -> #VALUE! | R49: =SEARCH($R$6,INDIRECT("route!G"&U49)) -> #VALUE! | S49: =SEARCH($S$6,INDIRECT("route!G"&U49)) -> #VALUE! | T49: =AND(ISERROR(O49),ISERROR(P49),ISERROR(Q49),ISERROR(R49),ISERROR(S49)) -> TRUE | U49: 49 | W49: aq
A50: {=IF(INDIRECT("route!D50")>0,L50,(""))} -> 0.50725694 | B50: {=IF(INDIRECT("route!D50")>0,H50,(""))} -> 0.50725694 | C50: =IF(D50>0,VLOOKUP("EINDE NEUTR*",INDIRECT("route!D$6"):INDIRECT("route!E$8500"),2,FALSE)-D50," ") -> 0.2 | D50: {=INDIRECT("route!E50")} -> 4.7 | E50: =IF($T50=TRUE,"",N50-N49) -> 0.9 | F50: 7.2 | G50: =TIME(0,0,0+M50*1000/F50) -> 0.00079861111 | H50: =H49+G50 -> 0.50725694 | I50: 7.2 | J50: =TIME(0,0,0+M50*1000/I50) -> 0.00079861111 | L50: =L49+J50 -> 0.50725694 | M50: {=INDIRECT("route!E50")-INDIRECT("route!E49")} -> 0.5 | N50: {=IF(INDIRECT("route!D50")="START",0,IF(T50=TRUE,N49,INDIRECT("route!E50")))} -> 4.7 | O50: =SEARCH($O$6,INDIRECT("route!G"&U50)) -> #VALUE! | P50: =SEARCH($P$6,INDIRECT("route!G"&U50)) -> 5 | Q50: =SEARCH($Q$6,INDIRECT("route!G"&U50)) -> #VALUE! | R50: =SEARCH($R$6,INDIRECT("route!G"&U50)) -> #VALUE! | S50: =SEARCH($S$6,INDIRECT("route!G"&U50)) -> #VALUE! | T50: =AND(ISERROR(O50),ISERROR(P50),ISERROR(Q50),ISERROR(R50),ISERROR(S50)) -> FALSE | U50: 50 | W50: ar
A51: {=IF(INDIRECT("route!D51")>0,L51,(""))} -> 0.50756944 | B51: {=IF(INDIRECT("route!D51")>0,H51,(""))} -> 0.50756944 | C51: =IF(D51>0,VLOOKUP("EINDE NEUTR*",INDIRECT("route!D$6"):INDIRECT("route!E$8500"),2,FALSE)-D51," ") -> 0 | D51: {=INDIRECT("route!E51")} -> 4.9 | E51: =IF($T51=TRUE,"",N51-N50) | F51: 7.2 | G51: =TIME(0,0,0+M51*1000/F51) -> 0.0003125 | H51: =H50+G51 -> 0.50756944 | I51: 7.2 | J51: =TIME(0,0,0+M51*1000/I51) -> 0.0003125 | L51: =L50+J51 -> 0.50756944 | M51: {=INDIRECT("route!E51")-INDIRECT("route!E50")} -> 0.2 | N51: {=IF(INDIRECT("route!D51")="START",0,IF(T51=TRUE,N50,INDIRECT("route!E51")))} -> 4.7 | O51: =SEARCH($O$6,INDIRECT("route!G"&U51)) -> #VALUE! | P51: =SEARCH($P$6,INDIRECT("route!G"&U51)) -> #VALUE! | Q51: =SEARCH($Q$6,INDIRECT("route!G"&U51)) -> #VALUE! | R51: =SEARCH($R$6,INDIRECT("route!G"&U51)) -> #VALUE! | S51: =SEARCH($S$6,INDIRECT("route!G"&U51)) -> #VALUE! | T51: =AND(ISERROR(O51),ISERROR(P51),ISERROR(Q51),ISERROR(R51),ISERROR(S51)) -> TRUE | U51: 51 | W51: as
A52: {=IF(INDIRECT("route!D52")>0,L52,(""))} | B52: {=IF(INDIRECT("route!D52")>0,H52,(""))} | C52: =IF(D52>0,VLOOKUP("EINDE NEUTR*",INDIRECT("route!D$6"):INDIRECT("route!E$8500"),2,FALSE)-D52," ") | D52: {=INDIRECT("route!E52")} -> 0 | E52: =IF($T52=TRUE,"",N52-N51) | F52: 7.2 | G52: =TIME(0,0,0+M52*1000/F52) -> #NUM! | H52: =H51+G52 -> #NUM! | I52: 7.2 | J52: =TIME(0,0,0+M52*1000/I52) -> #NUM! | L52: =L51+J52 -> #NUM! | M52: {=INDIRECT("route!E52")-INDIRECT("route!E51")} -> -4.9 | N52: {=IF(INDIRECT("route!D52")="START",0,IF(T52=TRUE,N51,INDIRECT("route!E52")))} -> 4.7 | O52: =SEARCH($O$6,INDIRECT("route!G"&U52)) -> #VALUE! | P52: =SEARCH($P$6,INDIRECT("route!G"&U52)) -> #VALUE! | Q52: =SEARCH($Q$6,INDIRECT("route!G"&U52)) -> #VALUE! | R52: =SEARCH($R$6,INDIRECT("route!G"&U52)) -> #VALUE! | S52: =SEARCH($S$6,INDIRECT("route!G"&U52)) -> #VALUE! | T52: =AND(ISERROR(O52),ISERROR(P52),ISERROR(Q52),ISERROR(R52),ISERROR(S52)) -> TRUE | U52: 52 | W52: at
A53: {=IF(INDIRECT("route!D53")>0,L53,(""))} | B53: {=IF(INDIRECT("route!D53")>0,H53,(""))} | C53: =IF(D53>0,VLOOKUP("EINDE NEUTR*",INDIRECT("route!D$6"):INDIRECT("route!E$8500"),2,FALSE)-D53," ") | D53: {=INDIRECT("route!E53")} -> 0 | E53: =IF($T53=TRUE,"",N53-N52) | F53: 7.2 | G53: =TIME(0,0,0+M53*1000/F53) -> 0 | H53: =H52+G53 -> #NUM! | I53: 7.2 | J53: =TIME(0,0,0+M53*1000/I53) -> 0 | L53: =L52+J53 -> #NUM! | M53: {=INDIRECT("route!E53")-INDIRECT("route!E52")} -> 0 | N53: {=IF(INDIRECT("route!D53")="START",0,IF(T53=TRUE,N52,INDIRECT("route!E53")))} -> 4.7 | O53: =SEARCH($O$6,INDIRECT("route!G"&U53)) -> #VALUE! | P53: =SEARCH($P$6,INDIRECT("route!G"&U53)) -> #VALUE! | Q53: =SEARCH($Q$6,INDIRECT("route!G"&U53)) -> #VALUE! | R53: =SEARCH($R$6,INDIRECT("route!G"&U53)) -> #VALUE! | S53: =SEARCH($S$6,INDIRECT("route!G"&U53)) -> #VALUE! | T53: =AND(ISERROR(O53),ISERROR(P53),ISERROR(Q53),ISERROR(R53),ISERROR(S53)) -> TRUE | U53: 53 | W53: au
A54: {=IF(INDIRECT("route!D54")>0,L54,(""))} | B54: {=IF(INDIRECT("route!D54")>0,H54,(""))} | C54: =IF(D54>0,VLOOKUP("EINDE NEUTR*",INDIRECT("route!D$6"):INDIRECT("route!E$8500"),2,FALSE)-D54," ") | D54: {=INDIRECT("route!E54")} -> 0 | E54: =IF($T54=TRUE,"",N54-N53) | F54: 7.2 | G54: =TIME(0,0,0+M54*1000/F54) -> 0 | H54: =H53+G54 -> #NUM! | I54: 7.2 | J54: =TIME(0,0,0+M54*1000/I54) -> 0 | L54: =L53+J54 -> #NUM! | M54: {=INDIRECT("route!E54")-INDIRECT("route!E53")} -> 0 | N54: {=IF(INDIRECT("route!D54")="START",0,IF(T54=TRUE,N53,INDIRECT("route!E54")))} -> 4.7 | O54: =SEARCH($O$6,INDIRECT("route!G"&U54)) -> #VALUE! | P54: =SEARCH($P$6,INDIRECT("route!G"&U54)) -> #VALUE! | Q54: =SEARCH($Q$6,INDIRECT("route!G"&U54)) -> #VALUE! | R54: =SEARCH($R$6,INDIRECT("route!G"&U54)) -> #VALUE! | S54: =SEARCH($S$6,INDIRECT("route!G"&U54)) -> #VALUE! | T54: =AND(ISERROR(O54),ISERROR(P54),ISERROR(Q54),ISERROR(R54),ISERROR(S54)) -> TRUE | U54: 54 | W54: av
A55: {=IF(INDIRECT("route!D55")>0,L55,(""))} | B55: {=IF(INDIRECT("route!D55")>0,H55,(""))} | C55: =IF(D55>0,VLOOKUP("EINDE NEUTR*",INDIRECT("route!D$6"):INDIRECT("route!E$8500"),2,FALSE)-D55," ") | D55: {=INDIRECT("route!E55")} -> 0 | E55: =IF($T55=TRUE,"",N55-N54) | F55: 7.2 | G55: =TIME(0,0,0+M55*1000/F55) -> 0 | H55: =H54+G55 -> #NUM! | I55: 7.2 | J55: =TIME(0,0,0+M55*1000/I55) -> 0 | L55: =L54+J55 -> #NUM! | M55: {=INDIRECT("route!E55")-INDIRECT("route!E54")} -> 0 | N55: {=IF(INDIRECT("route!D55")="START",0,IF(T55=TRUE,N54,INDIRECT("route!E55")))} -> 4.7 | O55: =SEARCH($O$6,INDIRECT("route!G"&U55)) -> #VALUE! | P55: =SEARCH($P$6,INDIRECT("route!G"&U55)) -> #VALUE! | Q55: =SEARCH($Q$6,INDIRECT("route!G"&U55)) -> #VALUE! | R55: =SEARCH($R$6,INDIRECT("route!G"&U55)) -> #VALUE! | S55: =SEARCH($S$6,INDIRECT("route!G"&U55)) -> #VALUE! | T55: =AND(ISERROR(O55),ISERROR(P55),ISERROR(Q55),ISERROR(R55),ISERROR(S55)) -> TRUE | U55: 55 | W55: aw
A56: {=IF(INDIRECT("route!D56")>0,L56,(""))} | B56: {=IF(INDIRECT("route!D56")>0,H56,(""))} | C56: =IF(D56>0,VLOOKUP("EINDE NEUTR*",INDIRECT("route!D$6"):INDIRECT("route!E$8500"),2,FALSE)-D56," ") | D56: {=INDIRECT("route!E56")} -> 0 | E56: =IF($T56=TRUE,"",N56-N55) | F56: 7.2 | G56: =TIME(0,0,0+M56*1000/F56) -> 0 | H56: =H55+G56 -> #NUM! | I56: 7.2 | J56: =TIME(0,0,0+M56*1000/I56) -> 0 | L56: =L55+J56 -> #NUM! | M56: {=INDIRECT("route!E56")-INDIRECT("route!E55")} -> 0 | N56: {=IF(INDIRECT("route!D56")="START",0,IF(T56=TRUE,N55,INDIRECT("route!E56")))} -> 4.7 | O56: =SEARCH($O$6,INDIRECT("route!G"&U56)) -> #VALUE! | P56: =SEARCH($P$6,INDIRECT("route!G"&U56)) -> #VALUE! | Q56: =SEARCH($Q$6,INDIRECT("route!G"&U56)) -> #VALUE! | R56: =SEARCH($R$6,INDIRECT("route!G"&U56)) -> #VALUE! | S56: =SEARCH($S$6,INDIRECT("route!G"&U56)) -> #VALUE! | T56: =AND(ISERROR(O56),ISERROR(P56),ISERROR(Q56),ISERROR(R56),ISERROR(S56)) -> TRUE | U56: 56 | W56: ax
A57: {=IF(INDIRECT("route!D57")>0,L57,(""))} | B57: {=IF(INDIRECT("route!D57")>0,H57,(""))} | C57: =IF(D57>0,VLOOKUP("EINDE NEUTR*",INDIRECT("route!D$6"):INDIRECT("route!E$8500"),2,FALSE)-D57," ") | D57: {=INDIRECT("route!E57")} -> 0 | E57: =IF($T57=TRUE,"",N57-N56) | F57: 7.2 | G57: =TIME(0,0,0+M57*1000/F57) -> 0 | H57: =H56+G57 -> #NUM! | I57: 7.2 | J57: =TIME(0,0,0+M57*1000/I57) -> 0 | L57: =L56+J57 -> #NUM! | M57: {=INDIRECT("route!E58")-INDIRECT("route!E57")} -> 0 | N57: {=IF(INDIRECT("route!D57")="START",0,IF(T57=TRUE,N56,INDIRECT("route!E57")))} -> 4.7 | O57: =SEARCH($O$6,INDIRECT("route!G"&U57)) -> #VALUE! | P57: =SEARCH($P$6,INDIRECT("route!G"&U57)) -> #VALUE! | Q57: =SEARCH($Q$6,INDIRECT("route!G"&U57)) -> #VALUE! | R57: =SEARCH($R$6,INDIRECT("route!G"&U57)) -> #VALUE! | S57: =SEARCH($S$6,INDIRECT("route!G"&U57)) -> #VALUE! | T57: =AND(ISERROR(O57),ISERROR(P57),ISERROR(Q57),ISERROR(R57),ISERROR(S57)) -> TRUE | U57: 57 | W57: aij
A58: {=IF(INDIRECT("route!D58")>0,L58,(""))} | B58: {=IF(INDIRECT("route!D58")>0,H58,(""))} | C58: =IF(D58>0,VLOOKUP("EINDE NEUTR*",INDIRECT("route!D$6"):INDIRECT("route!E$8500"),2,FALSE)-D58," ") | D58: {=INDIRECT("route!E58")} -> 0 | E58: =IF($T58=TRUE,"",N58-N57) | F58: 7.2 | G58: =TIME(0,0,0+M58*1000/F58) -> 0 | H58: =H57+G58 -> #NUM! | I58: 7.2 | J58: =TIME(0,0,0+M58*1000/I58) -> 0 | L58: =L57+J58 -> #NUM! | M58: {=INDIRECT("route!E57")-INDIRECT("route!E56")} -> 0 | N58: {=IF(INDIRECT("route!D58")="START",0,IF(T58=TRUE,N57,INDIRECT("route!E58")))} -> 4.7 | O58: =SEARCH($O$6,INDIRECT("route!G"&U58)) -> #VALUE! | P58: =SEARCH($P$6,INDIRECT("route!G"&U58)) -> #VALUE! | Q58: =SEARCH($Q$6,INDIRECT("route!G"&U58)) -> #VALUE! | R58: =SEARCH($R$6,INDIRECT("route!G"&U58)) -> #VALUE! | S58: =SEARCH($S$6,INDIRECT("route!G"&U58)) -> #VALUE! | T58: =AND(ISERROR(O58),ISERROR(P58),ISERROR(Q58),ISERROR(R58),ISERROR(S58)) -> TRUE | U58: 58 | W58: az
A59: {=IF(INDIRECT("route!D59")<>"",L59,(""))} | B59: {=IF(INDIRECT("route!D59")>0,H59,(""))} | C59: =IF(D59>0,VLOOKUP("EINDE NEUTR*",INDIRECT("route!D$6"):INDIRECT("route!E$8500"),2,FALSE)-D59," ") | D59: {=INDIRECT("route!E59")} -> 0 | E59: =IF($T59=TRUE,"",N59-N58) | F59: 7.2 | G59: =TIME(0,0,0+M59*1000/F59) -> 0 | H59: =H58+G59 -> #NUM! | I59: 7.2 | J59: =TIME(0,0,0+M59*1000/I59) -> 0 | L59: =L58+J59 -> #NUM! | M59: {=INDIRECT("route!E59")-INDIRECT("route!E58")} -> 0 | N59: {=IF(INDIRECT("route!D59")="START",0,IF(T59=TRUE,N58,INDIRECT("route!E59")))} -> 4.7 | O59: =SEARCH($O$6,INDIRECT("route!G"&U59)) -> #VALUE! | P59: =SEARCH($P$6,INDIRECT("route!G"&U59)) -> #VALUE! | Q59: =SEARCH($Q$6,INDIRECT("route!G"&U59)) -> #VALUE! | R59: =SEARCH($R$6,INDIRECT("route!G"&U59)) -> #VALUE! | S59: =SEARCH($S$6,INDIRECT("route!G"&U59)) -> #VALUE! | T59: =AND(ISERROR(O59),ISERROR(P59),ISERROR(Q59),ISERROR(R59),ISERROR(S59)) -> TRUE | U59: 59
A60: {=IF(INDIRECT("route!D60")>0,L60,(""))} | B60: {=IF(INDIRECT("route!D60")>0,H60,(""))} | C60: =IF(D60>0,VLOOKUP("EINDE NEUTR*",INDIRECT("route!D$6"):INDIRECT("route!E$8500"),2,FALSE)-D60," ") | D60: {=INDIRECT("route!E60")} -> 0 | E60: =IF($T60=TRUE,"",N60-N59) | F60: 7.2 | G60: =TIME(0,0,0+M60*1000/F60) -> 0 | H60: =H59+G60 -> #NUM! | I60: 7.2 | J60: =TIME(0,0,0+M60*1000/I60) -> 0 | L60: =L59+J60 -> #NUM! | M60: {=INDIRECT("route!E60")-INDIRECT("route!E59")} -> 0 | N60: {=IF(INDIRECT("route!D60")="START",0,IF(T60=TRUE,N59,INDIRECT("route!E60")))} -> 4.7 | O60: =SEARCH($O$6,INDIRECT("route!G"&U60)) -> #VALUE! | P60: =SEARCH($P$6,INDIRECT("route!G"&U60)) -> #VALUE! | Q60: =SEARCH($Q$6,INDIRECT("route!G"&U60)) -> #VALUE! | R60: =SEARCH($R$6,INDIRECT("route!G"&U60)) -> #VALUE! | S60: =SEARCH($S$6,INDIRECT("route!G"&U60)) -> #VALUE! | T60: =AND(ISERROR(O60),ISERROR(P60),ISERROR(Q60),ISERROR(R60),ISERROR(S60)) -> TRUE | U60: 60
A61: {=IF(INDIRECT("route!D61")>0,L61,(""))} | B61: {=IF(INDIRECT("route!D61")>0,H61,(""))} | C61: =IF(D61>0,VLOOKUP("EINDE NEUTR*",INDIRECT("route!D$6"):INDIRECT("route!E$8500"),2,FALSE)-D61," ") | D61: {=INDIRECT("route!E61")} -> 0 | E61: =IF($T61=TRUE,"",N61-N60) | F61: 7.2 | G61: =TIME(0,0,0+M61*1000/F61) -> 0 | H61: =H60+G61 -> #NUM! | I61: 7.2 | J61: =TIME(0,0,0+M61*1000/I61) -> 0 | L61: =L60+J61 -> #NUM! | M61: {=INDIRECT("route!E61")-INDIRECT("route!E60")} -> 0 | N61: {=IF(INDIRECT("route!D61")="START",0,IF(T61=TRUE,N60,INDIRECT("route!E61")))} -> 4.7 | O61: =SEARCH($O$6,INDIRECT("route!G"&U61)) -> #VALUE! | P61: =SEARCH($P$6,INDIRECT("route!G"&U61)) -> #VALUE! | Q61: =SEARCH($Q$6,INDIRECT("route!G"&U61)) -> #VALUE! | R61: =SEARCH($R$6,INDIRECT("route!G"&U61)) -> #VALUE! | S61: =SEARCH($S$6,INDIRECT("route!G"&U61)) -> #VALUE! | T61: =AND(ISERROR(O61),ISERROR(P61),ISERROR(Q61),ISERROR(R61),ISERROR(S61)) -> TRUE | U61: 61
A62: {=IF(INDIRECT("route!D62")>0,L62,(""))} | B62: {=IF(INDIRECT("route!D62")>0,H62,(""))} | C62: =IF(D62>0,VLOOKUP("EINDE NEUTR*",INDIRECT("route!D$6"):INDIRECT("route!E$8500"),2,FALSE)-D62," ") | D62: {=INDIRECT("route!E62")} -> 0 | E62: =IF($T62=TRUE,"",N62-N61) | F62: 7.2 | G62: =TIME(0,0,0+M62*1000/F62) -> 0 | H62: =H61+G62 -> #NUM! | I62: 7.2 | J62: =TIME(0,0,0+M62*1000/I62) -> 0 | L62: =L61+J62 -> #NUM! | M62: {=INDIRECT("route!E62")-INDIRECT("route!E61")} -> 0 | N62: {=IF(INDIRECT("route!D62")="START",0,IF(T62=TRUE,N61,INDIRECT("route!E62")))} -> 4.7 | O62: =SEARCH($O$6,INDIRECT("route!G"&U62)) -> #VALUE! | P62: =SEARCH($P$6,INDIRECT("route!G"&U62)) -> #VALUE! | Q62: =SEARCH($Q$6,INDIRECT("route!G"&U62)) -> #VALUE! | R62: =SEARCH($R$6,INDIRECT("route!G"&U62)) -> #VALUE! | S62: =SEARCH($S$6,INDIRECT("route!G"&U62)) -> #VALUE! | T62: =AND(ISERROR(O62),ISERROR(P62),ISERROR(Q62),ISERROR(R62),ISERROR(S62)) -> TRUE | U62: 62
A63: {=IF(INDIRECT("route!D63")>0,L63,(""))} | B63: {=IF(INDIRECT("route!D63")>0,H63,(""))} | C63: =IF(D63>0,VLOOKUP("EINDE NEUTR*",INDIRECT("route!D$6"):INDIRECT("route!E$8500"),2,FALSE)-D63," ") | D63: {=INDIRECT("route!E63")} -> 0 | E63: =IF($T63=TRUE,"",N63-N62) | F63: 7.2 | G63: =TIME(0,0,0+M63*1000/F63) -> 0 | H63: =H62+G63 -> #NUM! | I63: 7.2 | J63: =TIME(0,0,0+M63*1000/I63) -> 0 | L63: =L62+J63 -> #NUM! | M63: {=INDIRECT("route!E63")-INDIRECT("route!E62")} -> 0 | N63: {=IF(INDIRECT("route!D63")="START",0,IF(T63=TRUE,N62,INDIRECT("route!E63")))} -> 4.7 | O63: =SEARCH($O$6,INDIRECT("route!G"&U63)) -> #VALUE! | P63: =SEARCH($P$6,INDIRECT("route!G"&U63)) -> #VALUE! | Q63: =SEARCH($Q$6,INDIRECT("route!G"&U63)) -> #VALUE! | R63: =SEARCH($R$6,INDIRECT("route!G"&U63)) -> #VALUE! | S63: =SEARCH($S$6,INDIRECT("route!G"&U63)) -> #VALUE! | T63: =AND(ISERROR(O63),ISERROR(P63),ISERROR(Q63),ISERROR(R63),ISERROR(S63)) -> TRUE | U63: 63
A64: {=IF(INDIRECT("route!D64")>0,L64,(""))} | B64: {=IF(INDIRECT("route!D64")>0,H64,(""))} | C64: =IF(D64>0,VLOOKUP("EINDE NEUTR*",INDIRECT("route!D$6"):INDIRECT("route!E$8500"),2,FALSE)-D64," ") | D64: {=INDIRECT("route!E64")} -> 0 | E64: =IF($T64=TRUE,"",N64-N63) | F64: 7.2 | G64: =TIME(0,0,0+M64*1000/F64) -> 0 | H64: =H63+G64 -> #NUM! | I64: 7.2 | J64: =TIME(0,0,0+M64*1000/I64) -> 0 | L64: =L63+J64 -> #NUM! | M64: {=INDIRECT("route!E64")-INDIRECT("route!E63")} -> 0 | N64: {=IF(INDIRECT("route!D64")="START",0,IF(T64=TRUE,N63,INDIRECT("route!E64")))} -> 4.7 | O64: =SEARCH($O$6,INDIRECT("route!G"&U64)) -> #VALUE! | P64: =SEARCH($P$6,INDIRECT("route!G"&U64)) -> #VALUE! | Q64: =SEARCH($Q$6,INDIRECT("route!G"&U64)) -> #VALUE! | R64: =SEARCH($R$6,INDIRECT("route!G"&U64)) -> #VALUE! | S64: =SEARCH($S$6,INDIRECT("route!G"&U64)) -> #VALUE! | T64: =AND(ISERROR(O64),ISERROR(P64),ISERROR(Q64),ISERROR(R64),ISERROR(S64)) -> TRUE | U64: 64
A65: {=IF(INDIRECT("route!D65")>0,L65,(""))} | B65: {=IF(INDIRECT("route!D65")>0,H65,(""))} | C65: =IF(D65>0,VLOOKUP("EINDE NEUTR*",INDIRECT("route!D$6"):INDIRECT("route!E$8500"),2,FALSE)-D65," ") | D65: {=INDIRECT("route!E65")} -> 0 | E65: =IF($T65=TRUE,"",N65-N64) | F65: 7.2 | G65: =TIME(0,0,0+M65*1000/F65) -> 0 | H65: =H64+G65 -> #NUM! | I65: 7.2 | J65: =TIME(0,0,0+M65*1000/I65) -> 0 | L65: =L64+J65 -> #NUM! | M65: {=INDIRECT("route!E65")-INDIRECT("route!E64")} -> 0 | N65: {=IF(INDIRECT("route!D65")="START",0,IF(T65=TRUE,N64,INDIRECT("route!E65")))} -> 4.7 | O65: =SEARCH($O$6,INDIRECT("route!G"&U65)) -> #VALUE! | P65: =SEARCH($P$6,INDIRECT("route!G"&U65)) -> #VALUE! | Q65: =SEARCH($Q$6,INDIRECT("route!G"&U65)) -> #VALUE! | R65: =SEARCH($R$6,INDIRECT("route!G"&U65)) -> #VALUE! | S65: =SEARCH($S$6,INDIRECT("route!G"&U65)) -> #VALUE! | T65: =AND(ISERROR(O65),ISERROR(P65),ISERROR(Q65),ISERROR(R65),ISERROR(S65)) -> TRUE | U65: 65
A66: {=IF(INDIRECT("route!D66")>0,L66,(""))} | B66: {=IF(INDIRECT("route!D66")>0,H66,(""))} | C66: =IF(D66>0,VLOOKUP("EINDE NEUTR*",INDIRECT("route!D$6"):INDIRECT("route!E$8500"),2,FALSE)-D66," ") | D66: {=INDIRECT("route!E66")} -> 0 | E66: =IF($T66=TRUE,"",N66-N65) | F66: 7.2 | G66: =TIME(0,0,0+M66*1000/F66) -> 0 | H66: =H65+G66 -> #NUM! | I66: 7.2 | J66: =TIME(0,0,0+M66*1000/I66) -> 0 | L66: =L65+J66 -> #NUM! | M66: {=INDIRECT("route!E66")-INDIRECT("route!E65")} -> 0 | N66: {=IF(INDIRECT("route!D66")="START",0,IF(T66=TRUE,N65,INDIRECT("route!E66")))} -> 4.7 | O66: =SEARCH($O$6,INDIRECT("route!G"&U66)) -> #VALUE! | P66: =SEARCH($P$6,INDIRECT("route!G"&U66)) -> #VALUE! | Q66: =SEARCH($Q$6,INDIRECT("route!G"&U66)) -> #VALUE! | R66: =SEARCH($R$6,INDIRECT("route!G"&U66)) -> #VALUE! | S66: =SEARCH($S$6,INDIRECT("route!G"&U66)) -> #VALUE! | T66: =AND(ISERROR(O66),ISERROR(P66),ISERROR(Q66),ISERROR(R66),ISERROR(S66)) -> TRUE | U66: 66
A67: {=IF(INDIRECT("route!D67")>0,L67,(""))} | B67: {=IF(INDIRECT("route!D67")>0,H67,(""))} | C67: =IF(D67>0,VLOOKUP("EINDE NEUTR*",INDIRECT("route!D$6"):INDIRECT("route!E$8500"),2,FALSE)-D67," ") | D67: {=INDIRECT("route!E67")} -> 0 | E67: =IF($T67=TRUE,"",N67-N66) | F67: 7.2 | G67: =TIME(0,0,0+M67*1000/F67) -> 0 | H67: =H66+G67 -> #NUM! | I67: 7.2 | J67: =TIME(0,0,0+M67*1000/I67) -> 0 | L67: =L66+J67 -> #NUM! | M67: {=INDIRECT("route!E67")-INDIRECT("route!E66")} -> 0 | N67: {=IF(INDIRECT("route!D67")="START",0,IF(T67=TRUE,N66,INDIRECT("route!E67")))} -> 4.7 | O67: =SEARCH($O$6,INDIRECT("route!G"&U67)) -> #VALUE! | P67: =SEARCH($P$6,INDIRECT("route!G"&U67)) -> #VALUE! | Q67: =SEARCH($Q$6,INDIRECT("route!G"&U67)) -> #VALUE! | R67: =SEARCH($R$6,INDIRECT("route!G"&U67)) -> #VALUE! | S67: =SEARCH($S$6,INDIRECT("route!G"&U67)) -> #VALUE! | T67: =AND(ISERROR(O67),ISERROR(P67),ISERROR(Q67),ISERROR(R67),ISERROR(S67)) -> TRUE | U67: 67
A68: {=IF(INDIRECT("route!D68")>0,L68,(""))} | B68: {=IF(INDIRECT("route!D68")>0,H68,(""))} | C68: =IF(D68>0,VLOOKUP("EINDE NEUTR*",INDIRECT("route!D$6"):INDIRECT("route!E$8500"),2,FALSE)-D68," ") | D68: {=INDIRECT("route!E68")} -> 0 | E68: =IF($T68=TRUE,"",N68-N67) | F68: 7.2 | G68: =TIME(0,0,0+M68*1000/F68) -> 0 | H68: =H67+G68 -> #NUM! | I68: 7.2 | J68: =TIME(0,0,0+M68*1000/I68) -> 0 | L68: =L67+J68 -> #NUM! | M68: {=INDIRECT("route!E68")-INDIRECT("route!E67")} -> 0 | N68: {=IF(INDIRECT("route!D68")="START",0,IF(T68=TRUE,N67,INDIRECT("route!E68")))} -> 4.7 | O68: =SEARCH($O$6,INDIRECT("route!G"&U68)) -> #VALUE! | P68: =SEARCH($P$6,INDIRECT("route!G"&U68)) -> #VALUE! | Q68: =SEARCH($Q$6,INDIRECT("route!G"&U68)) -> #VALUE! | R68: =SEARCH($R$6,INDIRECT("route!G"&U68)) -> #VALUE! | S68: =SEARCH($S$6,INDIRECT("route!G"&U68)) -> #VALUE! | T68: =AND(ISERROR(O68),ISERROR(P68),ISERROR(Q68),ISERROR(R68),ISERROR(S68)) -> TRUE | U68: 68
A69: {=IF(INDIRECT("route!D69")>0,L69,(""))} | B69: {=IF(INDIRECT("route!D69")>0,H69,(""))} | C69: =IF(D69>0,VLOOKUP("EINDE NEUTR*",INDIRECT("route!D$6"):INDIRECT("route!E$8500"),2,FALSE)-D69," ") | D69: {=INDIRECT("route!E69")} -> 0 | E69: =IF($T69=TRUE,"",N69-N68) | F69: 7.2 | G69: =TIME(0,0,0+M69*1000/F69) -> 0 | H69: =H68+G69 -> #NUM! | I69: 7.2 | J69: =TIME(0,0,0+M69*1000/I69) -> 0 | L69: =L68+J69 -> #NUM! | M69: {=INDIRECT("route!E69")-INDIRECT("route!E68")} -> 0 | N69: {=IF(INDIRECT("route!D69")="START",0,IF(T69=TRUE,N68,INDIRECT("route!E69")))} -> 4.7 | O69: =SEARCH($O$6,INDIRECT("route!G"&U69)) -> #VALUE! | P69: =SEARCH($P$6,INDIRECT("route!G"&U69)) -> #VALUE! | Q69: =SEARCH($Q$6,INDIRECT("route!G"&U69)) -> #VALUE! | R69: =SEARCH($R$6,INDIRECT("route!G"&U69)) -> #VALUE! | S69: =SEARCH($S$6,INDIRECT("route!G"&U69)) -> #VALUE! | T69: =AND(ISERROR(O69),ISERROR(P69),ISERROR(Q69),ISERROR(R69),ISERROR(S69)) -> TRUE | U69: 69
A70: {=IF(INDIRECT("route!D70")>0,L70,(""))} | B70: {=IF(INDIRECT("route!D70")>0,H70,(""))} | C70: =IF(D70>0,VLOOKUP("EINDE NEUTR*",INDIRECT("route!D$6"):INDIRECT("route!E$8500"),2,FALSE)-D70," ") | D70: {=INDIRECT("route!E70")} -> 0 | E70: =IF($T70=TRUE,"",N70-N69) | F70: 7.2 | G70: =TIME(0,0,0+M70*1000/F70) -> 0 | H70: =H69+G70 -> #NUM! | I70: 7.2 | J70: =TIME(0,0,0+M70*1000/I70) -> 0 | L70: =L69+J70 -> #NUM! | M70: {=INDIRECT("route!E70")-INDIRECT("route!E69")} -> 0 | N70: {=IF(INDIRECT("route!D70")="START",0,IF(T70=TRUE,N69,INDIRECT("route!E70")))} -> 4.7 | O70: =SEARCH($O$6,INDIRECT("route!G"&U70)) -> #VALUE! | P70: =SEARCH($P$6,INDIRECT("route!G"&U70)) -> #VALUE! | Q70: =SEARCH($Q$6,INDIRECT("route!G"&U70)) -> #VALUE! | R70: =SEARCH($R$6,INDIRECT("route!G"&U70)) -> #VALUE! | S70: =SEARCH($S$6,INDIRECT("route!G"&U70)) -> #VALUE! | T70: =AND(ISERROR(O70),ISERROR(P70),ISERROR(Q70),ISERROR(R70),ISERROR(S70)) -> TRUE | U70: 70
A71: {=IF(INDIRECT("route!D71")>0,L71,(""))} | B71: {=IF(INDIRECT("route!D71")>0,H71,(""))} | C71: =IF(D71>0,VLOOKUP("EINDE NEUTR*",INDIRECT("route!D$6"):INDIRECT("route!E$8500"),2,FALSE)-D71," ") | D71: {=INDIRECT("route!E71")} -> 0 | E71: =IF($T71=TRUE,"",N71-N70) | F71: 7.2 | G71: =TIME(0,0,0+M71*1000/F71) -> 0 | H71: =H70+G71 -> #NUM! | I71: 7.2 | J71: =TIME(0,0,0+M71*1000/I71) -> 0 | L71: =L70+J71 -> #NUM! | M71: {=INDIRECT("route!E71")-INDIRECT("route!E70")} -> 0 | N71: {=IF(INDIRECT("route!D71")="START",0,IF(T71=TRUE,N70,INDIRECT("route!E71")))} -> 4.7 | O71: =SEARCH($O$6,INDIRECT("route!G"&U71)) -> #VALUE! | P71: =SEARCH($P$6,INDIRECT("route!G"&U71)) -> #VALUE! | Q71: =SEARCH($Q$6,INDIRECT("route!G"&U71)) -> #VALUE! | R71: =SEARCH($R$6,INDIRECT("route!G"&U71)) -> #VALUE! | S71: =SEARCH($S$6,INDIRECT("route!G"&U71)) -> #VALUE! | T71: =AND(ISERROR(O71),ISERROR(P71),ISERROR(Q71),ISERROR(R71),ISERROR(S71)) -> TRUE | U71: 71
A72: {=IF(INDIRECT("route!D72")>0,L72,(""))} | B72: {=IF(INDIRECT("route!D72")>0,H72,(""))} | C72: =IF(D72>0,VLOOKUP("EINDE NEUTR*",INDIRECT("route!D$6"):INDIRECT("route!E$8500"),2,FALSE)-D72," ") | D72: {=INDIRECT("route!E72")} -> 0 | E72: =IF($T72=TRUE,"",N72-N71) | F72: 7.2 | G72: =TIME(0,0,0+M72*1000/F72) -> 0 | H72: =H71+G72 -> #NUM! | I72: 7.2 | J72: =TIME(0,0,0+M72*1000/I72) -> 0 | L72: =L71+J72 -> #NUM! | M72: {=INDIRECT("route!E72")-INDIRECT("route!E71")} -> 0 | N72: {=IF(INDIRECT("route!D72")="START",0,IF(T72=TRUE,N71,INDIRECT("route!E72")))} -> 4.7 | O72: =SEARCH($O$6,INDIRECT("route!G"&U72)) -> #VALUE! | P72: =SEARCH($P$6,INDIRECT("route!G"&U72)) -> #VALUE! | Q72: =SEARCH($Q$6,INDIRECT("route!G"&U72)) -> #VALUE! | R72: =SEARCH($R$6,INDIRECT("route!G"&U72)) -> #VALUE! | S72: =SEARCH($S$6,INDIRECT("route!G"&U72)) -> #VALUE! | T72: =AND(ISERROR(O72),ISERROR(P72),ISERROR(Q72),ISERROR(R72),ISERROR(S72)) -> TRUE | U72: 72
A73: {=IF(INDIRECT("route!D73")>0,L73,(""))} | B73: {=IF(INDIRECT("route!D73")>0,H73,(""))} | C73: =IF(D73>0,VLOOKUP("EINDE NEUTR*",INDIRECT("route!D$6"):INDIRECT("route!E$8500"),2,FALSE)-D73," ") | D73: {=INDIRECT("route!E73")} -> 0 | E73: =IF($T73=TRUE,"",N73-N72) | F73: 7.2 | G73: =TIME(0,0,0+M73*1000/F73) -> 0 | H73: =H72+G73 -> #NUM! | I73: 7.2 | J73: =TIME(0,0,0+M73*1000/I73) -> 0 | L73: =L72+J73 -> #NUM! | M73: {=INDIRECT("route!E73")-INDIRECT("route!E72")} -> 0 | N73: {=IF(INDIRECT("route!D73")="START",0,IF(T73=TRUE,N72,INDIRECT("route!E73")))} -> 4.7 | O73: =SEARCH($O$6,INDIRECT("route!G"&U73)) -> #VALUE! | P73: =SEARCH($P$6,INDIRECT("route!G"&U73)) -> #VALUE! | Q73: =SEARCH($Q$6,INDIRECT("route!G"&U73)) -> #VALUE! | R73: =SEARCH($R$6,INDIRECT("route!G"&U73)) -> #VALUE! | S73: =SEARCH($S$6,INDIRECT("route!G"&U73)) -> #VALUE! | T73: =AND(ISERROR(O73),ISERROR(P73),ISERROR(Q73),ISERROR(R73),ISERROR(S73)) -> TRUE | U73: 73
A74: {=IF(INDIRECT("route!D74")>0,L74,(""))} | B74: {=IF(INDIRECT("route!D74")>0,H74,(""))} | C74: =IF(D74>0,VLOOKUP("EINDE NEUTR*",INDIRECT("route!D$6"):INDIRECT("route!E$8500"),2,FALSE)-D74," ") | D74: {=INDIRECT("route!E74")} -> 0 | E74: =IF($T74=TRUE,"",N74-N73) | F74: 7.2 | G74: =TIME(0,0,0+M74*1000/F74) -> 0 | H74: =H73+G74 -> #NUM! | I74: 7.2 | J74: =TIME(0,0,0+M74*1000/I74) -> 0 | L74: =L73+J74 -> #NUM! | M74: {=INDIRECT("route!E74")-INDIRECT("route!E73")} -> 0 | N74: {=IF(INDIRECT("route!D74")="START",0,IF(T74=TRUE,N73,INDIRECT("route!E74")))} -> 4.7 | O74: =SEARCH($O$6,INDIRECT("route!G"&U74)) -> #VALUE! | P74: =SEARCH($P$6,INDIRECT("route!G"&U74)) -> #VALUE! | Q74: =SEARCH($Q$6,INDIRECT("route!G"&U74)) -> #VALUE! | R74: =SEARCH($R$6,INDIRECT("route!G"&U74)) -> #VALUE! | S74: =SEARCH($S$6,INDIRECT("route!G"&U74)) -> #VALUE! | T74: =AND(ISERROR(O74),ISERROR(P74),ISERROR(Q74),ISERROR(R74),ISERROR(S74)) -> TRUE | U74: 74
A75: {=IF(INDIRECT("route!D75")>0,L75,(""))} | B75: {=IF(INDIRECT("route!D75")>0,H75,(""))} | C75: =IF(D75>0,VLOOKUP("EINDE NEUTR*",INDIRECT("route!D$6"):INDIRECT("route!E$8500"),2,FALSE)-D75," ") | D75: {=INDIRECT("route!E75")} -> 0 | E75: =IF($T75=TRUE,"",N75-N74) | F75: 7.2 | G75: =TIME(0,0,0+M75*1000/F75) -> 0 | H75: =H74+G75 -> #NUM! | I75: 7.2 | J75: =TIME(0,0,0+M75*1000/I75) -> 0 | L75: =L74+J75 -> #NUM! | M75: {=INDIRECT("route!E75")-INDIRECT("route!E74")} -> 0 | N75: {=IF(INDIRECT("route!D75")="START",0,IF(T75=TRUE,N74,INDIRECT("route!E75")))} -> 4.7 | O75: =SEARCH($O$6,INDIRECT("route!G"&U75)) -> #VALUE! | P75: =SEARCH($P$6,INDIRECT("route!G"&U75)) -> #VALUE! | Q75: =SEARCH($Q$6,INDIRECT("route!G"&U75)) -> #VALUE! | R75: =SEARCH($R$6,INDIRECT("route!G"&U75)) -> #VALUE! | S75: =SEARCH($S$6,INDIRECT("route!G"&U75)) -> #VALUE! | T75: =AND(ISERROR(O75),ISERROR(P75),ISERROR(Q75),ISERROR(R75),ISERROR(S75)) -> TRUE | U75: 75
A76: {=IF(INDIRECT("route!D76")>0,L76,(""))} | B76: {=IF(INDIRECT("route!D76")>0,H76,(""))} | C76: =IF(D76>0,VLOOKUP("EINDE NEUTR*",INDIRECT("route!D$6"):INDIRECT("route!E$8500"),2,FALSE)-D76," ") | D76: {=INDIRECT("route!E76")} -> 0 | E76: =IF($T76=TRUE,"",N76-N75) | F76: 7.2 | G76: =TIME(0,0,0+M76*1000/F76) -> 0 | H76: =H75+G76 -> #NUM! | I76: 7.2 | J76: =TIME(0,0,0+M76*1000/I76) -> 0 | L76: =L75+J76 -> #NUM! | M76: {=INDIRECT("route!E76")-INDIRECT("route!E75")} -> 0 | N76: {=IF(INDIRECT("route!D76")="START",0,IF(T76=TRUE,N75,INDIRECT("route!E76")))} -> 4.7 | O76: =SEARCH($O$6,INDIRECT("route!G"&U76)) -> #VALUE! | P76: =SEARCH($P$6,INDIRECT("route!G"&U76)) -> #VALUE! | Q76: =SEARCH($Q$6,INDIRECT("route!G"&U76)) -> #VALUE! | R76: =SEARCH($R$6,INDIRECT("route!G"&U76)) -> #VALUE! | S76: =SEARCH($S$6,INDIRECT("route!G"&U76)) -> #VALUE! | T76: =AND(ISERROR(O76),ISERROR(P76),ISERROR(Q76),ISERROR(R76),ISERROR(S76)) -> TRUE | U76: 76
A77: {=IF(INDIRECT("route!D77")>0,L77,(""))} | B77: {=IF(INDIRECT("route!D77")>0,H77,(""))} | C77: =IF(D77>0,VLOOKUP("EINDE NEUTR*",INDIRECT("route!D$6"):INDIRECT("route!E$8500"),2,FALSE)-D77," ") | D77: {=INDIRECT("route!E77")} -> 0 | E77: =IF($T77=TRUE,"",N77-N76) | F77: 7.2 | G77: =TIME(0,0,0+M77*1000/F77) -> 0 | H77: =H76+G77 -> #NUM! | I77: 7.2 | J77: =TIME(0,0,0+M77*1000/I77) -> 0 | L77: =L76+J77 -> #NUM! | M77: {=INDIRECT("route!E77")-INDIRECT("route!E76")} -> 0 | N77: {=IF(INDIRECT("route!D77")="START",0,IF(T77=TRUE,N76,INDIRECT("route!E77")))} -> 4.7 | O77: =SEARCH($O$6,INDIRECT("route!G"&U77)) -> #VALUE! | P77: =SEARCH($P$6,INDIRECT("route!G"&U77)) -> #VALUE! | Q77: =SEARCH($Q$6,INDIRECT("route!G"&U77)) -> #VALUE! | R77: =SEARCH($R$6,INDIRECT("route!G"&U77)) -> #VALUE! | S77: =SEARCH($S$6,INDIRECT("route!G"&U77)) -> #VALUE! | T77: =AND(ISERROR(O77),ISERROR(P77),ISERROR(Q77),ISERROR(R77),ISERROR(S77)) -> TRUE | U77: 77
A78: {=IF(INDIRECT("route!D78")>0,L78,(""))} | B78: {=IF(INDIRECT("route!D78")>0,H78,(""))} | C78: =IF(D78>0,VLOOKUP("EINDE NEUTR*",INDIRECT("route!D$6"):INDIRECT("route!E$8500"),2,FALSE)-D78," ") | D78: {=INDIRECT("route!E78")} -> 0 | E78: =IF($T78=TRUE,"",N78-N77) | F78: 7.2 | G78: =TIME(0,0,0+M78*1000/F78) -> 0 | H78: =H77+G78 -> #NUM! | I78: 7.2 | J78: =TIME(0,0,0+M78*1000/I78) -> 0 | L78: =L77+J78 -> #NUM! | M78: {=INDIRECT("route!E78")-INDIRECT("route!E77")} -> 0 | N78: {=IF(INDIRECT("route!D78")="START",0,IF(T78=TRUE,N77,INDIRECT("route!E78")))} -> 4.7 | O78: =SEARCH($O$6,INDIRECT("route!G"&U78)) -> #VALUE! | P78: =SEARCH($P$6,INDIRECT("route!G"&U78)) -> #VALUE! | Q78: =SEARCH($Q$6,INDIRECT("route!G"&U78)) -> #VALUE! | R78: =SEARCH($R$6,INDIRECT("route!G"&U78)) -> #VALUE! | S78: =SEARCH($S$6,INDIRECT("route!G"&U78)) -> #VALUE! | T78: =AND(ISERROR(O78),ISERROR(P78),ISERROR(Q78),ISERROR(R78),ISERROR(S78)) -> TRUE | U78: 78
A79: {=IF(INDIRECT("route!D79")>0,L79,(""))} | B79: {=IF(INDIRECT("route!D79")>0,H79,(""))} | C79: =IF(D79>0,VLOOKUP("EINDE NEUTR*",INDIRECT("route!D$6"):INDIRECT("route!E$8500"),2,FALSE)-D79," ") | D79: {=INDIRECT("route!E79")} -> 0 | E79: =IF($T79=TRUE,"",N79-N78) | F79: 7.2 | G79: =TIME(0,0,0+M79*1000/F79) -> 0 | H79: =H78+G79 -> #NUM! | I79: 7.2 | J79: =TIME(0,0,0+M79*1000/I79) -> 0 | L79: =L78+J79 -> #NUM! | M79: {=INDIRECT("route!E79")-INDIRECT("route!E78")} -> 0 | N79: {=IF(INDIRECT("route!D79")="START",0,IF(T79=TRUE,N78,INDIRECT("route!E79")))} -> 4.7 | O79: =SEARCH($O$6,INDIRECT("route!G"&U79)) -> #VALUE! | P79: =SEARCH($P$6,INDIRECT("route!G"&U79)) -> #VALUE! | Q79: =SEARCH($Q$6,INDIRECT("route!G"&U79)) -> #VALUE! | R79: =SEARCH($R$6,INDIRECT("route!G"&U79)) -> #VALUE! | S79: =SEARCH($S$6,INDIRECT("route!G"&U79)) -> #VALUE! | T79: =AND(ISERROR(O79),ISERROR(P79),ISERROR(Q79),ISERROR(R79),ISERROR(S79)) -> TRUE | U79: 79
A80: {=IF(INDIRECT("route!D80")>0,L80,(""))} | B80: {=IF(INDIRECT("route!D80")>0,H80,(""))} | C80: =IF(D80>0,VLOOKUP("EINDE NEUTR*",INDIRECT("route!D$6"):INDIRECT("route!E$8500"),2,FALSE)-D80," ") | D80: {=INDIRECT("route!E80")} -> 0 | E80: =IF($T80=TRUE,"",N80-N79) | F80: 7.2 | G80: =TIME(0,0,0+M80*1000/F80) -> 0 | H80: =H79+G80 -> #NUM! | I80: 7.2 | J80: =TIME(0,0,0+M80*1000/I80) -> 0 | L80: =L79+J80 -> #NUM! | M80: {=INDIRECT("route!E80")-INDIRECT("route!E79")} -> 0 | N80: {=IF(INDIRECT("route!D80")="START",0,IF(T80=TRUE,N79,INDIRECT("route!E80")))} -> 4.7 | O80: =SEARCH($O$6,INDIRECT("route!G"&U80)) -> #VALUE! | P80: =SEARCH($P$6,INDIRECT("route!G"&U80)) -> #VALUE! | Q80: =SEARCH($Q$6,INDIRECT("route!G"&U80)) -> #VALUE! | R80: =SEARCH($R$6,INDIRECT("route!G"&U80)) -> #VALUE! | S80: =SEARCH($S$6,INDIRECT("route!G"&U80)) -> #VALUE! | T80: =AND(ISERROR(O80),ISERROR(P80),ISERROR(Q80),ISERROR(R80),ISERROR(S80)) -> TRUE | U80: 80
A81: {=IF(INDIRECT("route!D81")>0,L81,(""))} | B81: {=IF(INDIRECT("route!D81")>0,H81,(""))} | C81: =IF(D81>0,VLOOKUP("EINDE NEUTR*",INDIRECT("route!D$6"):INDIRECT("route!E$8500"),2,FALSE)-D81," ") | D81: {=INDIRECT("route!E81")} -> 0 | E81: =IF($T81=TRUE,"",N81-N80) | F81: 7.2 | G81: =TIME(0,0,0+M81*1000/F81) -> 0 | H81: =H80+G81 -> #NUM! | I81: 7.2 | J81: =TIME(0,0,0+M81*1000/I81) -> 0 | L81: =L80+J81 -> #NUM! | M81: {=INDIRECT("route!E81")-INDIRECT("route!E80")} -> 0 | N81: {=IF(INDIRECT("route!D81")="START",0,IF(T81=TRUE,N80,INDIRECT("route!E81")))} -> 4.7 | O81: =SEARCH($O$6,INDIRECT("route!G"&U81)) -> #VALUE! | P81: =SEARCH($P$6,INDIRECT("route!G"&U81)) -> #VALUE! | Q81: =SEARCH($Q$6,INDIRECT("route!G"&U81)) -> #VALUE! | R81: =SEARCH($R$6,INDIRECT("route!G"&U81)) -> #VALUE! | S81: =SEARCH($S$6,INDIRECT("route!G"&U81)) -> #VALUE! | T81: =AND(ISERROR(O81),ISERROR(P81),ISERROR(Q81),ISERROR(R81),ISERROR(S81)) -> TRUE | U81: 81
A82: {=IF(INDIRECT("route!D82")>0,L82,(""))} | B82: {=IF(INDIRECT("route!D82")>0,H82,(""))} | C82: =IF(D82>0,VLOOKUP("EINDE NEUTR*",INDIRECT("route!D$6"):INDIRECT("route!E$8500"),2,FALSE)-D82," ") | D82: {=INDIRECT("route!E82")} -> 0 | E82: =IF($T82=TRUE,"",N82-N81) | F82: 7.2 | G82: =TIME(0,0,0+M82*1000/F82) -> 0 | H82: =H81+G82 -> #NUM! | I82: 7.2 | J82: =TIME(0,0,0+M82*1000/I82) -> 0 | L82: =L81+J82 -> #NUM! | M82: {=INDIRECT("route!E82")-INDIRECT("route!E81")} -> 0 | N82: {=IF(INDIRECT("route!D82")="START",0,IF(T82=TRUE,N81,INDIRECT("route!E82")))} -> 4.7 | O82: =SEARCH($O$6,INDIRECT("route!G"&U82)) -> #VALUE! | P82: =SEARCH($P$6,INDIRECT("route!G"&U82)) -> #VALUE! | Q82: =SEARCH($Q$6,INDIRECT("route!G"&U82)) -> #VALUE! | R82: =SEARCH($R$6,INDIRECT("route!G"&U82)) -> #VALUE! | S82: =SEARCH($S$6,INDIRECT("route!G"&U82)) -> #VALUE! | T82: =AND(ISERROR(O82),ISERROR(P82),ISERROR(Q82),ISERROR(R82),ISERROR(S82)) -> TRUE | U82: 82
A83: {=IF(INDIRECT("route!D83")>0,L83,(""))} | B83: {=IF(INDIRECT("route!D83")>0,H83,(""))} | C83: =IF(D83>0,VLOOKUP("EINDE NEUTR*",INDIRECT("route!D$6"):INDIRECT("route!E$8500"),2,FALSE)-D83," ") | D83: {=INDIRECT("route!E83")} -> 0 | E83: =IF($T83=TRUE,"",N83-N82) | F83: 7.2 | G83: =TIME(0,0,0+M83*1000/F83) -> 0 | H83: =H82+G83 -> #NUM! | I83: 7.2 | J83: =TIME(0,0,0+M83*1000/I83) -> 0 | L83: =L82+J83 -> #NUM! | M83: {=INDIRECT("route!E83")-INDIRECT("route!E82")} -> 0 | N83: {=IF(INDIRECT("route!D83")="START",0,IF(T83=TRUE,N82,INDIRECT("route!E83")))} -> 4.7 | O83: =SEARCH($O$6,INDIRECT("route!G"&U83)) -> #VALUE! | P83: =SEARCH($P$6,INDIRECT("route!G"&U83)) -> #VALUE! | Q83: =SEARCH($Q$6,INDIRECT("route!G"&U83)) -> #VALUE! | R83: =SEARCH($R$6,INDIRECT("route!G"&U83)) -> #VALUE! | S83: =SEARCH($S$6,INDIRECT("route!G"&U83)) -> #VALUE! | T83: =AND(ISERROR(O83),ISERROR(P83),ISERROR(Q83),ISERROR(R83),ISERROR(S83)) -> TRUE | U83: 83
A84: {=IF(INDIRECT("route!D84")>0,L84,(""))} | B84: {=IF(INDIRECT("route!D84")>0,H84,(""))} | C84: =IF(D84>0,VLOOKUP("EINDE NEUTR*",INDIRECT("route!D$6"):INDIRECT("route!E$8500"),2,FALSE)-D84," ") | D84: {=INDIRECT("route!E84")} -> 0 | E84: =IF($T84=TRUE,"",N84-N83) | F84: 7.2 | G84: =TIME(0,0,0+M84*1000/F84) -> 0 | H84: =H83+G84 -> #NUM! | I84: 7.2 | J84: =TIME(0,0,0+M84*1000/I84) -> 0 | L84: =L83+J84 -> #NUM! | M84: {=INDIRECT("route!E84")-INDIRECT("route!E83")} -> 0 | N84: {=IF(INDIRECT("route!D84")="START",0,IF(T84=TRUE,N83,INDIRECT("route!E84")))} -> 4.7 | O84: =SEARCH($O$6,INDIRECT("route!G"&U84)) -> #VALUE! | P84: =SEARCH($P$6,INDIRECT("route!G"&U84)) -> #VALUE! | Q84: =SEARCH($Q$6,INDIRECT("route!G"&U84)) -> #VALUE! | R84: =SEARCH($R$6,INDIRECT("route!G"&U84)) -> #VALUE! | S84: =SEARCH($S$6,INDIRECT("route!G"&U84)) -> #VALUE! | T84: =AND(ISERROR(O84),ISERROR(P84),ISERROR(Q84),ISERROR(R84),ISERROR(S84)) -> TRUE | U84: 84
A85: {=IF(INDIRECT("route!D85")>0,L85,(""))} | B85: {=IF(INDIRECT("route!D85")>0,H85,(""))} | C85: =IF(D85>0,VLOOKUP("EINDE NEUTR*",INDIRECT("route!D$6"):INDIRECT("route!E$8500"),2,FALSE)-D85," ") | D85: {=INDIRECT("route!E85")} -> 0 | E85: =IF($T85=TRUE,"",N85-N84) | F85: 7.2 | G85: =TIME(0,0,0+M85*1000/F85) -> 0 | H85: =H84+G85 -> #NUM! | I85: 7.2 | J85: =TIME(0,0,0+M85*1000/I85) -> 0 | L85: =L84+J85 -> #NUM! | M85: {=INDIRECT("route!E85")-INDIRECT("route!E84")} -> 0 | N85: {=IF(INDIRECT("route!D85")="START",0,IF(T85=TRUE,N84,INDIRECT("route!E85")))} -> 4.7 | O85: =SEARCH($O$6,INDIRECT("route!G"&U85)) -> #VALUE! | P85: =SEARCH($P$6,INDIRECT("route!G"&U85)) -> #VALUE! | Q85: =SEARCH($Q$6,INDIRECT("route!G"&U85)) -> #VALUE! | R85: =SEARCH($R$6,INDIRECT("route!G"&U85)) -> #VALUE! | S85: =SEARCH($S$6,INDIRECT("route!G"&U85)) -> #VALUE! | T85: =AND(ISERROR(O85),ISERROR(P85),ISERROR(Q85),ISERROR(R85),ISERROR(S85)) -> TRUE | U85: 85
A86: {=IF(INDIRECT("route!D86")>0,L86,(""))} | B86: {=IF(INDIRECT("route!D86")>0,H86,(""))} | C86: =IF(D86>0,VLOOKUP("EINDE NEUTR*",INDIRECT("route!D$6"):INDIRECT("route!E$8500"),2,FALSE)-D86," ") | D86: {=INDIRECT("route!E86")} -> 0 | E86: =IF($T86=TRUE,"",N86-N85) | F86: 7.2 | G86: =TIME(0,0,0+M86*1000/F86) -> 0 | H86: =H85+G86 -> #NUM! | I86: 7.2 | J86: =TIME(0,0,0+M86*1000/I86) -> 0 | L86: =L85+J86 -> #NUM! | M86: {=INDIRECT("route!E86")-INDIRECT("route!E85")} -> 0 | N86: {=IF(INDIRECT("route!D86")="START",0,IF(T86=TRUE,N85,INDIRECT("route!E86")))} -> 4.7 | O86: =SEARCH($O$6,INDIRECT("route!G"&U86)) -> #VALUE! | P86: =SEARCH($P$6,INDIRECT("route!G"&U86)) -> #VALUE! | Q86: =SEARCH($Q$6,INDIRECT("route!G"&U86)) -> #VALUE! | R86: =SEARCH($R$6,INDIRECT("route!G"&U86)) -> #VALUE! | S86: =SEARCH($S$6,INDIRECT("route!G"&U86)) -> #VALUE! | T86: =AND(ISERROR(O86),ISERROR(P86),ISERROR(Q86),ISERROR(R86),ISERROR(S86)) -> TRUE | U86: 86
A87: {=IF(INDIRECT("route!D87")>0,L87,(""))} | B87: {=IF(INDIRECT("route!D87")>0,H87,(""))} | C87: =IF(D87>0,VLOOKUP("EINDE NEUTR*",INDIRECT("route!D$6"):INDIRECT("route!E$8500"),2,FALSE)-D87," ") | D87: {=INDIRECT("route!E87")} -> 0 | E87: =IF($T87=TRUE,"",N87-N86) | F87: 7.2 | G87: =TIME(0,0,0+M87*1000/F87) -> 0 | H87: =H86+G87 -> #NUM! | I87: 7.2 | J87: =TIME(0,0,0+M87*1000/I87) -> 0 | L87: =L86+J87 -> #NUM! | M87: {=INDIRECT("route!E87")-INDIRECT("route!E86")} -> 0 | N87: {=IF(INDIRECT("route!D87")="START",0,IF(T87=TRUE,N86,INDIRECT("route!E87")))} -> 4.7 | O87: =SEARCH($O$6,INDIRECT("route!G"&U87)) -> #VALUE! | P87: =SEARCH($P$6,INDIRECT("route!G"&U87)) -> #VALUE! | Q87: =SEARCH($Q$6,INDIRECT("route!G"&U87)) -> #VALUE! | R87: =SEARCH($R$6,INDIRECT("route!G"&U87)) -> #VALUE! | S87: =SEARCH($S$6,INDIRECT("route!G"&U87)) -> #VALUE! | T87: =AND(ISERROR(O87),ISERROR(P87),ISERROR(Q87),ISERROR(R87),ISERROR(S87)) -> TRUE | U87: 87
A88: {=IF(INDIRECT("route!D88")>0,L88,(""))} | B88: {=IF(INDIRECT("route!D88")>0,H88,(""))} | C88: =IF(D88>0,VLOOKUP("EINDE NEUTR*",INDIRECT("route!D$6"):INDIRECT("route!E$8500"),2,FALSE)-D88," ") | D88: {=INDIRECT("route!E88")} -> 0 | E88: =IF($T88=TRUE,"",N88-N87) | F88: 7.2 | G88: =TIME(0,0,0+M88*1000/F88) -> 0 | H88: =H87+G88 -> #NUM! | I88: 7.2 | J88: =TIME(0,0,0+M88*1000/I88) -> 0 | L88: =L87+J88 -> #NUM! | M88: {=INDIRECT("route!E88")-INDIRECT("route!E87")} -> 0 | N88: {=IF(INDIRECT("route!D88")="START",0,IF(T88=TRUE,N87,INDIRECT("route!E88")))} -> 4.7 | O88: =SEARCH($O$6,INDIRECT("route!G"&U88)) -> #VALUE! | P88: =SEARCH($P$6,INDIRECT("route!G"&U88)) -> #VALUE! | Q88: =SEARCH($Q$6,INDIRECT("route!G"&U88)) -> #VALUE! | R88: =SEARCH($R$6,INDIRECT("route!G"&U88)) -> #VALUE! | S88: =SEARCH($S$6,INDIRECT("route!G"&U88)) -> #VALUE! | T88: =AND(ISERROR(O88),ISERROR(P88),ISERROR(Q88),ISERROR(R88),ISERROR(S88)) -> TRUE | U88: 88
A89: {=IF(INDIRECT("route!D89")>0,L89,(""))} | B89: {=IF(INDIRECT("route!D89")>0,H89,(""))} | C89: =IF(D89>0,VLOOKUP("EINDE NEUTR*",INDIRECT("route!D$6"):INDIRECT("route!E$8500"),2,FALSE)-D89," ") | D89: {=INDIRECT("route!E89")} -> 0 | E89: =IF($T89=TRUE,"",N89-N88) | F89: 7.2 | G89: =TIME(0,0,0+M89*1000/F89) -> 0 | H89: =H88+G89 -> #NUM! | I89: 7.2 | J89: =TIME(0,0,0+M89*1000/I89) -> 0 | L89: =L88+J89 -> #NUM! | M89: {=INDIRECT("route!E89")-INDIRECT("route!E88")} -> 0 | N89: {=IF(INDIRECT("route!D89")="START",0,IF(T89=TRUE,N88,INDIRECT("route!E89")))} -> 4.7 | O89: =SEARCH($O$6,INDIRECT("route!G"&U89)) -> #VALUE! | P89: =SEARCH($P$6,INDIRECT("route!G"&U89)) -> #VALUE! | Q89: =SEARCH($Q$6,INDIRECT("route!G"&U89)) -> #VALUE! | R89: =SEARCH($R$6,INDIRECT("route!G"&U89)) -> #VALUE! | S89: =SEARCH($S$6,INDIRECT("route!G"&U89)) -> #VALUE! | T89: =AND(ISERROR(O89),ISERROR(P89),ISERROR(Q89),ISERROR(R89),ISERROR(S89)) -> TRUE | U89: 89
A90: {=IF(INDIRECT("route!D90")>0,L90,(""))} | B90: {=IF(INDIRECT("route!D90")>0,H90,(""))} | C90: =IF(D90>0,VLOOKUP("EINDE NEUTR*",INDIRECT("route!D$6"):INDIRECT("route!E$8500"),2,FALSE)-D90," ") | D90: {=INDIRECT("route!E90")} -> 0 | E90: =IF($T90=TRUE,"",N90-N89) | F90: 7.2 | G90: =TIME(0,0,0+M90*1000/F90) -> 0 | H90: =H89+G90 -> #NUM! | I90: 7.2 | J90: =TIME(0,0,0+M90*1000/I90) -> 0 | L90: =L89+J90 -> #NUM! | M90: {=INDIRECT("route!E90")-INDIRECT("route!E89")} -> 0 | N90: {=IF(INDIRECT("route!D90")="START",0,IF(T90=TRUE,N89,INDIRECT("route!E90")))} -> 4.7 | O90: =SEARCH($O$6,INDIRECT("route!G"&U90)) -> #VALUE! | P90: =SEARCH($P$6,INDIRECT("route!G"&U90)) -> #VALUE! | Q90: =SEARCH($Q$6,INDIRECT("route!G"&U90)) -> #VALUE! | R90: =SEARCH($R$6,INDIRECT("route!G"&U90)) -> #VALUE! | S90: =SEARCH($S$6,INDIRECT("route!G"&U90)) -> #VALUE! | T90: =AND(ISERROR(O90),ISERROR(P90),ISERROR(Q90),ISERROR(R90),ISERROR(S90)) -> TRUE | U90: 90
A91: {=IF(INDIRECT("route!D91")>0,L91,(""))} | B91: {=IF(INDIRECT("route!D91")>0,H91,(""))} | C91: =IF(D91>0,VLOOKUP("EINDE NEUTR*",INDIRECT("route!D$6"):INDIRECT("route!E$8500"),2,FALSE)-D91," ") | D91: {=INDIRECT("route!E91")} -> 0 | E91: =IF($T91=TRUE,"",N91-N90) | F91: 7.2 | G91: =TIME(0,0,0+M91*1000/F91) -> 0 | H91: =H90+G91 -> #NUM! | I91: 7.2 | J91: =TIME(0,0,0+M91*1000/I91) -> 0 | L91: =L90+J91 -> #NUM! | M91: {=INDIRECT("route!E91")-INDIRECT("route!E90")} -> 0 | N91: {=IF(INDIRECT("route!D91")="START",0,IF(T91=TRUE,N90,INDIRECT("route!E91")))} -> 4.7 | O91: =SEARCH($O$6,INDIRECT("route!G"&U91)) -> #VALUE! | P91: =SEARCH($P$6,INDIRECT("route!G"&U91)) -> #VALUE! | Q91: =SEARCH($Q$6,INDIRECT("route!G"&U91)) -> #VALUE! | R91: =SEARCH($R$6,INDIRECT("route!G"&U91)) -> #VALUE! | S91: =SEARCH($S$6,INDIRECT("route!G"&U91)) -> #VALUE! | T91: =AND(ISERROR(O91),ISERROR(P91),ISERROR(Q91),ISERROR(R91),ISERROR(S91)) -> TRUE | U91: 91
A92: {=IF(INDIRECT("route!D92")>0,L92,(""))} | B92: {=IF(INDIRECT("route!D92")>0,H92,(""))} | C92: =IF(D92>0,VLOOKUP("EINDE NEUTR*",INDIRECT("route!D$6"):INDIRECT("route!E$8500"),2,FALSE)-D92," ") | D92: {=INDIRECT("route!E92")} -> 0 | E92: =IF($T92=TRUE,"",N92-N91) | F92: 7.2 | G92: =TIME(0,0,0+M92*1000/F92) -> 0 | H92: =H91+G92 -> #NUM! | I92: 7.2 | J92: =TIME(0,0,0+M92*1000/I92) -> 0 | L92: =L91+J92 -> #NUM! | M92: {=INDIRECT("route!E92")-INDIRECT("route!E91")} -> 0 | N92: {=IF(INDIRECT("route!D92")="START",0,IF(T92=TRUE,N91,INDIRECT("route!E92")))} -> 4.7 | O92: =SEARCH($O$6,INDIRECT("route!G"&U92)) -> #VALUE! | P92: =SEARCH($P$6,INDIRECT("route!G"&U92)) -> #VALUE! | Q92: =SEARCH($Q$6,INDIRECT("route!G"&U92)) -> #VALUE! | R92: =SEARCH($R$6,INDIRECT("route!G"&U92)) -> #VALUE! | S92: =SEARCH($S$6,INDIRECT("route!G"&U92)) -> #VALUE! | T92: =AND(ISERROR(O92),ISERROR(P92),ISERROR(Q92),ISERROR(R92),ISERROR(S92)) -> TRUE | U92: 92
A93: {=IF(INDIRECT("route!D93")>0,L93,(""))} | B93: {=IF(INDIRECT("route!D93")>0,H93,(""))} | C93: =IF(D93>0,VLOOKUP("EINDE NEUTR*",INDIRECT("route!D$6"):INDIRECT("route!E$8500"),2,FALSE)-D93," ") | D93: {=INDIRECT("route!E93")} -> 0 | E93: =IF($T93=TRUE,"",N93-N92) | F93: 7.2 | G93: =TIME(0,0,0+M93*1000/F93) -> 0 | H93: =H92+G93 -> #NUM! | I93: 7.2 | J93: =TIME(0,0,0+M93*1000/I93) -> 0 | L93: =L92+J93 -> #NUM! | M93: {=INDIRECT("route!E93")-INDIRECT("route!E92")} -> 0 | N93: {=IF(INDIRECT("route!D93")="START",0,IF(T93=TRUE,N92,INDIRECT("route!E93")))} -> 4.7 | O93: =SEARCH($O$6,INDIRECT("route!G"&U93)) -> #VALUE! | P93: =SEARCH($P$6,INDIRECT("route!G"&U93)) -> #VALUE! | Q93: =SEARCH($Q$6,INDIRECT("route!G"&U93)) -> #VALUE! | R93: =SEARCH($R$6,INDIRECT("route!G"&U93)) -> #VALUE! | S93: =SEARCH($S$6,INDIRECT("route!G"&U93)) -> #VALUE! | T93: =AND(ISERROR(O93),ISERROR(P93),ISERROR(Q93),ISERROR(R93),ISERROR(S93)) -> TRUE | U93: 93
A94: {=IF(INDIRECT("route!D94")>0,L94,(""))} | B94: {=IF(INDIRECT("route!D94")>0,H94,(""))} | C94: =IF(D94>0,VLOOKUP("EINDE NEUTR*",INDIRECT("route!D$6"):INDIRECT("route!E$8500"),2,FALSE)-D94," ") | D94: {=INDIRECT("route!E94")} -> 0 | E94: =IF($T94=TRUE,"",N94-N93) | F94: 7.2 | G94: =TIME(0,0,0+M94*1000/F94) -> 0 | H94: =H93+G94 -> #NUM! | I94: 7.2 | J94: =TIME(0,0,0+M94*1000/I94) -> 0 | L94: =L93+J94 -> #NUM! | M94: {=INDIRECT("route!E94")-INDIRECT("route!E93")} -> 0 | N94: {=IF(INDIRECT("route!D94")="START",0,IF(T94=TRUE,N93,INDIRECT("route!E94")))} -> 4.7 | O94: =SEARCH($O$6,INDIRECT("route!G"&U94)) -> #VALUE! | P94: =SEARCH($P$6,INDIRECT("route!G"&U94)) -> #VALUE! | Q94: =SEARCH($Q$6,INDIRECT("route!G"&U94)) -> #VALUE! | R94: =SEARCH($R$6,INDIRECT("route!G"&U94)) -> #VALUE! | S94: =SEARCH($S$6,INDIRECT("route!G"&U94)) -> #VALUE! | T94: =AND(ISERROR(O94),ISERROR(P94),ISERROR(Q94),ISERROR(R94),ISERROR(S94)) -> TRUE | U94: 94
A95: {=IF(INDIRECT("route!D95")>0,L95,(""))} | B95: {=IF(INDIRECT("route!D95")>0,H95,(""))} | C95: =IF(D95>0,VLOOKUP("EINDE NEUTR*",INDIRECT("route!D$6"):INDIRECT("route!E$8500"),2,FALSE)-D95," ") | D95: {=INDIRECT("route!E95")} -> 0 | E95: =IF($T95=TRUE,"",N95-N94) | F95: 7.2 | G95: =TIME(0,0,0+M95*1000/F95) -> 0 | H95: =H94+G95 -> #NUM! | I95: 7.2 | J95: =TIME(0,0,0+M95*1000/I95) -> 0 | L95: =L94+J95 -> #NUM! | M95: {=INDIRECT("route!E95")-INDIRECT("route!E94")} -> 0 | N95: {=IF(INDIRECT("route!D95")="START",0,IF(T95=TRUE,N94,INDIRECT("route!E95")))} -> 4.7 | O95: =SEARCH($O$6,INDIRECT("route!G"&U95)) -> #VALUE! | P95: =SEARCH($P$6,INDIRECT("route!G"&U95)) -> #VALUE! | Q95: =SEARCH($Q$6,INDIRECT("route!G"&U95)) -> #VALUE! | R95: =SEARCH($R$6,INDIRECT("route!G"&U95)) -> #VALUE! | S95: =SEARCH($S$6,INDIRECT("route!G"&U95)) -> #VALUE! | T95: =AND(ISERROR(O95),ISERROR(P95),ISERROR(Q95),ISERROR(R95),ISERROR(S95)) -> TRUE | U95: 95
A96: {=IF(INDIRECT("route!D96")>0,L96,(""))} | B96: {=IF(INDIRECT("route!D96")>0,H96,(""))} | C96: =IF(D96>0,VLOOKUP("EINDE NEUTR*",INDIRECT("route!D$6"):INDIRECT("route!E$8500"),2,FALSE)-D96," ") | D96: {=INDIRECT("route!E96")} -> 0 | E96: =IF($T96=TRUE,"",N96-N95) | F96: 7.2 | G96: =TIME(0,0,0+M96*1000/F96) -> 0 | H96: =H95+G96 -> #NUM! | I96: 7.2 | J96: =TIME(0,0,0+M96*1000/I96) -> 0 | L96: =L95+J96 -> #NUM! | M96: {=INDIRECT("route!E96")-INDIRECT("route!E95")} -> 0 | N96: {=IF(INDIRECT("route!D96")="START",0,IF(T96=TRUE,N95,INDIRECT("route!E96")))} -> 4.7 | O96: =SEARCH($O$6,INDIRECT("route!G"&U96)) -> #VALUE! | P96: =SEARCH($P$6,INDIRECT("route!G"&U96)) -> #VALUE! | Q96: =SEARCH($Q$6,INDIRECT("route!G"&U96)) -> #VALUE! | R96: =SEARCH($R$6,INDIRECT("route!G"&U96)) -> #VALUE! | S96: =SEARCH($S$6,INDIRECT("route!G"&U96)) -> #VALUE! | T96: =AND(ISERROR(O96),ISERROR(P96),ISERROR(Q96),ISERROR(R96),ISERROR(S96)) -> TRUE | U96: 96
A97: {=IF(INDIRECT("route!D97")>0,L97,(""))} | B97: {=IF(INDIRECT("route!D97")>0,H97,(""))} | C97: =IF(D97>0,VLOOKUP("EINDE NEUTR*",INDIRECT("route!D$6"):INDIRECT("route!E$8500"),2,FALSE)-D97," ") | D97: {=INDIRECT("route!E97")} -> 0 | E97: =IF($T97=TRUE,"",N97-N96) | F97: 7.2 | G97: =TIME(0,0,0+M97*1000/F97) -> 0 | H97: =H96+G97 -> #NUM! | I97: 7.2 | J97: =TIME(0,0,0+M97*1000/I97) -> 0 | L97: =L96+J97 -> #NUM! | M97: {=INDIRECT("route!E97")-INDIRECT("route!E96")} -> 0 | N97: {=IF(INDIRECT("route!D97")="START",0,IF(T97=TRUE,N96,INDIRECT("route!E97")))} -> 4.7 | O97: =SEARCH($O$6,INDIRECT("route!G"&U97)) -> #VALUE! | P97: =SEARCH($P$6,INDIRECT("route!G"&U97)) -> #VALUE! | Q97: =SEARCH($Q$6,INDIRECT("route!G"&U97)) -> #VALUE! | R97: =SEARCH($R$6,INDIRECT("route!G"&U97)) -> #VALUE! | S97: =SEARCH($S$6,INDIRECT("route!G"&U97)) -> #VALUE! | T97: =AND(ISERROR(O97),ISERROR(P97),ISERROR(Q97),ISERROR(R97),ISERROR(S97)) -> TRUE | U97: 97
A98: {=IF(INDIRECT("route!D98")>0,L98,(""))} | B98: {=IF(INDIRECT("route!D98")>0,H98,(""))} | C98: =IF(D98>0,VLOOKUP("EINDE NEUTR*",INDIRECT("route!D$6"):INDIRECT("route!E$8500"),2,FALSE)-D98," ") | D98: {=INDIRECT("route!E98")} -> 0 | E98: =IF($T98=TRUE,"",N98-N97) | F98: 7.2 | G98: =TIME(0,0,0+M98*1000/F98) -> 0 | H98: =H97+G98 -> #NUM! | I98: 7.2 | J98: =TIME(0,0,0+M98*1000/I98) -> 0 | L98: =L97+J98 -> #NUM! | M98: {=INDIRECT("route!E98")-INDIRECT("route!E97")} -> 0 | N98: {=IF(INDIRECT("route!D98")="START",0,IF(T98=TRUE,N97,INDIRECT("route!E98")))} -> 4.7 | O98: =SEARCH($O$6,INDIRECT("route!G"&U98)) -> #VALUE! | P98: =SEARCH($P$6,INDIRECT("route!G"&U98)) -> #VALUE! | Q98: =SEARCH($Q$6,INDIRECT("route!G"&U98)) -> #VALUE! | R98: =SEARCH($R$6,INDIRECT("route!G"&U98)) -> #VALUE! | S98: =SEARCH($S$6,INDIRECT("route!G"&U98)) -> #VALUE! | T98: =AND(ISERROR(O98),ISERROR(P98),ISERROR(Q98),ISERROR(R98),ISERROR(S98)) -> TRUE | U98: 98
A99: {=IF(INDIRECT("route!D99")>0,L99,(""))} | B99: {=IF(INDIRECT("route!D99")>0,H99,(""))} | C99: =IF(D99>0,VLOOKUP("EINDE NEUTR*",INDIRECT("route!D$6"):INDIRECT("route!E$8500"),2,FALSE)-D99," ") | D99: {=INDIRECT("route!E99")} -> 0 | E99: =IF($T99=TRUE,"",N99-N98) | F99: 7.2 | G99: =TIME(0,0,0+M99*1000/F99) -> 0 | H99: =H98+G99 -> #NUM! | I99: 7.2 | J99: =TIME(0,0,0+M99*1000/I99) -> 0 | L99: =L98+J99 -> #NUM! | M99: {=INDIRECT("route!E99")-INDIRECT("route!E98")} -> 0 | N99: {=IF(INDIRECT("route!D99")="START",0,IF(T99=TRUE,N98,INDIRECT("route!E99")))} -> 4.7 | O99: =SEARCH($O$6,INDIRECT("route!G"&U99)) -> #VALUE! | P99: =SEARCH($P$6,INDIRECT("route!G"&U99)) -> #VALUE! | Q99: =SEARCH($Q$6,INDIRECT("route!G"&U99)) -> #VALUE! | R99: =SEARCH($R$6,INDIRECT("route!G"&U99)) -> #VALUE! | S99: =SEARCH($S$6,INDIRECT("route!G"&U99)) -> #VALUE! | T99: =AND(ISERROR(O99),ISERROR(P99),ISERROR(Q99),ISERROR(R99),ISERROR(S99)) -> TRUE | U99: 99
A100: {=IF(INDIRECT("route!D100")>0,L100,(""))} | B100: {=IF(INDIRECT("route!D100")>0,H100,(""))} | C100: =IF(D100>0,VLOOKUP("EINDE NEUTR*",INDIRECT("route!D$6"):INDIRECT("route!E$8500"),2,FALSE)-D100," ") | D100: {=INDIRECT("route!E100")} -> 0 | E100: =IF($T100=TRUE,"",N100-N99) | F100: 7.2 | G100: =TIME(0,0,0+M100*1000/F100) -> 0 | H100: =H99+G100 -> #NUM! | I100: 7.2 | J100: =TIME(0,0,0+M100*1000/I100) -> 0 | L100: =L99+J100 -> #NUM! | M100: {=INDIRECT("route!E100")-INDIRECT("route!E99")} -> 0 | N100: {=IF(INDIRECT("route!D100")="START",0,IF(T100=TRUE,N99,INDIRECT("route!E100")))} -> 4.7 | O100: =SEARCH($O$6,INDIRECT("route!G"&U100)) -> #VALUE! | P100: =SEARCH($P$6,INDIRECT("route!G"&U100)) -> #VALUE! | Q100: =SEARCH($Q$6,INDIRECT("route!G"&U100)) -> #VALUE! | R100: =SEARCH($R$6,INDIRECT("route!G"&U100)) -> #VALUE! | S100: =SEARCH($S$6,INDIRECT("route!G"&U100)) -> #VALUE! | T100: =AND(ISERROR(O100),ISERROR(P100),ISERROR(Q100),ISERROR(R100),ISERROR(S100)) -> TRUE | U100: 100
A101: {=IF(INDIRECT("route!D101")>0,L101,(""))} | B101: {=IF(INDIRECT("route!D101")>0,H101,(""))} | C101: =IF(D101>0,VLOOKUP("EINDE NEUTR*",INDIRECT("route!D$6"):INDIRECT("route!E$8500"),2,FALSE)-D101," ") | D101: {=INDIRECT("route!E101")} -> 0 | E101: =IF($T101=TRUE,"",N101-N100) | F101: 7.2 | G101: =TIME(0,0,0+M101*1000/F101) -> 0 | H101: =H100+G101 -> #NUM! | I101: 7.2 | J101: =TIME(0,0,0+M101*1000/I101) -> 0 | L101: =L100+J101 -> #NUM! | M101: {=INDIRECT("route!E101")-INDIRECT("route!E100")} -> 0 | N101: {=IF(INDIRECT("route!D101")="START",0,IF(T101=TRUE,N100,INDIRECT("route!E101")))} -> 4.7 | O101: =SEARCH($O$6,INDIRECT("route!G"&U101)) -> #VALUE! | P101: =SEARCH($P$6,INDIRECT("route!G"&U101)) -> #VALUE! | Q101: =SEARCH($Q$6,INDIRECT("route!G"&U101)) -> #VALUE! | R101: =SEARCH($R$6,INDIRECT("route!G"&U101)) -> #VALUE! | S101: =SEARCH($S$6,INDIRECT("route!G"&U101)) -> #VALUE! | T101: =AND(ISERROR(O101),ISERROR(P101),ISERROR(Q101),ISERROR(R101),ISERROR(S101)) -> TRUE | U101: 101
A102: {=IF(INDIRECT("route!D102")>0,L102,(""))} | B102: {=IF(INDIRECT("route!D102")>0,H102,(""))} | C102: =IF(D102>0,VLOOKUP("EINDE NEUTR*",INDIRECT("route!D$6"):INDIRECT("route!E$8500"),2,FALSE)-D102," ") | D102: {=INDIRECT("route!E102")} -> 0 | E102: =IF($T102=TRUE,"",N102-N101) | F102: 7.2 | G102: =TIME(0,0,0+M102*1000/F102) -> 0 | H102: =H101+G102 -> #NUM! | I102: 7.2 | J102: =TIME(0,0,0+M102*1000/I102) -> 0 | L102: =L101+J102 -> #NUM! | M102: {=INDIRECT("route!E102")-INDIRECT("route!E101")} -> 0 | N102: {=IF(INDIRECT("route!D102")="START",0,IF(T102=TRUE,N101,INDIRECT("route!E102")))} -> 4.7 | O102: =SEARCH($O$6,INDIRECT("route!G"&U102)) -> #VALUE! | P102: =SEARCH($P$6,INDIRECT("route!G"&U102)) -> #VALUE! | Q102: =SEARCH($Q$6,INDIRECT("route!G"&U102)) -> #VALUE! | R102: =SEARCH($R$6,INDIRECT("route!G"&U102)) -> #VALUE! | S102: =SEARCH($S$6,INDIRECT("route!G"&U102)) -> #VALUE! | T102: =AND(ISERROR(O102),ISERROR(P102),ISERROR(Q102),ISERROR(R102),ISERROR(S102)) -> TRUE | U102: 102
...

Sheet Matrix1
A1: MBT | B1: Post | C1: Tijd | E1: MBT | F1: Post | G1: Tijd | I1: MBT | J1: Post | K1: Tijd | M1: MBT | N1: Post | O1: Tijd | Q1: MBT | R1: Post | S1: Tijd | U1: MBT | V1: Post | W1: Tijd | Y1: MBT | Z1: Post | AA1: Tijd
A2: =Sortering!A2 -> 0 | B2: =Sortering!B2 -> 76a | C2: =Sortering!C2 -> 0.54930556 | E2: =Sortering!A6 -> 0 | F2: =Sortering!B6 -> 169b | G2: =Sortering!C6 -> 0.60902778
A3: =Sortering!A3 -> 0 | B3: =Sortering!B3 -> 158a | C3: =Sortering!C3 -> 0.59375
A4: =Sortering!A4 -> 0 | B4: =Sortering!B4 -> 158b | C4: =Sortering!C4 -> 0.59513889 | E4: =Sortering!A24 -> 0 | F4: =Sortering!B24 -> ao | G4: =Sortering!C24 -> 0.50555556
A5: =Sortering!A5 -> 0 | B5: =Sortering!B5 -> 169a | C5: =Sortering!C5 -> 0.60833333 | E5: =Sortering!A25 -> 12 | F5: =Sortering!B25 -> ap | G5: =Sortering!C25 -> 0.50555556
A6: =Sortering!A6 -> 0 | B6: =Sortering!B6 -> 169b | C6: =Sortering!C6 -> 0.60902778
A7: =#REF! -> #REF! | B7: =#REF! -> #REF! | C7: =#REF! -> #REF!
A8: =Sortering!A7 -> 0 | B8: =Sortering!B7 -> 210a | C8: =Sortering!C7 -> 0.62222222
A9: =Sortering!A8 -> 0 | B9: =Sortering!B8 -> 210b | C9: =Sortering!C8 -> 0.62361111
A10: =Sortering!A9 -> 0 | B10: =Sortering!B9 -> a | C10: =Sortering!C9 -> 0.5
A11: =Sortering!A10 -> 0 | B11: =Sortering!B10 -> aa | C11: =Sortering!C10 -> 0.50347222
A12: =Sortering!A11 -> 0 | B12: =Sortering!B11 -> ab | C12: =Sortering!C11 -> 0.50347222
A13: =Sortering!A12 -> 0 | B13: =Sortering!B12 -> ac | C13: =Sortering!C12 -> 0.50347222
A14: =Sortering!A13 -> 0 | B14: =Sortering!B13 -> ad | C14: =Sortering!C13 -> 0.50347222
A15: =Sortering!A14 -> 9 | B15: =Sortering!B14 -> ae | C15: =Sortering!C14 -> 0.50347222
A16: =Sortering!A15 -> 0 | B16: =Sortering!B15 -> af | C16: =Sortering!C15 -> 0.50347222
A17: =Sortering!A16 -> 0 | B17: =Sortering!B16 -> ag | C17: =Sortering!C16 -> 0.50416667
A18: =Sortering!A26 -> 0 | B18: =Sortering!B26 -> aq | C18: =Sortering!C26 -> 0.50625
A19: =Sortering!A27 -> 13 | B19: =Sortering!B27 -> ar | C19: =Sortering!C27 -> 0.50694444
A20: =Sortering!A28 -> 0 | B20: =Sortering!B28 -> as | C20: =Sortering!C28 -> 0.50694444
A21: =Sortering!A29 -> 0 | B21: =Sortering!B29 -> b | C21: =Sortering!C29 -> 0.5
A22: =Sortering!A30 -> 0 | B22: =Sortering!B30 -> c | C22: =Sortering!C30 -> 0.5
A23: =Sortering!A31 -> 1 | B23: =Sortering!B31 -> d | C23: =Sortering!C31 -> 0.5
A24: =Sortering!A32 -> 0 | B24: =Sortering!B32 -> e | C24: =Sortering!C32 -> 0.5
A25: =Sortering!A33 -> 2 | B25: =Sortering!B33 -> f | C25: =Sortering!C33 -> 0.5
A26: =Sortering!A34 -> 0 | B26: =Sortering!B34 -> g | C26: =Sortering!C34 -> 0.50069444
A27: =Sortering!A35 -> 0 | B27: =Sortering!B35 -> h | C27: =Sortering!C35 -> 0.50069444
A28: =Sortering!A36 -> 0 | B28: =Sortering!B36 -> i | C28: =Sortering!C36 -> 0.50069444
A29: =Sortering!A37 -> 8 | B29: =Sortering!B37 -> ij | C29: =Sortering!C37 -> 0.50277778
... A31: =Sortering!A39 -> 3 | B31: =Sortering!B39 -> k | C31: =Sortering!C39 -> 0.50069444
A32: =Sortering!A42 -> 0 | B32: =Sortering!B42 -> n | C32: =Sortering!C42 -> 0.50069444
A33: =Sortering!A43 -> 4 | B33: =Sortering!B43 -> o | C33: =Sortering!C43 -> 0.50138889
A34: =Sortering!A44 -> 0 | B34: =Sortering!B44 -> p | C34: =Sortering!C44 -> 0.50138889
A35: =Sortering!A45 -> 46178 | B35: =Sortering!B45 -> q | C35: =Sortering!C45 -> 0.50138889
A36: =Sortering!A46 -> 0 | B36: =Sortering!B46 -> r | C36: =Sortering!C46 -> 0.50208333
A37: =Sortering!A47 -> 0 | B37: =Sortering!B47 -> s | C37: =Sortering!C47 -> 0.50208333
A38: =Sortering!A48 -> 0 | B38: =Sortering!B48 -> t | C38: =Sortering!C48 -> 0.50208333
A39: =Sortering!A49 -> 0 | B39: =Sortering!B49 -> u | C39: =Sortering!C49 -> 0.50208333
A40: =Sortering!A50 -> 0 | B40: =Sortering!B50 -> v | C40: =Sortering!C50 -> 0.50277778

Sheet Matrix
C1: Motor Nr. | D1: Post | E1: Tijd | F1: Post | G1: Tijd | H1: Verschil | I1: Post | J1: Tijd | K1: Verschil | L1: Post | M1: Tijd | N1: Verschil | O1: Post | P1: Tijd | Q1: Verschil | R1: Post | S1: Tijd | T1: Verschil | U1: Post | V1: Tijd | W1: Verschil
C2: 1 | D2: =VLOOKUP(C2, [1]Sortering1!A:B, 2, FALSE) -> #N/A | E2: =IFERROR(VLOOKUP(D2, Sortering!B:C, 2, FALSE), "") | F2: =IFERROR(VLOOKUP(C2, Matrix1!E:F, 2, FALSE), "") | G2: =IFERROR(VLOOKUP(F2, Matrix1!F:G, 2, FALSE), "") | H2: =G2-E2 -> #VALUE! | I2: {=Matrix1!J2:J103} -> 0 | J2: {=Matrix1!K2:K103} -> 0 | K2: =J2-G2 -> #VALUE! | L2: {=Matrix1!N2:N99} -> 0 | M2: {=Matrix1!O2:O99} -> 0 | N2: =M2-J2 -> 0 | O2: {=Matrix1!R2:R99} -> 0 | P2: {=Matrix1!S2:S99} -> 0 | Q2: =P2-M2 -> 0 | R2: {=Matrix1!V2:V99} -> 0 | S2: {=Matrix1!W2:W99} -> 0 | T2: =S2-P2 -> 0 | U2: {=Matrix1!Z2:Z99} -> 0 | V2: {=Matrix1!AA2:AA99} -> 0 | W2: =V2-S2 -> 0
C3: 2 | D3: =IFERROR(VLOOKUP(C3, Sortering!A:B, 2, FALSE), "") -> f | E3: =IFERROR(VLOOKUP(D3, Sortering!B:C, 2, FALSE), "") -> 0.5 | F3: =IFERROR(VLOOKUP(C3, Matrix1!E:F, 2, FALSE), "") | G3: =IFERROR(VLOOKUP(F3, Matrix1!F:G, 2, FALSE), "") | H3: =G3-E3 -> #VALUE! | I3: 0 | J3: 0 | K3: =J3-G3 -> #VALUE! | L3: 0 | M3: 0 | N3: =M3-J3 -> 0 | O3: 0 | P3: 0 | Q3: =P3-M3 -> 0 | R3: 0 | S3: 0 | T3: =S3-P3 -> 0 | U3: 0 | V3: 0 | W3: =V3-S3 -> 0
C4: 3 | D4: =IFERROR(VLOOKUP(C4, Sortering!A:B, 2, FALSE), "") -> k | E4: =IFERROR(VLOOKUP(D4, Sortering!B:C, 2, FALSE), "") -> 0.50069444 | F4: =IFERROR(VLOOKUP(C4, Matrix1!E:F, 2, FALSE), "") | G4: =IFERROR(VLOOKUP(F4, Matrix1!F:G, 2, FALSE), "") | H4: =G4-E4 -> #VALUE! | I4: 0 | J4: 0 | K4: =J4-G4 -> #VALUE! | L4: 0 | M4: 0 | N4: =M4-J4 -> 0 | O4: 0 | P4: 0 | Q4: =P4-M4 -> 0 | R4: 0 | S4: 0 | T4: =S4-P4 -> 0 | U4: 0 | V4: 0 | W4: =V4-S4 -> 0
C5: 4 | D5: =IFERROR(VLOOKUP(C5, Sortering!A:B, 2, FALSE), "") -> o | E5: =IFERROR(VLOOKUP(D5, Sortering!B:C, 2, FALSE), "") -> 0.50138889 | F5: =IFERROR(VLOOKUP(C5, Matrix1!E:F, 2, FALSE), "") | G5: =IFERROR(VLOOKUP(F5, Matrix1!F:G, 2, FALSE), "") | H5: =G5-E5 -> #VALUE! | I5: 0 | J5: 0 | K5: =J5-G5 -> #VALUE! | L5: 0 | M5: 0 | N5: =M5-J5 -> 0 | O5: 0 | P5: 0 | Q5: =P5-M5 -> 0 | R5: 0 | S5: 0 | T5: =S5-P5 -> 0 | U5: 0 | V5: 0 | W5: =V5-S5 -> 0
C6: 5 | D6: =IFERROR(VLOOKUP(C6, Sortering!A:B, 2, FALSE), "") -> 46 | E6: =IFERROR(VLOOKUP(D6, Sortering!B:C, 2, FALSE), "") -> 0.53402778 | F6: =IFERROR(VLOOKUP(C6, Matrix1!E:F, 2, FALSE), "") | G6: =IFERROR(VLOOKUP(F6, Matrix1!F:G, 2, FALSE), "") | H6: =G6-E6 -> #VALUE! | I6: 0 | J6: 0 | K6: =J6-G6 -> #VALUE! | L6: 0 | M6: 0 | N6: =M6-J6 -> 0 | O6: 0 | P6: 0 | Q6: =P6-M6 -> 0 | R6: 0 | S6: 0 | T6: =S6-P6 -> 0 | U6: 0 | V6: 0 | W6: =V6-S6 -> 0
C7: 6 | D7: =IFERROR(VLOOKUP(C7, Sortering!A:B, 2, FALSE), "") -> 49 | E7: =IFERROR(VLOOKUP(D7, Sortering!B:C, 2, FALSE), "") -> 0.53472222 | F7: =IFERROR(VLOOKUP(C7, Matrix1!E:F, 2, FALSE), "") | G7: =IFERROR(VLOOKUP(F7, Matrix1!F:G, 2, FALSE), "") | H7: =G7-E7 -> #VALUE! | I7: 0 | J7: 0 | K7: =J7-G7 -> #VALUE! | L7: 0 | M7: 0 | N7: =M7-J7 -> 0 | O7: 0 | P7: 0 | Q7: =P7-M7 -> 0 | R7: 0 | S7: 0 | T7: =S7-P7 -> 0 | U7: 0 | V7: 0 | W7: =V7-S7 -> 0
C8: 7 | D8: =IFERROR(VLOOKUP(C8, Sortering!A:B, 2, FALSE), "") -> w | E8: =IFERROR(VLOOKUP(D8, Sortering!B:C, 2, FALSE), "") -> 0.50277778 | F8: =IFERROR(VLOOKUP(C8, Matrix1!E:F, 2, FALSE), "") | G8: =IFERROR(VLOOKUP(F8, Matrix1!F:G, 2, FALSE), "") | H8: =G8-E8 -> #VALUE! | I8: 0 | J8: 0 | K8: =J8-G8 -> #VALUE! | L8: 0 | M8: 0 | N8: =M8-J8 -> 0 | O8: 0 | P8: 0 | Q8: =P8-M8 -> 0 | R8: 0 | S8: 0 | T8: =S8-P8 -> 0 | U8: 0 | V8: 0 | W8: =V8-S8 -> 0
C9: 8 | D9: =IFERROR(VLOOKUP(C9, Sortering!A:B, 2, FALSE), "") -> ij | E9: =IFERROR(VLOOKUP(D9, Sortering!B:C, 2, FALSE), "") -> 0.50277778 | F9: =IFERROR(VLOOKUP(C9, Matrix1!E:F, 2, FALSE), "") | G9: =IFERROR(VLOOKUP(F9, Matrix1!F:G, 2, FALSE), "") | H9: =G9-E9 -> #VALUE! | I9: 0 | J9: 0 | K9: =J9-G9 -> #VALUE! | L9: 0 | M9: 0 | N9: =M9-J9 -> 0 | O9: 0 | P9: 0 | Q9: =P9-M9 -> 0 | R9: 0 | S9: 0 | T9: =S9-P9 -> 0 | U9: 0 | V9: 0 | W9: =V9-S9 -> 0
C10: 9 | D10: =IFERROR(VLOOKUP(C10, Sortering!A:B, 2, FALSE), "") -> ae | E10: =IFERROR(VLOOKUP(D10, Sortering!B:C, 2, FALSE), "") -> 0.50347222 | F10: =IFERROR(VLOOKUP(C10, Matrix1!E:F, 2, FALSE), "") | G10: =IFERROR(VLOOKUP(F10, Matrix1!F:G, 2, FALSE), "") | H10: =G10-E10 -> #VALUE! | I10: 0 | J10: 0 | K10: =J10-G10 -> #VALUE! | L10: 0 | M10: 0 | N10: =M10-J10 -> 0 | O10: 0 | P10: 0 | Q10: =P10-M10 -> 0 | R10: 0 | S10: 0 | T10: =S10-P10 -> 0 | U10: 0 | V10: 0 | W10: =V10-S10 -> 0
C11: 10 | D11: =IFERROR(VLOOKUP(C11, Sortering!A:B, 2, FALSE), "") -> ak | E11: =IFERROR(VLOOKUP(D11, Sortering!B:C, 2, FALSE), "") -> 0.50486111 | F11: =IFERROR(VLOOKUP(C11, Matrix1!E:F, 2, FALSE), "") | G11: =IFERROR(VLOOKUP(F11, Matrix1!F:G, 2, FALSE), "") | H11: =G11-E11 -> #VALUE! | I11: 0 | J11: 0 | K11: =J11-G11 -> #VALUE! | L11: 0 | M11: 0 | N11: =M11-J11 -> 0 | O11: 0 | P11: 0 | Q11: =P11-M11 -> 0 | R11: 0 | S11: 0 | T11: =S11-P11 -> 0 | U11: 0 | V11: 0 | W11: =V11-S11 -> 0
C12: 11 | D12: =IFERROR(VLOOKUP(C12, Sortering!A:B, 2, FALSE), "") -> am | E12: =IFERROR(VLOOKUP(D12, Sortering!B:C, 2, FALSE), "") -> 0.50486111 | F12: =IFERROR(VLOOKUP(C12, Matrix1!E:F, 2, FALSE), "") | G12: =IFERROR(VLOOKUP(F12, Matrix1!F:G, 2, FALSE), "") | H12: =G12-E12 -> #VALUE! | I12: 0 | J12: 0 | K12: =J12-G12 -> #VALUE! | L12: 0 | M12: 0 | N12: =M12-J12 -> 0 | O12: 0 | P12: 0 | Q12: =P12-M12 -> 0 | R12: 0 | S12: 0 | T12: =S12-P12 -> 0 | U12: 0 | V12: 0 | W12: =V12-S12 -> 0
C13: 12 | D13: =IFERROR(VLOOKUP(C13, Sortering!A:B, 2, FALSE), "") -> ap | E13: =IFERROR(VLOOKUP(D13, Sortering!B:C, 2, FALSE), "") -> 0.50555556 | F13: =IFERROR(VLOOKUP(C13, Matrix1!E:F, 2, FALSE), "") -> ap | G13: =IFERROR(VLOOKUP(F13, Matrix1!F:G, 2, FALSE), "") -> 0.50555556 | H13: =G13-E13 -> 0 | I13: 0 | J13: 0 | K13: =J13-G13 -> -0.50555556 | L13: 0 | M13: 0 | N13: =M13-J13 -> 0 | O13: 0 | P13: 0 | Q13: =P13-M13 -> 0 | R13: 0 | S13: 0 | T13: =S13-P13 -> 0 | U13: 0 | V13: 0 | W13: =V13-S13 -> 0
C14: 13 | D14: =IFERROR(VLOOKUP(C14, Sortering!A:B, 2, FALSE), "") -> ar | E14: =IFERROR(VLOOKUP(D14, Sortering!B:C, 2, FALSE), "") -> 0.50694444 | F14: =IFERROR(VLOOKUP(C14, Matrix1!E:F, 2, FALSE), "") | G14: =IFERROR(VLOOKUP(F14, Matrix1!F:G, 2, FALSE), "") | H14: =G14-E14 -> #VALUE! | I14: 0 | J14: 0 | K14: =J14-G14 -> #VALUE! | L14: 0 | M14: 0 | N14: =M14-J14 -> 0 | O14: 0 | P14: 0 | Q14: =P14-M14 -> 0 | R14: 0 | S14: 0 | T14: =S14-P14 -> 0 | U14: 0 | V14: 0 | W14: =V14-S14 -> 0
... C16: 15 | D16: =IFERROR(VLOOKUP(C16, Sortering!A:B, 2, FALSE), "") -> 3 | E16: =IFERROR(VLOOKUP(D16, Sortering!B:C, 2, FALSE), "") -> 0.50833333 | F16: =IFERROR(VLOOKUP(C16, Matrix1!E:F, 2, FALSE), "") | G16: =IFERROR(VLOOKUP(F16, Matrix1!F:G, 2, FALSE), "") | H16: =G16-E16 -> #VALUE! | I16: 0 | J16: 0 | K16: =J16-G16 -> #VALUE! | L16: 0 | M16: 0 | N16: =M16-J16 -> 0 | O16: 0 | P16: 0 | Q16: =P16-M16 -> 0 | R16: 0 | S16: 0 | T16: =S16-P16 -> 0 | U16: 0 | V16: 0 | W16: =V16-S16 -> 0
C17: 16 | D17: =IFERROR(VLOOKUP(C17, Sortering!A:B, 2, FALSE), "") -> 67 | E17: =IFERROR(VLOOKUP(D17, Sortering!B:C, 2, FALSE), "") -> 0.54583333 | H17: =G17-E17 -> -0.54583333 | I17: 0 | J17: 0 | K17: =J17-G17 -> 0 | L17: 0 | M17: 0 | N17: =M17-J17 -> 0 | O17: 0 | P17: 0 | Q17: =P17-M17 -> 0 | R17: 0 | S17: 0 | T17: =S17-P17 -> 0 | U17: 0 | V17: 0 | W17: =V17-S17 -> 0
C18: 17 | D18: =IFERROR(VLOOKUP(C18, Sortering!A:B, 2, FALSE), "") -> 69 | E18: =IFERROR(VLOOKUP(D18, Sortering!B:C, 2, FALSE), "") -> 0.54722222 | H18: =G18-E18 -> -0.54722222 | I18: 0 | J18: 0 | K18: =J18-G18 -> 0 | L18: 0 | M18: 0 | N18: =M18-J18 -> 0 | O18: 0 | P18: 0 | Q18: =P18-M18 -> 0 | R18: 0 | S18: 0 | T18: =S18-P18 -> 0 | U18: 0 | V18: 0 | W18: =V18-S18 -> 0
C19: 18 | D19: =IFERROR(VLOOKUP(C19, Sortering!A:B, 2, FALSE), "") -> 5 | E19: =IFERROR(VLOOKUP(D19, Sortering!B:C, 2, FALSE), "") -> 0.50833333 | H19: =G19-E19 -> -0.50833333 | I19: 0 | J19: 0 | K19: =J19-G19 -> 0 | L19: 0 | M19: 0 | N19: =M19-J19 -> 0 | O19: 0 | P19: 0 | Q19: =P19-M19 -> 0 | R19: 0 | S19: 0 | T19: =S19-P19 -> 0 | U19: 0 | V19: 0 | W19: =V19-S19 -> 0
C20: 19 | D20: =IFERROR(VLOOKUP(C20, Sortering!A:B, 2, FALSE), "") -> 6 | E20: =IFERROR(VLOOKUP(D20, Sortering!B:C, 2, FALSE), "") -> 0.50902778 | H20: =G20-E20 -> -0.50902778 | I20: 0 | J20: 0 | K20: =J20-G20 -> 0 | L20: 0 | M20: 0 | N20: =M20-J20 -> 0 | O20: 0 | P20: 0 | Q20: =P20-M20 -> 0 | R20: 0 | S20: 0 | T20: =S20-P20 -> 0 | U20: 0 | V20: 0 | W20: =V20-S20 -> 0
C21: 20 | D21: =IFERROR(VLOOKUP(C21, Sortering!A:B, 2, FALSE), "") -> 10 | E21: =IFERROR(VLOOKUP(D21, Sortering!B:C, 2, FALSE), "") -> 0.51111111 | H21: =G21-E21 -> -0.51111111 | I21: 0 | J21: 0 | K21: =J21-G21 -> 0 | L21: 0 | M21: 0 | N21: =M21-J21 -> 0 | O21: 0 | P21: 0 | Q21: =P21-M21 -> 0 | R21: 0 | S21: 0 | T21: =S21-P21 -> 0 | U21: 0 | V21: 0 | W21: =V21-S21 -> 0
C22: 21 | D22: =IFERROR(VLOOKUP(C22, Sortering!A:B, 2, FALSE), "") -> 14 | E22: =IFERROR(VLOOKUP(D22, Sortering!B:C, 2, FALSE), "") -> 0.5125 | H22: =G22-E22 -> -0.5125 | I22: 0 | J22: 0 | K22: =J22-G22 -> 0 | L22: 0 | M22: 0 | N22: =M22-J22 -> 0 | O22: 0 | P22: 0 | Q22: =P22-M22 -> 0 | R22: 0 | S22: 0 | T22: =S22-P22 -> 0 | U22: 0 | V22: 0 | W22: =V22-S22 -> 0
C23: 22 | D23: =IFERROR(VLOOKUP(C23, Sortering!A:B, 2, FALSE), "") -> 15 | E23: =IFERROR(VLOOKUP(D23, Sortering!B:C, 2, FALSE), "") -> 0.51319444 | H23: =G23-E23 -> -0.51319444 | I23: 0 | J23: 0 | K23: =J23-G23 -> 0 | L23: 0 | M23: 0 | N23: =M23-J23 -> 0 | O23: 0 | P23: 0 | Q23: =P23-M23 -> 0 | R23: 0 | S23: 0 | T23: =S23-P23 -> 0 | U23: 0 | V23: 0 | W23: =V23-S23 -> 0
C24: 23 | D24: =IFERROR(VLOOKUP(C24, Sortering!A:B, 2, FALSE), "") -> 18 | E24: =IFERROR(VLOOKUP(D24, Sortering!B:C, 2, FALSE), "") -> 0.51527778 | H24: =G24-E24 -> -0.51527778 | I24: 0 | J24: 0 | K24: =J24-G24 -> 0 | L24: 0 | M24: 0 | N24: =M24-J24 -> 0 | O24: 0 | P24: 0 | Q24: =P24-M24 -> 0 | R24: 0 | S24: 0 | T24: =S24-P24 -> 0 | U24: 0 | V24: 0 | W24: =V24-S24 -> 0
C25: 24 | D25: =IFERROR(VLOOKUP(C25, Sortering!A:B, 2, FALSE), "") -> 19 | E25: =IFERROR(VLOOKUP(D25, Sortering!B:C, 2, FALSE), "") -> 0.51597222 | H25: =G25-E25 -> -0.51597222 | I25: 0 | J25: 0 | K25: =J25-G25 -> 0 | L25: 0 | M25: 0 | N25: =M25-J25 -> 0 | O25: 0 | P25: 0 | Q25: =P25-M25 -> 0 | R25: 0 | S25: 0 | T25: =S25-P25 -> 0 | U25: 0 | V25: 0 | W25: =V25-S25 -> 0
C26: 25 | D26: =IFERROR(VLOOKUP(C26, Sortering!A:B, 2, FALSE), "") -> 20 | E26: =IFERROR(VLOOKUP(D26, Sortering!B:C, 2, FALSE), "") -> 0.51597222 | H26: =G26-E26 -> -0.51597222 | I26: 0 | J26: 0 | K26: =J26-G26 -> 0 | L26: 0 | M26: 0 | N26: =M26-J26 -> 0 | O26: 0 | P26: 0 | Q26: =P26-M26 -> 0 | R26: 0 | S26: 0 | T26: =S26-P26 -> 0 | U26: 0 | V26: 0 | W26: =V26-S26 -> 0
C27: 26 | D27: =IFERROR(VLOOKUP(C27, Sortering!A:B, 2, FALSE), "") -> 21 | E27: =IFERROR(VLOOKUP(D27, Sortering!B:C, 2, FALSE), "") -> 0.51666667 | H27: =G27-E27 -> -0.51666667 | I27: 0 | J27: 0 | K27: =J27-G27 -> 0 | L27: 0 | M27: 0 | N27: =M27-J27 -> 0 | O27: 0 | P27: 0 | Q27: =P27-M27 -> 0 | R27: 0 | S27: 0 | T27: =S27-P27 -> 0 | U27: 0 | V27: 0 | W27: =V27-S27 -> 0
C28: 27 | D28: =IFERROR(VLOOKUP(C28, Sortering!A:B, 2, FALSE), "") -> 22 | E28: =IFERROR(VLOOKUP(D28, Sortering!B:C, 2, FALSE), "") -> 0.51666667 | H28: =G28-E28 -> -0.51666667 | I28: 0 | J28: 0 | K28: =J28-G28 -> 0 | L28: 0 | M28: 0 | N28: =M28-J28 -> 0 | O28: 0 | P28: 0 | Q28: =P28-M28 -> 0 | R28: 0 | S28: 0 | T28: =S28-P28 -> 0 | U28: 0 | V28: 0 | W28: =V28-S28 -> 0
... C31: 30 | D31: =IFERROR(VLOOKUP(C31, Sortering!A:B, 2, FALSE), "") -> 26 | E31: =IFERROR(VLOOKUP(D31, Sortering!B:C, 2, FALSE), "") -> 0.51875 | H31: =G31-E31 -> -0.51875 | I31: 0 | J31: 0 | K31: =J31-G31 -> 0 | L31: 0 | M31: 0 | N31: =M31-J31 -> 0 | O31: 0 | P31: 0 | Q31: =P31-M31 -> 0 | R31: 0 | S31: 0 | T31: =S31-P31 -> 0 | U31: 0 | V31: 0 | W31: =V31-S31 -> 0
C32: 31 | H32: =G32-E32 -> 0 | I32: 0 | J32: 0 | K32: =J32-G32 -> 0 | L32: 0 | M32: 0 | N32: =M32-J32 -> 0 | O32: 0 | P32: 0 | Q32: =P32-M32 -> 0 | R32: 0 | S32: 0 | T32: =S32-P32 -> 0 | U32: 0 | V32: 0 | W32: =V32-S32 -> 0
C33: 32 | H33: =G33-E33 -> 0 | I33: 0 | J33: 0 | K33: =J33-G33 -> 0 | L33: 0 | M33: 0 | N33: =M33-J33 -> 0 | O33: 0 | P33: 0 | Q33: =P33-M33 -> 0 | R33: 0 | S33: 0 | T33: =S33-P33 -> 0 | U33: 0 | V33: 0 | W33: =V33-S33 -> 0
C34: 33 | H34: =G34-E34 -> 0 | I34: 0 | J34: 0 | K34: =J34-G34 -> 0 | L34: 0 | M34: 0 | N34: =M34-J34 -> 0 | O34: 0 | P34: 0 | Q34: =P34-M34 -> 0 | R34: 0 | S34: 0 | T34: =S34-P34 -> 0 | U34: 0 | V34: 0 | W34: =V34-S34 -> 0
C35: 34 | H35: =G35-E35 -> 0 | I35: 0 | J35: 0 | K35: =J35-G35 -> 0 | L35: 0 | M35: 0 | N35: =M35-J35 -> 0 | O35: 0 | P35: 0 | Q35: =P35-M35 -> 0 | R35: 0 | S35: 0 | T35: =S35-P35 -> 0 | U35: 0 | V35: 0 | W35: =V35-S35 -> 0
C36: 35 | H36: =G36-E36 -> 0 | I36: 0 | J36: 0 | K36: =J36-G36 -> 0 | L36: 0 | M36: 0 | N36: =M36-J36 -> 0 | O36: 0 | P36: 0 | Q36: =P36-M36 -> 0 | R36: 0 | S36: 0 | T36: =S36-P36 -> 0 | U36: 0 | V36: 0 | W36: =V36-S36 -> 0
C37: 36 | H37: =G37-E37 -> 0 | I37: 0 | J37: 0 | K37: =J37-G37 -> 0 | L37: 0 | M37: 0 | N37: =M37-J37 -> 0 | O37: 0 | P37: 0 | Q37: =P37-M37 -> 0 | R37: 0 | S37: 0 | T37: =S37-P37 -> 0 | U37: 0 | V37: 0 | W37: =V37-S37 -> 0
C38: 37 | H38: =G38-E38 -> 0 | I38: 0 | J38: 0 | K38: =J38-G38 -> 0 | L38: 0 | M38: 0 | N38: =M38-J38 -> 0 | O38: 0 | P38: 0 | Q38: =P38-M38 -> 0 | R38: 0 | S38: 0 | T38: =S38-P38 -> 0 | U38: 0 | V38: 0 | W38: =V38-S38 -> 0
C39: 38 | H39: =G39-E39 -> 0 | I39: 0 | J39: 0 | K39: =J39-G39 -> 0 | L39: 0 | M39: 0 | N39: =M39-J39 -> 0 | O39: 0 | P39: 0 | Q39: =P39-M39 -> 0 | R39: 0 | S39: 0 | T39: =S39-P39 -> 0 | U39: 0 | V39: 0 | W39: =V39-S39 -> 0
C40: 39 | H40: =G40-E40 -> 0 | I40: 0 | J40: 0 | K40: =J40-G40 -> 0 | L40: 0 | M40: 0 | N40: =M40-J40 -> 0 | O40: 0 | P40: 0 | Q40: =P40-M40 -> 0 | R40: 0 | S40: 0 | T40: =S40-P40 -> 0 | U40: 0 | V40: 0 | W40: =V40-S40 -> 0
C41: 40 | H41: =G41-E41 -> 0 | I41: 0 | J41: 0 | K41: =J41-G41 -> 0 | L41: 0 | M41: 0 | N41: =M41-J41 -> 0 | O41: 0 | P41: 0 | Q41: =P41-M41 -> 0 | R41: 0 | S41: 0 | T41: =S41-P41 -> 0 | U41: 0 | V41: 0 | W41: =V41-S41 -> 0
C42: 41 | H42: =G42-E42 -> 0 | I42: 0 | J42: 0 | K42: =J42-G42 -> 0 | L42: 0 | M42: 0 | N42: =M42-J42 -> 0 | O42: 0 | P42: 0 | Q42: =P42-M42 -> 0 | R42: 0 | S42: 0 | T42: =S42-P42 -> 0 | U42: 0 | V42: 0 | W42: =V42-S42 -> 0
C43: 42 | H43: =G43-E43 -> 0 | I43: 0 | J43: 0 | K43: =J43-G43 -> 0 | L43: 0 | M43: 0 | N43: =M43-J43 -> 0 | O43: 0 | P43: 0 | Q43: =P43-M43 -> 0 | R43: 0 | S43: 0 | T43: =S43-P43 -> 0 | U43: 0 | V43: 0 | W43: =V43-S43 -> 0
... C56: 55 | H56: =G56-E56 -> 0 | I56: 0 | J56: 0 | K56: =J56-G56 -> 0 | L56: 0 | M56: 0 | N56: =M56-J56 -> 0 | O56: 0 | P56: 0 | Q56: =P56-M56 -> 0 | R56: 0 | S56: 0 | T56: =S56-P56 -> 0 | U56: 0 | V56: 0 | W56: =V56-S56 -> 0
I57: 0 | J57: 0 | L57: 0 | M57: 0 | O57: 0 | P57: 0 | R57: 0 | S57: 0 | U57: 0 | V57: 0
I58: 0 | J58: 0 | L58: 0 | M58: 0 | O58: 0 | P58: 0 | R58: 0 | S58: 0 | U58: 0 | V58: 0
I59: 0 | J59: 0 | L59: 0 | M59: 0 | O59: 0 | P59: 0 | R59: 0 | S59: 0 | U59: 0 | V59: 0
I60: 0 | J60: 0 | L60: 0 | M60: 0 | O60: 0 | P60: 0 | R60: 0 | S60: 0 | U60: 0 | V60: 0
I61: 0 | J61: 0 | L61: 0 | M61: 0 | O61: 0 | P61: 0 | R61: 0 | S61: 0 | U61: 0 | V61: 0
I62: 0 | J62: 0 | L62: 0 | M62: 0 | O62: 0 | P62: 0 | R62: 0 | S62: 0 | U62: 0 | V62: 0
I63: 0 | J63: 0 | L63: 0 | M63: 0 | O63: 0 | P63: 0 | R63: 0 | S63: 0 | U63: 0 | V63: 0
I64: 0 | J64: 0 | L64: 0 | M64: 0 | O64: 0 | P64: 0 | R64: 0 | S64: 0 | U64: 0 | V64: 0
I65: 0 | J65: 0 | L65: 0 | M65: 0 | O65: 0 | P65: 0 | R65: 0 | S65: 0 | U65: 0 | V65: 0
I66: 0 | J66: 0 | L66: 0 | M66: 0 | O66: 0 | P66: 0 | R66: 0 | S66: 0 | U66: 0 | V66: 0
I67: 0 | J67: 0 | L67: 0 | M67: 0 | O67: 0 | P67: 0 | R67: 0 | S67: 0 | U67: 0 | V67: 0
I68: 0 | J68: 0 | L68: 0 | M68: 0 | O68: 0 | P68: 0 | R68: 0 | S68: 0 | U68: 0 | V68: 0
... I99: 0 | J99: 0 | L99: 0 | M99: 0 | O99: 0 | P99: 0 | R99: 0 | S99: 0 | U99: 0 | V99: 0
I100: 0 | J100: 0
I101: 0 | J101: 0
I102: 0 | J102: 0
I103: 0 | J103: 0

Sheet kop
A1: Versie: | C1: MO | D1: Simac ladies Tour 2023 | L1: 0
A2: Van: | B2: 45119 | D2: 4e Etappe Valkenburg KOPMOTOR | L2: 0
L3: 0
A4: km/u | B4: km/u | D4: 45178 | L4: 0
A5: 44 | B5: 40 | D5: vertrek/départ | E5: 0.49305556 | F5: h / u | J5: =IF(ISNA($L$5),"Na de Finish-vermelding, in kolom D, wordt hier de totale lengte van de dagetappe vermeld","Afstand / Distance : "&TEXT($L$5,"0,0")&" km") -> Afstand / Distance : 0,0 km
A6: door komst tijd | B6: door komst tijd | C6: nog te rijden km's | D6: PLAATS | E6: gereden km's | F6: tussen afstand | G6: Richting | J6: OMSCHRIJVING | K6: (KRUISENDE WEG) | L6: nr.
A7: =Blad1!A7-TIME(0,10,0) -> 0.49305556 | B7: =Blad1!B7 -> 0.5 | C7: =IF(ISERROR(Blad1!C7),"",Blad1!C7) -> 4.9 | D7: Valkenburg | E7: 0 | F7: =Blad1!E7 | J7: Nederland, prov. Limburg | K7: VERTREK
A8: =Blad1!A8-TIME(0,10,0) -> 0.49305556 | B8: =Blad1!B8 -> 0.5 | C8: =IF(ISERROR(Blad1!C8),"",Blad1!C8) -> 4.9 | D8: Valkenburg | E8: 0 | F8: =Blad1!E8 -> 0 | J8: Col de Cauberg | L8: a
A9: =Blad1!A9 -> 0.50015046 | B9: =Blad1!B9 -> 0.50015046 | C9: =IF(ISERROR(Blad1!C9),"",Blad1!C9) -> 4.8 | F9: =Blad1!E9 | L9: c
A10: =Blad1!A10 -> 0.50030093 | B10: =Blad1!B10 -> 0.50030093 | C10: =IF(ISERROR(Blad1!C10),"",Blad1!C10) -> 4.7 | F10: =Blad1!E10 -> 0.2 | L10: d
A11: =Blad1!A11 -> 0.50045139 | B11: =Blad1!B11 -> 0.50045139 | C11: =IF(ISERROR(Blad1!C11),"",Blad1!C11) -> 4.6 | F11: =Blad1!E11 | L11: e
A12: =Blad1!A12 -> 0.50060185 | B12: =Blad1!B12 -> 0.50060185 | C12: =IF(ISERROR(Blad1!C12),"",Blad1!C12) -> 4.5 | F12: =Blad1!E12 -> 0.2 | L12: f
A13: =Blad1!A13 -> 0.50075231 | B13: =Blad1!B13 -> 0.50075231 | C13: =IF(ISERROR(Blad1!C13),"",Blad1!C13) -> 4.4 | F13: =Blad1!E13 | L13: g
A14: =Blad1!A14 -> 0.50075231 | B14: =Blad1!B14 -> 0.50075231 | C14: =IF(ISERROR(Blad1!C14),"",Blad1!C14) -> 4.4 | F14: =Blad1!E14 | L14: h
A15: =Blad1!A15 -> 0.50075231 | B15: =Blad1!B15 -> 0.50075231 | C15: =IF(ISERROR(Blad1!C15),"",Blad1!C15) -> 4.4 | F15: =Blad1!E15 | L15: i
A16: =Blad1!A16 -> 0.50075231 | B16: =Blad1!B16 -> 0.50075231 | C16: =IF(ISERROR(Blad1!C16),"",Blad1!C16) -> 4.4 | F16: =Blad1!E16 | L16: j
A17: =Blad1!A17 -> 0.50090278 | B17: =Blad1!B17 -> 0.50090278 | C17: =IF(ISERROR(Blad1!C17),"",Blad1!C17) -> 4.3 | F17: =Blad1!E17 -> 0.2 | L17: k
A18: =Blad1!A18 -> 0.50105324 | B18: =Blad1!B18 -> 0.50105324 | C18: =IF(ISERROR(Blad1!C18),"",Blad1!C18) -> 4.2 | F18: =Blad1!E18 | L18: l
A19: =Blad1!A19 -> 0.5012037 | B19: =Blad1!B19 -> 0.5012037 | C19: =IF(ISERROR(Blad1!C19),"",Blad1!C19) -> 4.1 | F19: =Blad1!E19 | L19: m
A20: =Blad1!A20 -> 0.5012037 | B20: =Blad1!B20 -> 0.5012037 | C20: =IF(ISERROR(Blad1!C20),"",Blad1!C20) -> 4.1 | F20: =Blad1!E20 | L20: n
... A22: =Blad1!A22 -> 0.5015162 | B22: =Blad1!B22 -> 0.5015162 | C22: =IF(ISERROR(Blad1!C22),"",Blad1!C22) -> 3.9 | F22: =Blad1!E22 | L22: p
A23: =Blad1!A23-TIME(0,10,0) -> 0.49472222 | B23: =Blad1!B23 -> 0.50166667 | C23: =IF(ISERROR(Blad1!C23),"",Blad1!C23) -> 3.8 | D23: einde neutralisatie | E23: 0.8 | F23: =Blad1!E23 -> 0.1 | J23: -re.do- Col de Cauberg | L23: b
A24: =Blad1!A24 -> 0.50230324 | B24: =Blad1!B24 -> 0.50230324 | C24: =IF(ISERROR(Blad1!C24),"",Blad1!C24) -> 3.4 | F24: =Blad1!E24 | L24: r
A25: =Blad1!A25 -> 0.50261574 | B25: =Blad1!B25 -> 0.50261574 | C25: =IF(ISERROR(Blad1!C25),"",Blad1!C25) -> 3.2 | F25: =Blad1!E25 | L25: s
A26: =Blad1!A26 -> 0.50261574 | B26: =Blad1!B26 -> 0.50261574 | C26: =IF(ISERROR(Blad1!C26),"",Blad1!C26) -> 3.2 | F26: =Blad1!E26 | L26: t
A27: =Blad1!A27 -> 0.5027662 | B27: =Blad1!B27 -> 0.5027662 | C27: =IF(ISERROR(Blad1!C27),"",Blad1!C27) -> 3.1 | F27: =Blad1!E27 | L27: u
A28: =Blad1!A28 -> 0.50291667 | B28: =Blad1!B28 -> 0.50291667 | C28: =IF(ISERROR(Blad1!C28),"",Blad1!C28) -> 3 | F28: =Blad1!E28 | L28: v
A29: =Blad1!A29 -> 0.50306713 | B29: =Blad1!B29 -> 0.50306713 | C29: =IF(ISERROR(Blad1!C29),"",Blad1!C29) -> 2.9 | F29: =Blad1!E29 -> 0.9 | L29: w
A30: =Blad1!A30 -> 0.50306713 | B30: =Blad1!B30 -> 0.50306713 | C30: =IF(ISERROR(Blad1!C30),"",Blad1!C30) -> 2.9 | F30: =Blad1!E30 | L30: x
A31: =Blad1!A31 -> 0.50337963 | B31: =Blad1!B31 -> 0.50337963 | C31: =IF(ISERROR(Blad1!C31),"",Blad1!C31) -> 2.7 | F31: =Blad1!E31 | L31: y
A32: =Blad1!A32 -> 0.50353009 | B32: =Blad1!B32 -> 0.50353009 | C32: =IF(ISERROR(Blad1!C32),"",Blad1!C32) -> 2.6 | F32: =Blad1!E32 | L32: z
A33: =Blad1!A33 -> 0.50368056 | B33: =Blad1!B33 -> 0.50368056 | C33: =IF(ISERROR(Blad1!C33),"",Blad1!C33) -> 2.5 | F33: =Blad1!E33 | L33: aa
A34: =Blad1!A34 -> 0.50383102 | B34: =Blad1!B34 -> 0.50383102 | C34: =IF(ISERROR(Blad1!C34),"",Blad1!C34) -> 2.4 | F34: =Blad1!E34 | L34: ba
A35: =Blad1!A35 -> 0.50398148 | B35: =Blad1!B35 -> 0.50398148 | C35: =IF(ISERROR(Blad1!C35),"",Blad1!C35) -> 2.3 | F35: =Blad1!E35 | L35: ca
... A83: =Blad1!A83 | B83: =Blad1!B83 | C83: =IF(ISERROR(Blad1!C83),"",Blad1!C83) | F83: =Blad1!E83 | L83: zb
A84: =Blad1!A84 | B84: =Blad1!B84 | C84: =IF(ISERROR(Blad1!C84),"",Blad1!C84) | F84: =Blad1!E84
A85: =Blad1!A85 | B85: =Blad1!B85 | C85: =IF(ISERROR(Blad1!C85),"",Blad1!C85) | F85: =Blad1!E85
A86: =Blad1!A86 | B86: =Blad1!B86 | C86: =IF(ISERROR(Blad1!C86),"",Blad1!C86) | F86: =Blad1!E86
A87: =Blad1!A87 | B87: =Blad1!B87 | C87: =IF(ISERROR(Blad1!C87),"",Blad1!C87) | F87: =Blad1!E87
A88: =Blad1!A88 | B88: =Blad1!B88 | C88: =IF(ISERROR(Blad1!C88),"",Blad1!C88) | F88: =Blad1!E88
A89: =Blad1!A89 | B89: =Blad1!B89 | C89: =IF(ISERROR(Blad1!C89),"",Blad1!C89) | F89: =Blad1!E89
A90: =Blad1!A90 | B90: =Blad1!B90 | C90: =IF(ISERROR(Blad1!C90),"",Blad1!C90) | F90: =Blad1!E90
A91: =Blad1!A91 | B91: =Blad1!B91 | C91: =IF(ISERROR(Blad1!C91),"",Blad1!C91) | F91: =Blad1!E91
A92: =Blad1!A92 | B92: =Blad1!B92 | C92: =IF(ISERROR(Blad1!C92),"",Blad1!C92) | F92: =Blad1!E92
A93: =Blad1!A93 | B93: =Blad1!B93 | C93: =IF(ISERROR(Blad1!C93),"",Blad1!C93) | F93: =Blad1!E93
A94: =Blad1!A94 | B94: =Blad1!B94 | C94: =IF(ISERROR(Blad1!C94),"",Blad1!C94) | F94: =Blad1!E94
A95: =Blad1!A95 | B95: =Blad1!B95 | C95: =IF(ISERROR(Blad1!C95),"",Blad1!C95) | F95: =Blad1!E95
... A99: =Blad1!A99 | B99: =Blad1!B99 | C99: =IF(ISERROR(Blad1!C99),"",Blad1!C99) | F99: =Blad1!E99
A100: =IF(ISERROR(Blad1!A100),"",Blad1!A100) | B100: =IF(ISERROR(Blad1!B100),"",Blad1!B100) | C100: =IF(ISERROR(Blad1!C100),"",Blad1!C100) | F100: =Blad1!E100
A101: =Blad1!A101 | B101: =Blad1!B101 | C101: =IF(ISERROR(Blad1!C101),"",Blad1!C101) | F101: =Blad1!E101
A102: =Blad1!A102 | B102: =Blad1!B102 | C102: =IF(ISERROR(Blad1!C102),"",Blad1!C102) | F102: =Blad1!E102
A103: =Blad1!A103 | B103: =Blad1!B103 | C103: =IF(ISERROR(Blad1!C103),"",Blad1!C103) | F103: =Blad1!E103
A104: =Blad1!A104 | B104: =Blad1!B104 | C104: =IF(ISERROR(Blad1!C104),"",Blad1!C104) | F104: =Blad1!E104
A105: =Blad1!A105 | B105: =Blad1!B105 | C105: =IF(ISERROR(Blad1!C105),"",Blad1!C105) | F105: =Blad1!E105
A106: =Blad1!A106 | B106: =Blad1!B106 | C106: =IF(ISERROR(Blad1!C106),"",Blad1!C106) | F106: =Blad1!E106
A107: =Blad1!A107 | B107: =Blad1!B107 | C107: =IF(ISERROR(Blad1!C107),"",Blad1!C107) | F107: =Blad1!E107
A108: =Blad1!A108 | B108: =Blad1!B108 | C108: =IF(ISERROR(Blad1!C108),"",Blad1!C108) | F108: =Blad1!E108
A109: =Blad1!A109 | B109: =Blad1!B109 | C109: =IF(ISERROR(Blad1!C109),"",Blad1!C109) | F109: =Blad1!E109
A110: =Blad1!A110 | B110: =Blad1!B110 | C110: =IF(ISERROR(Blad1!C110),"",Blad1!C110) | F110: =Blad1!E110
A111: =Blad1!A111 | B111: =Blad1!B111 | C111: =IF(ISERROR(Blad1!C111),"",Blad1!C111) | F111: =Blad1!E111
A112: =Blad1!A112 | B112: =Blad1!B112 | C112: =IF(ISERROR(Blad1!C112),"",Blad1!C112) | F112: =Blad1!E112
... A200: =Blad1!A200 | B200: =Blad1!B200 | C200: =IF(ISERROR(Blad1!C200),"",Blad1!C200) | F200: =Blad1!E200
A201: =Blad1!A201-TIME(0,10,0) -> 0.500625 | B201: =Blad1!B201 -> 0.50756944 | C201: =IF(ISERROR(Blad1!C201),"",Blad1!C201) -> 144.2 | D201: Start | E201: 0 | F201: =Blad1!E201 | G201: START | J201: Col de Cauberg | L201: 1
A202: =Blad1!A202-TIME(0,10,0) -> 0.50099537 | B202: =Blad1!B202 -> 0.50792824 | C202: =IF(ISERROR(Blad1!C202),"",Blad1!C202) -> 143.8 | D202: Vilt | E202: 1.1 | F202: =Blad1!E202 -> -4.3 | J202: Col de Cauberg | K202: Sibbeweg - Geulgracht | L202: =IF(J202<>"",L201+1,"") -> 2
A203: =Blad1!A203 -> 0.50850694 | B203: =Blad1!B203 -> 0.50846065 | C203: =IF(ISERROR(Blad1!C203),"",Blad1!C203) -> 143.2 | E203: 1.2 | F203: =Blad1!E203 -> 0.6 | J203: Rijksweg N590 | K203: Pater Tillestr - Leijstenstr. | L203: =IF(J203<>"",L202+1,"") -> 3
A204: =Blad1!A204 -> 0.50887731 | B204: =Blad1!B204 -> 0.50881944 | C204: =IF(ISERROR(Blad1!C204),"",Blad1!C204) -> 142.8 | E204: 1.7 | F204: =Blad1!E204 -> 0.4 | G204: re.af. | J204: Meesweg en Direct | K204: N480 - | L204: =IF(J204<>"",L203+1,"") -> 4
A205: =Blad1!A205 -> 0.5090625 | B205: =Blad1!B205 -> 0.50899306 | C205: =IF(ISERROR(Blad1!C205),"",Blad1!C205) -> 142.6 | E205: 1.7 | F205: =Blad1!E205 | G205: li.af. | J205: Meesweg | K205: - Vinkenweg | L205: =IF(J205<>"",L204+1,"") -> 5
A206: =Blad1!A206 -> 0.50915509 | B206: =Blad1!B206 -> 0.50907407 | C206: =IF(ISERROR(Blad1!C206),"",Blad1!C206) -> 142.5 | E206: 1.8 | F206: =Blad1!E206 | J206: Meesweg | K206: - Leeuwerikkenstraat | L206: =IF(J206<>"",L205+1,"") -> 6
A207: =Blad1!A207 -> 0.50943287 | B207: =Blad1!B207 -> 0.50934028 | C207: =IF(ISERROR(Blad1!C207),"",Blad1!C207) -> 142.2 | E207: 1.9 | F207: =Blad1!E207 | J207: Meesweg | K207: - Helweg | L207: =IF(J207<>"",L206+1,"") -> 7
A208: =Blad1!A208-TIME(0,10,0) -> 0.50305556 | B208: =Blad1!B208 -> 0.50987269 | C208: =IF(ISERROR(Blad1!C208),"",Blad1!C208) -> 141.6 | D208: E.B. | E208: 2.1 | F208: =Blad1!E208 | J208: 2 x 2 paaltjes versmalling | L208: =IF(J208<>"",L207+1,"") -> 8
A209: =Blad1!A209 -> 0.51046296 | B209: =Blad1!B209 -> 0.51032407 | C209: =IF(ISERROR(Blad1!C209),"",Blad1!C209) -> 141.1 | E209: 2.3 | F209: =Blad1!E209 | J209: 2 x 2 paaltjes versmalling | L209: =IF(J209<>"",L208+1,"") -> 9
A210: =Blad1!A210-TIME(0,10,0) -> 0.50436343 | B210: =Blad1!B210 -> 0.51113426 | C210: =IF(ISERROR(Blad1!C210),"",Blad1!C210) -> 140.2 | D210: Berg | E210: 2.4 | F210: =Blad1!E210 | J210: Langen Akker | K210: Slakweg - Lange Bergweg | L210: =IF(J210<>"",L209+1,"") -> 10
A211: =Blad1!A211 -> 0.51158565 | B211: =Blad1!B211 -> 0.51140046 | C211: =IF(ISERROR(Blad1!C211),"",Blad1!C211) -> 139.9 | E211: 2.5 | F211: =Blad1!E211 | J211: Langen Akker | K211: Bergerveldweg - | L211: =IF(J211<>"",L210+1,"") -> 11
A212: =Blad1!A212 -> 0.51186343 | B212: =Blad1!B212 -> 0.51166667 | C212: =IF(ISERROR(Blad1!C212),"",Blad1!C212) -> 139.6 | E212: 2.6 | F212: =Blad1!E212 | J212: Langen Akker | K212: Baak - | L212: =IF(J212<>"",L211+1,"") -> 12
A213: =Blad1!A213 -> 0.51252315 | B213: =Blad1!B213 -> 0.51229167 | C213: =IF(ISERROR(Blad1!C213),"",Blad1!C213) -> 138.9 | E213: 2.7 | F213: =Blad1!E213 | J213: Langen Akker | K213: Gewande- | L213: =IF(J213<>"",L212+1,"") -> 13
A214: =Blad1!A214 -> 0.51289352 | B214: =Blad1!B214 -> 0.51265046 | C214: =IF(ISERROR(Blad1!C214),"",Blad1!C214) -> 138.5 | E214: 2.8 | F214: =Blad1!E214 -> 4.3 | G214: re.af. | J214: Vogelzangweg | K214: Langen Akker - | L214: =IF(J214<>"",L213+1,"") -> 14
A215: =Blad1!A215-TIME(0,10,0) -> 0.50670139 | B215: =Blad1!B215 -> 0.51336806 | C215: =IF(ISERROR(Blad1!C215),"",Blad1!C215) -> 137.7 | D215: E.B. | E215: 2.8 | F215: =Blad1!E215 -> 0.8 | J215: vogelzangweg | L215: =IF(J215<>"",L214+1,"") -> 15
A216: =Blad1!A216-TIME(0,10,0) -> 0.50887731 | B216: =Blad1!B216 -> 0.51545139 | C216: =IF(ISERROR(Blad1!C216),"",Blad1!C216) -> 135.4 | D216: Geulhem | E216: 3.4 | F216: =Blad1!E216 | J216: vogelzangweg | L216: =IF(J216<>"",L215+1,"") -> 16
A217: =Blad1!A217 -> 0.51591435 | B217: =Blad1!B217 -> 0.51553241 | C217: =IF(ISERROR(Blad1!C217),"",Blad1!C217) -> 135.3 | E217: 3.5 | F217: =Blad1!E217 | G217: li.aanh. | J217: Wolfdriesweg | K217: - Wolfdriesweg | L217: =IF(J217<>"",L216+1,"") -> 17
A218: =Blad1!A218 -> 0.51628472 | B218: =Blad1!B218 -> 0.5158912 | C218: =IF(ISERROR(Blad1!C218),"",Blad1!C218) -> 134.9 | E218: 3.8 | F218: =Blad1!E218 -> 2.8 | G218: li.af. | J218: stopkr. P Berg en Terblijt 1 | K218: - Onderstraat | L218: =IF(J218<>"",L217+1,"") -> 18
A219: =Blad1!A219 -> 0.51674769 | B219: =Blad1!B219 -> 0.51634259 | C219: =IF(ISERROR(Blad1!C219),"",Blad1!C219) -> 134.4 | E219: 4 | F219: =Blad1!E219 -> 0.5 | G219: li.aanh. | J219: Geulhemmerweg | K219: - Geulhemmerweg | L219: =IF(J219<>"",L218+1,"") -> 19
A220: =Blad1!A220 -> 0.51693287 | B220: =Blad1!B220 -> 0.5165162 | C220: =IF(ISERROR(Blad1!C220),"",Blad1!C220) -> 134.2 | E220: 4.1 | F220: =Blad1!E220 -> 0.2 | J220: Geulhemmerweg 1 paaltje | L220: =IF(J220<>"",L219+1,"") -> 20
A221: =Blad1!A221 -> 0.51711806 | B221: =Blad1!B221 -> 0.51668981 | C221: =IF(ISERROR(Blad1!C221),"",Blad1!C221) -> 134 | E221: 4.2 | F221: =Blad1!E221 -> 0.2 | J221: -re.do- Geulhemmerweg | K221: Meldemunsterweg - | L221: =IF(J221<>"",L220+1,"") -> 21
A222: =Blad1!A222-TIME(0,10,0) -> 0.51017361 | B222: =Blad1!B222 -> 0.51668981 | C222: =IF(ISERROR(Blad1!C222),"",Blad1!C222) -> 134 | D222: Berg | E222: 4.6 | F222: =Blad1!E222 -> 0 | J222: 2 x 1 paaltje | L222: =IF(J222<>"",L221+1,"") -> 22
A223: =Blad1!A223 -> 0.51787037 | B223: =Blad1!B223 -> 0.51740741 | C223: =IF(ISERROR(Blad1!C223),"",Blad1!C223) -> 133.2 | E223: 4.8 | F223: =Blad1!E223 -> 0.8 | G223: re.aanh. | J223: Geulhemmerweg | K223: Blokbrekerstraat - | L223: =IF(J223<>"",L222+1,"") -> 23
A224: =Blad1!A224 -> 0.51824074 | B224: =Blad1!B224 -> 0.5177662 | C224: =IF(ISERROR(Blad1!C224),"",Blad1!C224) -> 132.8 | E224: 4.9 | F224: =Blad1!E224 -> 0.4 | J224: -re.do- Geulhemmerweg | K224: Kleinstraat | L224: =IF(J224<>"",L223+1,"") -> 24
A225: =Blad1!A225 -> 0.51890046 | B225: =Blad1!B225 -> 0.5183912 | C225: =IF(ISERROR(Blad1!C225),"",Blad1!C225) -> 132.1 | E225: 5 | F225: =Blad1!E225 | G225: li.aanh. | J225: Grote Straat | K225: - Grote Straat | L225: =IF(J225<>"",L224+1,"") -> 25
A226: =Blad1!A226 -> 0.51946759 | B226: =Blad1!B226 -> 0.51892361 | C226: =IF(ISERROR(Blad1!C226),"",Blad1!C226) -> 131.5 | E226: 5 | F226: =Blad1!E226 -> 1.3 | J226: -re.do- Grote Straat | K226: - Grote Straat | L226: =IF(J226<>"",L225+1,"") -> 26
A227: =Blad1!A227 -> 0.51993056 | B227: =Blad1!B227 -> 0.519375 | C227: =IF(ISERROR(Blad1!C227),"",Blad1!C227) -> 131 | E227: 5 | F227: =Blad1!E227 -> 0.5 | J227: -re.do- Grote Straat | K227: Op de Mert - | L227: =IF(J227<>"",L226+1,"") -> 27
A228: =Blad1!A228 -> 0.52049769 | B228: =Blad1!B228 -> 0.51990741 | C228: =IF(ISERROR(Blad1!C228),"",Blad1!C228) -> 130.4 | E228: 5.4 | F228: =Blad1!E228 | G228: re.af. | J228: Grote Straat | K228: Grote Straat - | L228: =IF(J228<>"",L227+1,"") -> 28
A229: =Blad1!A229 -> 0.52181713 | B229: =Blad1!B229 -> 0.52116898 | C229: =IF(ISERROR(Blad1!C229),"",Blad1!C229) -> 129 | E229: 5.4 | F229: =Blad1!E229 | J229: -re.do- Achter de Hoven | K229: Kapittelstraat - Grote Straat | L229: =IF(J229<>"",L228+1,"") -> 29
A230: =Blad1!A230 -> 0.52247685 | B230: =Blad1!B230 -> 0.52179398 | C230: =IF(ISERROR(Blad1!C230),"",Blad1!C230) -> 128.3 | E230: 5.5 | F230: =Blad1!E230 | J230: -re.do- Achter de Hoven | K230: Proosthof - | L230: =IF(J230<>"",L229+1,"") -> 30
A231: =Blad1!A231 -> 0.52313657 | B231: =Blad1!B231 -> 0.52241898 | C231: =IF(ISERROR(Blad1!C231),"",Blad1!C231) -> 127.6 | E231: 5.6 | F231: =Blad1!E231 | J231: -re.do- Achter de Hoven | K231: Servaashof - | L231: =IF(J231<>"",L230+1,"") -> 31
A232: =Blad1!A232 -> 0.52332176 | B232: =Blad1!B232 -> 0.52259259 | C232: =IF(ISERROR(Blad1!C232),"",Blad1!C232) -> 127.4 | E232: 5.7 | F232: =Blad1!E232 -> 3.6 | J232: -re-do- Achter de Hoven | K232: Schuttershof | L232: =IF(J232<>"",L231+1,"") -> 32
A233: =Blad1!A233 -> 0.52350694 | B233: =Blad1!B233 -> 0.5227662 | C233: =IF(ISERROR(Blad1!C233),"",Blad1!C233) -> 127.2 | E233: 5.8 | F233: =Blad1!E233 | G233: li.af. | J233: Schonepoel | K233: - Schonepoel | L233: =IF(J233<>"",L232+1,"") -> 33
A234: =Blad1!A234-TIME(0,10,0) -> 0.51731481 | B234: =Blad1!B234 -> 0.5234838 | C234: =IF(ISERROR(Blad1!C234),"",Blad1!C234) -> 126.4 | D234: EB Berg | E234: 5.9 | F234: =Blad1!E234 | G234: re.aanh. | J234: -re.aanh Kuytenbergweg geslotenverklaring negeren | K234: Schansweg - | L234: =IF(J234<>"",L233+1,"") -> 34
A235: =Blad1!A235 -> 0.5256713 | B235: =Blad1!B235 -> 0.52483796 | C235: =IF(ISERROR(Blad1!C235),"",Blad1!C235) -> 124.9 | E235: 6.7 | F235: =Blad1!E235 -> 2.5 | J235: -re.do- Kuytenbergweg wordt Longinastraat | K235: - Schonepoel | L235: =IF(J235<>"",L234+1,"") -> 35
A236: =Blad1!A236-TIME(0,10,0) -> 0.51872685 | B236: =Blad1!B236 -> 0.52483796 | C236: =IF(ISERROR(Blad1!C236),"",Blad1!C236) -> 124.9 | D236: Maastricht | E236: 8.4 | F236: =Blad1!E236 -> 0 | G236: li.af. | J236: Molenweg | K236: - Molenweg | L236: =IF(J236<>"",L235+1,"") -> 36
A237: =Blad1!A237 -> 0.52728009 | B237: =Blad1!B237 -> 0.52637731 | C237: =IF(ISERROR(Blad1!C237),"",Blad1!C237) -> 123.2 | E237: 8.6 | F237: =Blad1!E237 | J237: -re.do- Molenweg | K237: - Oofthegge | L237: =IF(J237<>"",L236+1,"") -> 37
A238: =Blad1!A238 -> 0.528125 | B238: =Blad1!B238 -> 0.5271875 | C238: =IF(ISERROR(Blad1!C238),"",Blad1!C238) -> 122.3 | E238: 8.7 | F238: =Blad1!E238 | J238: -re.do- Molenweg | K238: - Wagenlaan | L238: =IF(J238<>"",L237+1,"") -> 38
...

Sheet logboek
C2: Datum | D2: Aktie / omschrijving werkzaamheden | E2: Bijzonderheden | F2: Naam

Sheet Handleiding
B1: Handleiding voor het juist werken met het routeprogramma LE
B3: 1e | C3: Het belangrijkste is dat men zich realiseert dat in cellen waar men bijvoorbeeld km's moet invullen men geen datum of tijd moet vermelden, of dat men in een cel bestemd voor een tijd tekst gaat vermelden. (of een combinatie van tijdstip en tekst). Dit werk niet en geeft over het gehele blad een foutmelding.
B4: 2e | C4: Het nieuwe programma is omvangrijker geworden door een aantal nieuwe formules en doordat het een algemeen routeblad is geworden waarbij men tot 2599 regels (7 t/m 200 voor neutralisatie en 201 t/m 2599 voor de route) kan gebruiken voor de etappe.
B5: 3e | C5: In de kop van het programma zijn de eerste 4 regels gereserveerd voor de naam van de route, een lege regel, de omschrijving van de etappe, en de datum. Hier kunnen eventuele voor de uitvoering van het spektakel ook andere items worden ingevuld die belangrijk zijn voor de uitvoering daarvan. Op regel 5 (cel E5) moet de vertrektijd worden ingevuld, let hierbij op de getalnotatie (bijv. 13:45). In cel J5 komt bij het invullen van "Finish" in kolom D en het totaal gereden kilometers in kolom E te staan wat de totale lengte is van deze etappe. Op de printversie komt het paginaummer te staan en de vermelding van uit hoeveel bladzijdes deze etappe bestaat.
B6: 4e | C6: Bij wielerrondes moeten in de "Plaats"-kolom (Kolom letter D) bij de start het woord "START"en bij de finish het woord "FINISH" worden ingevuld. Als men dit niet doet worden er geen "nog te rijden km's" vermeld.
B7: 5e | C7: De cellen voorzien van in de rechterbovenhoek van een klein rood driehoekje bevatten een opmerking die belangrijk is voor de gebruiker om de melding van " ########### " te voorkomen.
B8: 6e | C8: Het blad "route" bevat als standaard twee snelheden kolommen. Wordt er maar met een gewerkt dan kan kolom "B" op verborgen worden gezet. (In kolom B gaan staan en vervolgens met het toetsenbord: "Alt-K";"K";"B"; de kolom verbergen of via de linker- en rechtermuisknoppen ) Houd wel rekening met het feit dat als beide kolommen (A en B) in het zicht MOETEN blijven, de breedte van kolom G, moeten worden terug gebracht van 54 naar 49 (in kolom J gaan staan met cursor en vervolgens met het toetsenbord:"alt-K","K";"R";"49"; typen of met de linker- en rechtermuisknoppen de kolombreedte instellen).
B9: 7e | C9: Er mogen in de voor de "NEUTRALISATIE" bestemde regels, (dit zijn de regels 7 t/m 200), GEEN lege regels worden VERWIJDERD!!! Mochten er lege regels zijn dan kunnen die worden verborgen. Als in de route na de officiële start later regels moeten worden toegevoegd dan moet de formule die staan in de kolom op de rij boven de nieuwe ingevoegde rij(en) worden gecopieerd tot de laatste gebruikte cellen. Dit betreft de kolommen: A;B;C en F. Kolom H nooit want die worden voorzien van een toevoeging.
B10: 8e | C10: VERBERGEN VAN NIET GEBRUIKTE REGELS: Dit gaat het makkelijkst door in kolom K (cel K1) op het kleine zwartje pijltje richting omlaag te klikken met de muisaanwijzer en dan helemaal naar onder scrollen en dan te kiezen voor "(Niet-lege cellen)". Hierna zijn alle lege regels verdwenen en kun je zien met "voorbeeld op het scherm" hoeveel pagina's je kunt printen.
B11: 9e | C11: Gevaarlijke of verkeerssnelheids remmende maatregelen zoals te zijn: VERSMALLINGEN, DREMPELS worden aan het begin van de zin in HOOFDLETTERS vermeld. De combinatie van versmalling en drempel is toegestaan waarbij dat het eerst aangetroffen als eerste wordt vermeld (bijv. DREMPELS/VERSMAL). Het scheelt karakters om de afkorting te gebruiken VHZ = Vluchtheuvels en Zuilen zodat andere info toch wordt vermeld.
B12: 10e | C12: Kruisende wegen
C13: aan beide zijden dezelfde naam | E13: bijv.: | F13: Frank Damenstraat
C14: van links (uitlijning links) | F14: Frank Damenstraat/-
C15: van rechts (uitlijning rechts) | F15: -/Frank Damenstraat
C16: aan beide zijden met verschillende namen | F16: Frank Damestraat / Damen Frankstraat
B18: 11e | C18: Kleurcodes en omschrijving:
C19: - Op de punten waarin de route een richtingverandering maakt, links- of rechtsaf (wordt omschreven als: -li.af- en -re.af-) worden die punten geaccentueerd door deze te vermelden in een afwijkende tekstkleur. - In de regels wordt de gehele tekst voor de betreffende richtingverandering gekleurd en onderstreept (MAAR NIET IN VET VERMELD) en wordt de specifieke richtingverandering als extra in vet vermeld! OOK mag er maar een richtingverandering per regel worden vermeld. Bij rotonde wordt het een ander verhaal. - Het word "rotonde" alleen wordt bij recht doorgaan (=re.do- ) blauw gekleurd. Verder geen andere tekst. Houd de rotonde een richtingverandering in dan krijgt de hele tekst vóór de richtingverandering de kleur van de richtingverandering. (zie voorbeelden).
C20: richting/obstakel | D20: kleur | E20: bijv.: | F20: OMSCHRIJVING
C22: -li.af- | D22: [onderstreept][vet][rood] | F22: voorkr.-li.af-Frank Daamenstraat
C24: -re.af- | D24: [onderstreept][vet][groen] | F24: voorkr.-re.af-Frank Daamenstraat
C26: rotonde | D26: [vet][blauw] | F26: VERSMAL-rotonde 2/4 -re.do-Debbeshoek
C28: rotonde -li.af- | D28: = = = WORDT = = = > | F28: rotonde 1/4 P.DE POL-li.af-Berghseweg/N816
C30: rotonde -re.af- | D30: = = = WORDT = = = > | F30: rotonde 1/4 P.VARSELDER 1-re.af-Oude IJsselweg/N817
C32: rechtdoor | D32: = = = = IS = = = = = > | F32: -re.do-
C34: Kleuren: | D34: Blauw | F34: Rood: 0 | G34: Groen: 0 | H34: Blauw: 255
D35: Groen | F35: Rood: 0 | G35: Groen: 128 | H35: Blauw: 0
D36: Rood | F36: Rood: 255 | G36: Groen: 0 | H36: Blauw: 0
C38: uitvoegen | D38: [vet][zwart] | F38: -uitvoegen-Frank Daamenstraat
C39: invoegen | D39: [vet][zwart] | F39: -invoegen-Frank Daamenstraat
B41: ! | C41: Mocht U nog vragen hebben v.w.b. de invulling of problemen hebben daarmee, kunt U zich melden met de Wielrennen@politie.nl
C42: vraag op de mailbox : | D42: MailboxRoutezakenMO@politie.nl | E42: U krijgt dan bericht of wordt dan verder geholpen.
