Workbook
Name min: route!$F$5
Name REF: route!$B$2
Name uur: Blad1!$E$5
Name uur: route!$E$5

Sheet route
A1: Versie 3 | C1: MBT | D1: Metec Olympia Tour Stage 5
A2: Van: | B2: 46085 | D2: Tiel-Tiel
D3: https://www.afstandmeten.nl/index.php?id=4049966
A4: km/u | B4: km/u | D4: 46110
A5: 44 | B5: 46 | D5: vertrek/départ | E5: 0.5 | F5: h / u | J5: =IF(ISNA(#REF!),"Na de Finish-vermelding, in kolom D, wordt hier de totale lengte van de dagetappe vermeld","Afstand / Distance : "&TEXT(#REF!,"0,0")&" km") -> #REF!
A6: door komst tijd | B6: door komst tijd | C6: nog te rijden km's | D6: PLAATS | E6: gereden km's | F6: tussen afstand | G6: Richting | J6: OMSCHRIJVING | K6: KRUISENDE WEG | L6: NR
A7: =IF(E7="","",Blad1!A7) -> 0.5 | B7: =IF(E7="","",Blad1!B7) -> 0.5 | C7: =IF(ISERROR(Blad1!C7),"",Blad1!C7) -> 4.9 | D7: Tiel | E7: 0 | F7: =Blad1!E7 | J7: Markt | L7: a
A8: =IF(E8="","",Blad1!A8) -> 0.5 | B8: =IF(E8="","",Blad1!B8) -> 0.5 | C8: =IF(ISERROR(Blad1!C8),"",Blad1!C8) -> 4.9 | D8: Neutralisatie | E8: 0 | F8: =Blad1!E8 -> 0 | G8: LI-AF | J8: Markt | K8: -Waterstraat | L8: b
A9: =IF(E9="","",Blad1!A9) -> 0.50015046 | B9: =IF(E9="","",Blad1!B9) -> 0.50015046 | C9: =IF(ISERROR(Blad1!C9),"",Blad1!C9) -> 4.8 | D9: . | E9: 0.1 | F9: =Blad1!E9 | J9: Damstraat (Bord C04-R negeren) | K9: Markt-Vleestraat | L9: c
A10: =IF(E10="","",Blad1!A10) -> 0.50030093 | B10: =IF(E10="","",Blad1!B10) -> 0.50030093 | C10: =IF(ISERROR(Blad1!C10),"",Blad1!C10) -> 4.7 | D10: . | E10: 0.2 | F10: =Blad1!E10 -> 0.2 | G10: RE-AF | J10: Koornmarkt | K10: -Damstraat | L10: d
A11: =IF(E11="","",Blad1!A11) -> 0.50045139 | B11: =IF(E11="","",Blad1!B11) -> 0.50045139 | C11: =IF(ISERROR(Blad1!C11),"",Blad1!C11) -> 4.6 | D11: . | E11: 0.3 | F11: =Blad1!E11 | J11: Ambtmanstraat | K11: Kerkstraat- | L11: e
A12: =IF(E12="","",Blad1!A12) -> 0.50060185 | B12: =IF(E12="","",Blad1!B12) -> 0.50060185 | C12: =IF(ISERROR(Blad1!C12),"",Blad1!C12) -> 4.5 | D12: . | E12: 0.4 | F12: =Blad1!E12 -> 0.2 | G12: LI-AF | J12: Eerste Achterstraat | K12: Eerste Achterstraat- | L12: f
A13: =IF(E13="","",Blad1!A13) -> 0.50075231 | B13: =IF(E13="","",Blad1!B13) -> 0.50075231 | C13: =IF(ISERROR(Blad1!C13),"",Blad1!C13) -> 4.4 | D13: . | E13: 0.5 | F13: =Blad1!E13 | J13: Eerste Achterstraat | K13: -Tweede Achterstraat | L13: g
A14: =IF(E14="","",Blad1!A14) -> 0.50075231 | B14: =IF(E14="","",Blad1!B14) -> 0.50075231 | C14: =IF(ISERROR(Blad1!C14),"",Blad1!C14) -> 4.4 | D14: . | E14: 0.5 | F14: =Blad1!E14 | J14: Vervallen | L14: h
A15: =IF(E15="","",Blad1!A15) -> 0.50075231 | B15: =IF(E15="","",Blad1!B15) -> 0.50075231 | C15: =IF(ISERROR(Blad1!C15),"",Blad1!C15) -> 4.4 | D15: . | E15: 0.5 | F15: =Blad1!E15 | J15: Vervallen | L15: i
A16: =IF(E16="","",Blad1!A16) -> 0.50075231 | B16: =IF(E16="","",Blad1!B16) -> 0.50075231 | C16: =IF(ISERROR(Blad1!C16),"",Blad1!C16) -> 4.4 | D16: . | E16: 0.5 | F16: =Blad1!E16 | J16: Vervallen | L16: j
A17: =IF(E17="","",Blad1!A17) -> 0.50090278 | B17: =IF(E17="","",Blad1!B17) -> 0.50090278 | C17: =IF(ISERROR(Blad1!C17),"",Blad1!C17) -> 4.3 | D17: . | E17: 0.6 | F17: =Blad1!E17 -> 0.2 | G17: LI-AF | J17: Achterweg | K17: Achterweg | L17: k
A18: =IF(E18="","",Blad1!A18) -> 0.50105324 | B18: =IF(E18="","",Blad1!B18) -> 0.50105324 | C18: =IF(ISERROR(Blad1!C18),"",Blad1!C18) -> 4.2 | D18: . | E18: 0.7 | F18: =Blad1!E18 | J18: Achterweg | K18: Eerste Achterstraat- | L18: l
A19: =IF(E19="","",Blad1!A19) -> 0.5012037 | B19: =IF(E19="","",Blad1!B19) -> 0.5012037 | C19: =IF(ISERROR(Blad1!C19),"",Blad1!C19) -> 4.1 | D19: . | E19: 0.8 | F19: =Blad1!E19 | J19: Eerste Bleekveldstraat | K19: -Schoolstraat | L19: m
A20: =IF(E20="","",Blad1!A20) -> 0.5012037 | B20: =IF(E20="","",Blad1!B20) -> 0.5012037 | C20: =IF(ISERROR(Blad1!C20),"",Blad1!C20) -> 4.1 | D20: . | E20: 0.8 | F20: =Blad1!E20 | J20: Eerste Bleekveldstraat | K20: Kerkstraat- | L20: n
A21: =IF(E21="","",Blad1!A21) -> 0.5015162 | B21: =IF(E21="","",Blad1!B21) -> 0.5015162 | C21: =IF(ISERROR(Blad1!C21),"",Blad1!C21) -> 3.9 | D21: . | E21: 1 | F21: =Blad1!E21 -> 0.4 | G21: RE-AF | J21: Bleekveld | K21: Koninginnestraat- | L21: o
A22: =IF(E22="","",Blad1!A22) -> 0.5015162 | B22: =IF(E22="","",Blad1!B22) -> 0.5015162 | C22: =IF(ISERROR(Blad1!C22),"",Blad1!C22) -> 3.9 | D22: . | E22: 1 | F22: =Blad1!E22 | J22: Rechtbankstraat VHZ | K22: Huf v Burenstraat-Hucht | L22: p
A23: =IF(E23="","",Blad1!A23) -> 0.50166667 | B23: =IF(E23="","",Blad1!B23) -> 0.50166667 | C23: =IF(ISERROR(Blad1!C23),"",Blad1!C23) -> 3.8 | D23: . | E23: 1.1 | F23: =Blad1!E23 -> 0.1 | G23: RTD 3/4 LI-AF | J23: P-Route Centrum Nieuwe Tielseweg | K23: Nieuwe Tielseweg | L23: =IF(J23="","",Blad1!W23) -> q
A24: =IF(E24="","",Blad1!A24) -> 0.50230324 | B24: =IF(E24="","",Blad1!B24) -> 0.50230324 | C24: =IF(ISERROR(Blad1!C24),"",Blad1!C24) -> 3.4 | D24: . | E24: 1.5 | F24: =Blad1!E24 | J24: Havendijk VHZ | K24: -Veerweg | L24: =IF(J24="","",Blad1!W24) -> r
A25: =IF(E25="","",Blad1!A25) -> 0.50261574 | B25: =IF(E25="","",Blad1!B25) -> 0.50261574 | C25: =IF(ISERROR(Blad1!C25),"",Blad1!C25) -> 3.2 | D25: . | E25: 1.7 | F25: =Blad1!E25 | J25: Havendijk | K25: -Havenkade | L25: =IF(J25="","",Blad1!W25) -> s
A26: =IF(E26="","",Blad1!A26) -> 0.50261574 | B26: =IF(E26="","",Blad1!B26) -> 0.50261574 | C26: =IF(ISERROR(Blad1!C26),"",Blad1!C26) -> 3.2 | D26: . | E26: 1.7 | F26: =Blad1!E26 | J26: Havendijk | K26: Zoutkeetstraatje- | L26: =IF(J26="","",Blad1!W26) -> t
A27: =IF(E27="","",Blad1!A27) -> 0.5027662 | B27: =IF(E27="","",Blad1!B27) -> 0.5027662 | C27: =IF(ISERROR(Blad1!C27),"",Blad1!C27) -> 3.1 | D27: . | E27: 1.8 | F27: =Blad1!E27 | J27: Havendijk | K27: -Havenkade | L27: =IF(J27="","",Blad1!W27) -> u
A28: =IF(E28="","",Blad1!A28) -> 0.50291667 | B28: =IF(E28="","",Blad1!B28) -> 0.50291667 | C28: =IF(ISERROR(Blad1!C28),"",Blad1!C28) -> 3 | D28: . | E28: 1.9 | F28: =Blad1!E28 | J28: Havendijk | K28: -Echtelsedijk | L28: =IF(J28="","",Blad1!W28) -> v
A29: =IF(E29="","",Blad1!A29) -> 0.50306713 | B29: =IF(E29="","",Blad1!B29) -> 0.50306713 | C29: =IF(ISERROR(Blad1!C29),"",Blad1!C29) -> 2.9 | D29: . | E29: 2 | F29: =Blad1!E29 -> 0.9 | G29: RTD 2/4 RE-DO | J29: Havendijk VHZ Rechterstructuur | K29: Santwijkse Poort-Fabriekslaantje | L29: =IF(J29="","",Blad1!W29) -> w
A30: =IF(E30="","",Blad1!A30) -> 0.50306713 | B30: =IF(E30="","",Blad1!B30) -> 0.50306713 | C30: =IF(ISERROR(Blad1!C30),"",Blad1!C30) -> 2.9 | D30: . | E30: 2 | F30: =Blad1!E30 | J30: Havendijk | K30: -Grotebrugsegrintweg | L30: =IF(J30="","",Blad1!W30) -> x
A31: =IF(E31="","",Blad1!A31) -> 0.50337963 | B31: =IF(E31="","",Blad1!B31) -> 0.50337963 | C31: =IF(ISERROR(Blad1!C31),"",Blad1!C31) -> 2.7 | D31: . | E31: 2.2 | F31: =Blad1!E31 | J31: Binnenhoek | K31: Verbindingsweg- | L31: =IF(J31="","",Blad1!W31) -> ij
A32: =IF(E32="","",Blad1!A32) -> 0.50353009 | B32: =IF(E32="","",Blad1!B32) -> 0.50353009 | C32: =IF(ISERROR(Blad1!C32),"",Blad1!C32) -> 2.6 | D32: . | E32: 2.3 | F32: =Blad1!E32 | J32: Binnenhoek | K32: -Uitrit P-Garage | L32: =IF(J32="","",Blad1!W32) -> z
A33: =IF(E33="","",Blad1!A33) -> 0.50368056 | B33: =IF(E33="","",Blad1!B33) -> 0.50368056 | C33: =IF(ISERROR(Blad1!C33),"",Blad1!C33) -> 2.5 | D33: . | E33: 2.4 | F33: =Blad1!E33 | J33: Binnenhoek | K33: Vinkenstraatje- | L33: =IF(J33="","",Blad1!W33) -> aa
A34: =IF(E34="","",Blad1!A34) -> 0.50383102 | B34: =IF(E34="","",Blad1!B34) -> 0.50383102 | C34: =IF(ISERROR(Blad1!C34),"",Blad1!C34) -> 2.4 | D34: . | E34: 2.5 | F34: =Blad1!E34 | J34: Binnenhoek | K34: -Postlaantje | L34: =IF(J34="","",Blad1!W34) -> ab
A35: =IF(E35="","",Blad1!A35) -> 0.50398148 | B35: =IF(E35="","",Blad1!B35) -> 0.50398148 | C35: =IF(ISERROR(Blad1!C35),"",Blad1!C35) -> 2.3 | D35: . | E35: 2.6 | F35: =Blad1!E35 | J35: Lokstraat | K35: Esdoornstraat- | L35: =IF(J35="","",Blad1!W35) -> ac
A36: =IF(E36="","",Blad1!A36) -> 0.50413194 | B36: =IF(E36="","",Blad1!B36) -> 0.50413194 | C36: =IF(ISERROR(Blad1!C36),"",Blad1!C36) -> 2.2 | D36: . | E36: 2.7 | F36: =Blad1!E36 | J36: Lokstraat | K36: Lijsterbesstraat- | L36: =IF(J36="","",Blad1!W36) -> ad
A37: =IF(E37="","",Blad1!A37) -> 0.50413194 | B37: =IF(E37="","",Blad1!B37) -> 0.50413194 | C37: =IF(ISERROR(Blad1!C37),"",Blad1!C37) -> 2.2 | D37: . | E37: 2.7 | F37: =Blad1!E37 -> 0.7 | G37: RTD 1/3 RE-AF | J37: Westroijensestraat VHZ | K37: Westroijensestraat | L37: =IF(J37="","",Blad1!W37) -> ae
A38: =IF(E38="","",Blad1!A38) -> 0.50413194 | B38: =IF(E38="","",Blad1!B38) -> 0.50413194 | C38: =IF(ISERROR(Blad1!C38),"",Blad1!C38) -> 2.2 | D38: . | E38: 2.7 | F38: =Blad1!E38 | J38: Grotebrugsegrintweg 3x Obstakels | L38: =IF(J38="","",Blad1!W38) -> af
A39: =IF(E39="","",Blad1!A39) -> 0.50428241 | B39: =IF(E39="","",Blad1!B39) -> 0.50428241 | C39: =IF(ISERROR(Blad1!C39),"",Blad1!C39) -> 2.1 | D39: . | E39: 2.8 | F39: =Blad1!E39 | J39: Grotebrugsegrintweg | K39: -Grotebrugsegrintweg | L39: =IF(J39="","",Blad1!W39) -> ag
A40: =IF(E40="","",Blad1!A40) -> 0.50443287 | B40: =IF(E40="","",Blad1!B40) -> 0.50443287 | C40: =IF(ISERROR(Blad1!C40),"",Blad1!C40) -> 2 | D40: . | E40: 2.9 | F40: =Blad1!E40 | J40: Grotebrugsegrintweg | K40: -Meeslaan | L40: =IF(J40="","",Blad1!W40) -> ah
...

Sheet Sortering
A1: MBT | B1: NR | C1: door komst tijd | F1: Eerst alle dubbele in deze matrix oplossen, daarna de matrix vullen
B2: 76a | C2: 0.54930556
B3: 158a | C3: 0.59375
B4: 158b | C4: 0.59513889
B5: 169a | C5: 0.60833333
B6: 169b | C6: 0.60902778
B7: 210a | C7: 0.62222222
B8: 210b | C8: 0.62361111
B9: a | C9: 0.5
B10: aa | C10: 0.50347222
B11: ab | C11: 0.50347222
B12: ac | C12: 0.50347222
B13: ad | C13: 0.50347222
A14: 9 | B14: ae | C14: 0.50347222
B15: af | C15: 0.50347222
B16: ag | C16: 0.50416667
B17: ah | C17: 0.50416667
B18: ai | C18: 0.50416667
B19: aj | C19: 0.50486111
A20: 10 | B20: ak | C20: 0.50486111
B21: al | C21: 0.50486111
A22: 11 | B22: am | C22: 0.50486111
B23: an | C23: 0.50555556
B24: ao | C24: 0.50555556
A25: 12 | B25: ap | C25: 0.50555556
B26: aq | C26: 0.50625
A27: 13 | B27: ar | C27: 0.50694444
B28: as | C28: 0.50694444
B29: b | C29: 0.5
B30: c | C30: 0.5
A31: 1 | B31: d | C31: 0.5
B32: e | C32: 0.5
A33: 2 | B33: f | C33: 0.5
B34: g | C34: 0.50069444
B35: h | C35: 0.50069444
B36: i | C36: 0.50069444
A37: 8 | B37: ij | C37: 0.50277778
B38: j | C38: 0.50069444
A39: 3 | B39: k | C39: 0.50069444
B40: l | C40: 0.50069444
...

Sheet Legenda
C1: Lijst van afkortingen
C4: DLW | D4: Dood Lopende Weg
C5: EN DIRECT | D5: Volgende routepunt is zéér nabij
C6: EW | D6: Einde Weg
C7: Hoofdstraat- | D7: Zijstraat aan L-kant
C8: Hoofdstraat | D8: Kruist Hoofdstraat L en R
C9: -Hoofdstraat | D9: Zijstraat aan R-kant
C10: P Assen 2 | D10: ANWB Paal Assen 2 km
C11: VHZ | D11: Vluchtheuvel(zuil)
C12: VRW | D12: Voorrangsweg
C13: VKL.RE.DO | D13: Verkeerslicht
C14: VKL.RE.AF | D14: Verkeerslicht
C15: VKL.LI.AF | D15: Verkeerslicht
... C39: BEW.BRUG | D39: Beweegbare Brug

Sheet Rekenblad
A1: Was | B1: Wordt | D1: Mutatie
A2: 55 | B2: =A2+$D$2 -> 50.3 | D2: -4.7
A3: 55.6 | B3: =A3+$D$2 -> 50.9 | G3: 13.5 | I3: 118.3 | J3: 126.4
A4: 56 | B4: =A4+$D$2 -> 51.3 | I4: =I3+G3 -> 131.8 | J4: 134.5
A5: 56.2 | B5: =A5+$D$2 -> 51.5 | J5: =J4-J3 -> 8.1
A6: 56.3 | B6: =A6+$D$2 -> 51.6
A7: 56.6 | B7: =A7+$D$2 -> 51.9
A8: 57.2 | B8: =A8+$D$2 -> 52.5
A9: 57.7 | B9: =A9+$D$2 -> 53
A10: 58.6 | B10: =A10+$D$2 -> 53.9
A11: 58.9 | B11: =A11+$D$2 -> 54.2
A12: 59.2 | B12: =A12+$D$2 -> 54.5
A13: 59.9 | B13: =A13+$D$2 -> 55.2
A14: 60.3 | B14: =A14+$D$2 -> 55.6
A15: 61.1 | B15: =A15+$D$2 -> 56.4
A16: 63.4 | B16: =A16+$D$2 -> 58.7
A17: 63.5 | B17: =A17+$D$2 -> 58.8
... A178: 149.3 | B178: =A178+$D$2 -> 144.6
B179: =A179+$D$2 -> -4.7

Sheet Blad1
G2: {=VLOOKUP("EINDE NEUTR*",INDIRECT("route!D$6"):INDIRECT("route!E$6518"),2,FALSE)} -> 4.9
G3: {=VLOOKUP("FINISH",INDIRECT("route!D$6"):INDIRECT("route!E$6518"),2,FALSE)} -> 144.2
A5: =route!$A$5 -> 44 | B5: =route!$B$5 -> 46 | E5: =route!E5 -> 0.5
A6: door komst tijd | B6: door komst tijd | D6: Gereden km's | E6: tussen afstand | F6: =B5 -> 46 | I6: =A5 -> 44 | O6: re-a* | P6: li-a* | Q6: inv* | R6: uitv* | S6: rtd*
A7: {=IF(INDIRECT("route!D7")>0,L7,(""))} -> 0.5 | B7: {=IF(route!E7="","",IF(INDIRECT("route!D7")>0,G7,("")))} -> 0.5 | C7: =IF(D7>=0,VLOOKUP("EINDE NEUTR*",INDIRECT("route!D$6"):INDIRECT("route!E$8500"),2,FALSE)-D7," ") -> 4.9 | D7: {=INDIRECT("route!E7")} -> 0 | E7: =IF($T7=TRUE,"",N7-N6) | F7: 7.2 | G7: =Blad1!uur -> 0.5 | H7: =Blad1!uur -> 0.5 | I7: 7.2 | J7: =Blad1!uur -> 0.5 | L7: =Blad1!uur -> 0.5 | M7: 0 | N7: {=IF(INDIRECT("route!D7")="START",0,IF(T7=TRUE,N6,INDIRECT("route!E7")))} -> 0 | O7: =SEARCH($O$6,INDIRECT("route!G"&U7)) -> #VALUE! | P7: =SEARCH($P$6,INDIRECT("route!G"&U7)) -> #VALUE! | Q7: =SEARCH($Q$6,INDIRECT("route!G"&U7)) -> #VALUE! | R7: =SEARCH($R$6,INDIRECT("route!G"&U7)) -> #VALUE! | S7: =SEARCH($S$6,INDIRECT("route!G"&U7)) -> #VALUE! | T7: =AND(ISERROR(O7),ISERROR(P7),ISERROR(Q7),ISERROR(R7),ISERROR(S7)) -> TRUE | U7: 7 | W7: a
A8: {=IF(INDIRECT("route!D8")>0,L8,(""))} -> 0.5 | B8: {=IF(INDIRECT("route!D8")>0,H8,(""))} -> 0.5 | C8: =IF(D8>=0,VLOOKUP("EINDE NEUTR*",INDIRECT("route!D$6"):INDIRECT("route!E$8500"),2,FALSE)-D8," ") -> 4.9 | D8: {=INDIRECT("route!E8")} -> 0 | E8: =IF($T8=TRUE,"",N8-N7) -> 0 | F8: 7.2 | G8: =TIME(0,0,0+M8*1000/F8) -> 0 | H8: =H7+G8 -> 0.5 | I8: 7.2 | J8: =TIME(0,0,0+M8*1000/I8) -> 0 | L8: =L7+J8 -> 0.5 | M8: {=INDIRECT("route!E8")-INDIRECT("route!E7")} -> 0 | N8: {=IF(INDIRECT("route!D8")="START",0,IF(T8=TRUE,N7,INDIRECT("route!E8")))} -> 0 | O8: =SEARCH($O$6,INDIRECT("route!G"&U8)) -> #VALUE! | P8: =SEARCH($P$6,INDIRECT("route!G"&U8)) -> 1 | Q8: =SEARCH($Q$6,INDIRECT("route!G"&U8)) -> #VALUE! | R8: =SEARCH($R$6,INDIRECT("route!G"&U8)) -> #VALUE! | S8: =SEARCH($S$6,INDIRECT("route!G"&U8)) -> #VALUE! | T8: =AND(ISERROR(O8),ISERROR(P8),ISERROR(Q8),ISERROR(R8),ISERROR(S8)) -> FALSE | U8: 8 | W8: b
A9: {=IF(INDIRECT("route!D9")>0,L9,(""))} -> 0.50015046 | B9: {=IF(INDIRECT("route!D9")>0,H9,(""))} -> 0.50015046 | C9: =IF(D9>=0,VLOOKUP("EINDE NEUTR*",INDIRECT("route!D$6"):INDIRECT("route!E$8500"),2,FALSE)-D9," ") -> 4.8 | D9: {=INDIRECT("route!E9")} -> 0.1 | E9: =IF($T9=TRUE,"",N9-N8) | F9: 7.2 | G9: =TIME(0,0,0+M9*1000/F9) -> 0.00015046296 | H9: =H8+G9 -> 0.50015046 | I9: 7.2 | J9: =TIME(0,0,0+M9*1000/I9) -> 0.00015046296 | L9: =L8+J9 -> 0.50015046 | M9: {=INDIRECT("route!E9")-INDIRECT("route!E8")} -> 0.1 | N9: {=IF(INDIRECT("route!D9")="START",0,IF(T9=TRUE,N8,INDIRECT("route!E9")))} -> 0 | O9: =SEARCH($O$6,INDIRECT("route!G"&U9)) -> #VALUE! | P9: =SEARCH($P$6,INDIRECT("route!G"&U9)) -> #VALUE! | Q9: =SEARCH($Q$6,INDIRECT("route!G"&U9)) -> #VALUE! | R9: =SEARCH($R$6,INDIRECT("route!G"&U9)) -> #VALUE! | S9: =SEARCH($S$6,INDIRECT("route!G"&U9)) -> #VALUE! | T9: =AND(ISERROR(O9),ISERROR(P9),ISERROR(Q9),ISERROR(R9),ISERROR(S9)) -> TRUE | U9: 9 | W9: c
A10: {=IF(INDIRECT("route!D10")>0,L10,(""))} -> 0.50030093 | B10: {=IF(INDIRECT("route!D10")>0,H10,(""))} -> 0.50030093 | C10: =IF(D10>0,VLOOKUP("EINDE NEUTR*",INDIRECT("route!D$6"):INDIRECT("route!E$8500"),2,FALSE)-D10," ") -> 4.7 | D10: {=INDIRECT("route!E10")} -> 0.2 | E10: =IF($T10=TRUE,"",N10-N9) -> 0.2 | F10: 7.2 | G10: =TIME(0,0,0+M10*1000/F10) -> 0.00015046296 | H10: =H9+G10 -> 0.50030093 | I10: 7.2 | J10: =TIME(0,0,0+M10*1000/I10) -> 0.00015046296 | L10: =L9+J10 -> 0.50030093 | M10: {=INDIRECT("route!E10")-INDIRECT("route!E9")} -> 0.1 | N10: {=IF(INDIRECT("route!D10")="START",0,IF(T10=TRUE,N9,INDIRECT("route!E10")))} -> 0.2 | O10: =SEARCH($O$6,INDIRECT("route!G"&U10)) -> 1 | P10: =SEARCH($P$6,INDIRECT("route!G"&U10)) -> #VALUE! | Q10: =SEARCH($Q$6,INDIRECT("route!G"&U10)) -> #VALUE! | R10: =SEARCH($R$6,INDIRECT("route!G"&U10)) -> #VALUE! | S10: =SEARCH($S$6,INDIRECT("route!G"&U10)) -> #VALUE! | T10: =AND(ISERROR(O10),ISERROR(P10),ISERROR(Q10),ISERROR(R10),ISERROR(S10)) -> FALSE | U10: 10 | W10: d
A11: {=IF(INDIRECT("route!D11")>0,L11,(""))} -> 0.50045139 | B11: {=IF(INDIRECT("route!D11")>0,H11,(""))} -> 0.50045139 | C11: =IF(D11>0,VLOOKUP("EINDE NEUTR*",INDIRECT("route!D$6"):INDIRECT("route!E$8500"),2,FALSE)-D11," ") -> 4.6 | D11: {=INDIRECT("route!E11")} -> 0.3 | E11: =IF($T11=TRUE,"",N11-N10) | F11: 7.2 | G11: =TIME(0,0,0+M11*1000/F11) -> 0.00015046296 | H11: =H10+G11 -> 0.50045139 | I11: 7.2 | J11: =TIME(0,0,0+M11*1000/I11) -> 0.00015046296 | L11: =L10+J11 -> 0.50045139 | M11: {=INDIRECT("route!E11")-INDIRECT("route!E10")} -> 0.1 | N11: {=IF(INDIRECT("route!D11")="START",0,IF(T11=TRUE,N10,INDIRECT("route!E11")))} -> 0.2 | O11: =SEARCH($O$6,INDIRECT("route!G"&U11)) -> #VALUE! | P11: =SEARCH($P$6,INDIRECT("route!G"&U11)) -> #VALUE! | Q11: =SEARCH($Q$6,INDIRECT("route!G"&U11)) -> #VALUE! | R11: =SEARCH($R$6,INDIRECT("route!G"&U11)) -> #VALUE! | S11: =SEARCH($S$6,INDIRECT("route!G"&U11)) -> #VALUE! | T11: =AND(ISERROR(O11),ISERROR(P11),ISERROR(Q11),ISERROR(R11),ISERROR(S11)) -> TRUE | U11: 11 | W11: e
A12: {=IF(INDIRECT("route!D12")>0,L12,(""))} -> 0.50060185 | B12: {=IF(INDIRECT("route!D12")>0,H12,(""))} -> 0.50060185 | C12: =IF(D12>0,VLOOKUP("EINDE NEUTR*",INDIRECT("route!D$6"):INDIRECT("route!E$8500"),2,FALSE)-D12," ") -> 4.5 | D12: {=INDIRECT("route!E12")} -> 0.4 | E12: =IF($T12=TRUE,"",N12-N11) -> 0.2 | F12: 7.2 | G12: =TIME(0,0,0+M12*1000/F12) -> 0.00015046296 | H12: =H11+G12 -> 0.50060185 | I12: 7.2 | J12: =TIME(0,0,0+M12*1000/I12) -> 0.00015046296 | L12: =L11+J12 -> 0.50060185 | M12: {=INDIRECT("route!E12")-INDIRECT("route!E11")} -> 0.1 | N12: {=IF(INDIRECT("route!D12")="START",0,IF(T12=TRUE,N11,INDIRECT("route!E12")))} -> 0.4 | O12: =SEARCH($O$6,INDIRECT("route!G"&U12)) -> #VALUE! | P12: =SEARCH($P$6,INDIRECT("route!G"&U12)) -> 1 | Q12: =SEARCH($Q$6,INDIRECT("route!G"&U12)) -> #VALUE! | R12: =SEARCH($R$6,INDIRECT("route!G"&U12)) -> #VALUE! | S12: =SEARCH($S$6,INDIRECT("route!G"&U12)) -> #VALUE! | T12: =AND(ISERROR(O12),ISERROR(P12),ISERROR(Q12),ISERROR(R12),ISERROR(S12)) -> FALSE | U12: 12 | W12: f
A13: {=IF(INDIRECT("route!D13")>0,L13,(""))} -> 0.50075231 | B13: {=IF(INDIRECT("route!D13")>0,H13,(""))} -> 0.50075231 | C13: =IF(D13>0,VLOOKUP("EINDE NEUTR*",INDIRECT("route!D$6"):INDIRECT("route!E$8500"),2,FALSE)-D13," ") -> 4.4 | D13: {=INDIRECT("route!E13")} -> 0.5 | E13: =IF($T13=TRUE,"",N13-N12) | F13: 7.2 | G13: =TIME(0,0,0+M13*1000/F13) -> 0.00015046296 | H13: =H12+G13 -> 0.50075231 | I13: 7.2 | J13: =TIME(0,0,0+M13*1000/I13) -> 0.00015046296 | L13: =L12+J13 -> 0.50075231 | M13: {=INDIRECT("route!E13")-INDIRECT("route!E12")} -> 0.1 | N13: {=IF(INDIRECT("route!D13")="START",0,IF(T13=TRUE,N12,INDIRECT("route!E13")))} -> 0.4 | O13: =SEARCH($O$6,INDIRECT("route!G"&U13)) -> #VALUE! | P13: =SEARCH($P$6,INDIRECT("route!G"&U13)) -> #VALUE! | Q13: =SEARCH($Q$6,INDIRECT("route!G"&U13)) -> #VALUE! | R13: =SEARCH($R$6,INDIRECT("route!G"&U13)) -> #VALUE! | S13: =SEARCH($S$6,INDIRECT("route!G"&U13)) -> #VALUE! | T13: =AND(ISERROR(O13),ISERROR(P13),ISERROR(Q13),ISERROR(R13),ISERROR(S13)) -> TRUE | U13: 13 | W13: g
A14: {=IF(INDIRECT("route!D14")>0,L14,(""))} -> 0.50075231 | B14: {=IF(INDIRECT("route!D14")>0,H14,(""))} -> 0.50075231 | C14: =IF(D14>0,VLOOKUP("EINDE NEUTR*",INDIRECT("route!D$6"):INDIRECT("route!E$8500"),2,FALSE)-D14," ") -> 4.4 | D14: {=INDIRECT("route!E14")} -> 0.5 | E14: =IF($T14=TRUE,"",N14-N13) | F14: 7.2 | G14: =TIME(0,0,0+M14*1000/F14) -> 0 | H14: =H13+G14 -> 0.50075231 | I14: 7.2 | J14: =TIME(0,0,0+M14*1000/I14) -> 0 | L14: =L13+J14 -> 0.50075231 | M14: {=INDIRECT("route!E14")-INDIRECT("route!E13")} -> 0 | N14: {=IF(INDIRECT("route!D14")="START",0,IF(T14=TRUE,N13,INDIRECT("route!E14")))} -> 0.4 | O14: =SEARCH($O$6,INDIRECT("route!G"&U14)) -> #VALUE! | P14: =SEARCH($P$6,INDIRECT("route!G"&U14)) -> #VALUE! | Q14: =SEARCH($Q$6,INDIRECT("route!G"&U14)) -> #VALUE! | R14: =SEARCH($R$6,INDIRECT("route!G"&U14)) -> #VALUE! | S14: =SEARCH($S$6,INDIRECT("route!G"&U14)) -> #VALUE! | T14: =AND(ISERROR(O14),ISERROR(P14),ISERROR(Q14),ISERROR(R14),ISERROR(S14)) -> TRUE | U14: 14 | W14: h
A15: {=IF(INDIRECT("route!D15")>0,L15,(""))} -> 0.50075231 | B15: {=IF(INDIRECT("route!D15")>0,H15,(""))} -> 0.50075231 | C15: =IF(D15>0,VLOOKUP("EINDE NEUTR*",INDIRECT("route!D$6"):INDIRECT("route!E$8500"),2,FALSE)-D15," ") -> 4.4 | D15: {=INDIRECT("route!E15")} -> 0.5 | E15: =IF($T15=TRUE,"",N15-N14) | F15: 7.2 | G15: =TIME(0,0,0+M15*1000/F15) -> 0 | H15: =H14+G15 -> 0.50075231 | I15: 7.2 | J15: =TIME(0,0,0+M15*1000/I15) -> 0 | L15: =L14+J15 -> 0.50075231 | M15: {=INDIRECT("route!E15")-INDIRECT("route!E14")} -> 0 | N15: {=IF(INDIRECT("route!D15")="START",0,IF(T15=TRUE,N14,INDIRECT("route!E15")))} -> 0.4 | O15: =SEARCH($O$6,INDIRECT("route!G"&U15)) -> #VALUE! | P15: =SEARCH($P$6,INDIRECT("route!G"&U15)) -> #VALUE! | Q15: =SEARCH($Q$6,INDIRECT("route!G"&U15)) -> #VALUE! | R15: =SEARCH($R$6,INDIRECT("route!G"&U15)) -> #VALUE! | S15: =SEARCH($S$6,INDIRECT("route!G"&U15)) -> #VALUE! | T15: =AND(ISERROR(O15),ISERROR(P15),ISERROR(Q15),ISERROR(R15),ISERROR(S15)) -> TRUE | U15: 15 | W15: i
A16: {=IF(INDIRECT("route!D16")>0,L16,(""))} -> 0.50075231 | B16: {=IF(INDIRECT("route!D16")>0,H16,(""))} -> 0.50075231 | C16: =IF(D16>0,VLOOKUP("EINDE NEUTR*",INDIRECT("route!D$6"):INDIRECT("route!E$8500"),2,FALSE)-D16," ") -> 4.4 | D16: {=INDIRECT("route!E16")} -> 0.5 | E16: =IF($T16=TRUE,"",N16-N15) | F16: 7.2 | G16: =TIME(0,0,0+M16*1000/F16) -> 0 | H16: =H15+G16 -> 0.50075231 | I16: 7.2 | J16: =TIME(0,0,0+M16*1000/I16) -> 0 | L16: =L15+J16 -> 0.50075231 | M16: {=INDIRECT("route!E16")-INDIRECT("route!E15")} -> 0 | N16: {=IF(INDIRECT("route!D16")="START",0,IF(T16=TRUE,N15,INDIRECT("route!E16")))} -> 0.4 | O16: =SEARCH($O$6,INDIRECT("route!G"&U16)) -> #VALUE! | P16: =SEARCH($P$6,INDIRECT("route!G"&U16)) -> #VALUE! | Q16: =SEARCH($Q$6,INDIRECT("route!G"&U16)) -> #VALUE! | R16: =SEARCH($R$6,INDIRECT("route!G"&U16)) -> #VALUE! | S16: =SEARCH($S$6,INDIRECT("route!G"&U16)) -> #VALUE! | T16: =AND(ISERROR(O16),ISERROR(P16),ISERROR(Q16),ISERROR(R16),ISERROR(S16)) -> TRUE | U16: 16 | W16: j
A17: {=IF(INDIRECT("route!D17")>0,L17,(""))} -> 0.50090278 | B17: {=IF(INDIRECT("route!D17")>0,H17,(""))} -> 0.50090278 | C17: =IF(D17>0,VLOOKUP("EINDE NEUTR*",INDIRECT("route!D$6"):INDIRECT("route!E$8500"),2,FALSE)-D17," ") -> 4.3 | D17: {=INDIRECT("route!E17")} -> 0.6 | E17: =IF($T17=TRUE,"",N17-N16) -> 0.2 | F17: 7.2 | G17: =TIME(0,0,0+M17*1000/F17) -> 0.00015046296 | H17: =H16+G17 -> 0.50090278 | I17: 7.2 | J17: =TIME(0,0,0+M17*1000/I17) -> 0.00015046296 | L17: =L16+J17 -> 0.50090278 | M17: {=INDIRECT("route!E17")-INDIRECT("route!E16")} -> 0.1 | N17: {=IF(INDIRECT("route!D17")="START",0,IF(T17=TRUE,N16,INDIRECT("route!E17")))} -> 0.6 | O17: =SEARCH($O$6,INDIRECT("route!G"&U17)) -> #VALUE! | P17: =SEARCH($P$6,INDIRECT("route!G"&U17)) -> 1 | Q17: =SEARCH($Q$6,INDIRECT("route!G"&U17)) -> #VALUE! | R17: =SEARCH($R$6,INDIRECT("route!G"&U17)) -> #VALUE! | S17: =SEARCH($S$6,INDIRECT("route!G"&U17)) -> #VALUE! | T17: =AND(ISERROR(O17),ISERROR(P17),ISERROR(Q17),ISERROR(R17),ISERROR(S17)) -> FALSE | U17: 17 | W17: k
A18: {=IF(INDIRECT("route!D18")>0,L18,(""))} -> 0.50105324 | B18: {=IF(INDIRECT("route!D18")>0,H18,(""))} -> 0.50105324 | C18: =IF(D18>0,VLOOKUP("EINDE NEUTR*",INDIRECT("route!D$6"):INDIRECT("route!E$8500"),2,FALSE)-D18," ") -> 4.2 | D18: {=INDIRECT("route!E18")} -> 0.7 | E18: =IF($T18=TRUE,"",N18-N17) | F18: 7.2 | G18: =TIME(0,0,0+M18*1000/F18) -> 0.00015046296 | H18: =H17+G18 -> 0.50105324 | I18: 7.2 | J18: =TIME(0,0,0+M18*1000/I18) -> 0.00015046296 | L18: =L17+J18 -> 0.50105324 | M18: {=INDIRECT("route!E18")-INDIRECT("route!E17")} -> 0.1 | N18: {=IF(INDIRECT("route!D18")="START",0,IF(T18=TRUE,N17,INDIRECT("route!E18")))} -> 0.6 | O18: =SEARCH($O$6,INDIRECT("route!G"&U18)) -> #VALUE! | P18: =SEARCH($P$6,INDIRECT("route!G"&U18)) -> #VALUE! | Q18: =SEARCH($Q$6,INDIRECT("route!G"&U18)) -> #VALUE! | R18: =SEARCH($R$6,INDIRECT("route!G"&U18)) -> #VALUE! | S18: =SEARCH($S$6,INDIRECT("route!G"&U18)) -> #VALUE! | T18: =AND(ISERROR(O18),ISERROR(P18),ISERROR(Q18),ISERROR(R18),ISERROR(S18)) -> TRUE | U18: 18 | W18: l
A19: {=IF(INDIRECT("route!D19")>0,L19,(""))} -> 0.5012037 | B19: {=IF(INDIRECT("route!D19")>0,H19,(""))} -> 0.5012037 | C19: =IF(D19>0,VLOOKUP("EINDE NEUTR*",INDIRECT("route!D$6"):INDIRECT("route!E$8500"),2,FALSE)-D19," ") -> 4.1 | D19: {=INDIRECT("route!E19")} -> 0.8 | E19: =IF($T19=TRUE,"",N19-N18) | F19: 7.2 | G19: =TIME(0,0,0+M19*1000/F19) -> 0.00015046296 | H19: =H18+G19 -> 0.5012037 | I19: 7.2 | J19: =TIME(0,0,0+M19*1000/I19) -> 0.00015046296 | L19: =L18+J19 -> 0.5012037 | M19: {=INDIRECT("route!E19")-INDIRECT("route!E18")} -> 0.1 | N19: {=IF(INDIRECT("route!D19")="START",0,IF(T19=TRUE,N18,INDIRECT("route!E19")))} -> 0.6 | O19: =SEARCH($O$6,INDIRECT("route!G"&U19)) -> #VALUE! | P19: =SEARCH($P$6,INDIRECT("route!G"&U19)) -> #VALUE! | Q19: =SEARCH($Q$6,INDIRECT("route!G"&U19)) -> #VALUE! | R19: =SEARCH($R$6,INDIRECT("route!G"&U19)) -> #VALUE! | S19: =SEARCH($S$6,INDIRECT("route!G"&U19)) -> #VALUE! | T19: =AND(ISERROR(O19),ISERROR(P19),ISERROR(Q19),ISERROR(R19),ISERROR(S19)) -> TRUE | U19: 19 | W19: m
A20: {=IF(INDIRECT("route!D20")>0,L20,(""))} -> 0.5012037 | B20: {=IF(INDIRECT("route!D20")>0,H20,(""))} -> 0.5012037 | C20: =IF(D20>0,VLOOKUP("EINDE NEUTR*",INDIRECT("route!D$6"):INDIRECT("route!E$8500"),2,FALSE)-D20," ") -> 4.1 | D20: {=INDIRECT("route!E20")} -> 0.8 | E20: =IF($T20=TRUE,"",N20-N19) | F20: 7.2 | G20: =TIME(0,0,0+M20*1000/F20) -> 0 | H20: =H19+G20 -> 0.5012037 | I20: 7.2 | J20: =TIME(0,0,0+M20*1000/I20) -> 0 | L20: =L19+J20 -> 0.5012037 | M20: {=INDIRECT("route!E20")-INDIRECT("route!E19")} -> 0 | N20: {=IF(INDIRECT("route!D20")="START",0,IF(T20=TRUE,N19,INDIRECT("route!E20")))} -> 0.6 | O20: =SEARCH($O$6,INDIRECT("route!G"&U20)) -> #VALUE! | P20: =SEARCH($P$6,INDIRECT("route!G"&U20)) -> #VALUE! | Q20: =SEARCH($Q$6,INDIRECT("route!G"&U20)) -> #VALUE! | R20: =SEARCH($R$6,INDIRECT("route!G"&U20)) -> #VALUE! | S20: =SEARCH($S$6,INDIRECT("route!G"&U20)) -> #VALUE! | T20: =AND(ISERROR(O20),ISERROR(P20),ISERROR(Q20),ISERROR(R20),ISERROR(S20)) -> TRUE | U20: 20 | W20: n
A21: {=IF(INDIRECT("route!D21")>0,L21,(""))} -> 0.5015162 | B21: {=IF(INDIRECT("route!D21")>0,H21,(""))} -> 0.5015162 | C21: =IF(D21>0,VLOOKUP("EINDE NEUTR*",INDIRECT("route!D$6"):INDIRECT("route!E$8500"),2,FALSE)-D21," ") -> 3.9 | D21: {=INDIRECT("route!E21")} -> 1 | E21: =IF($T21=TRUE,"",N21-N20) -> 0.4 | F21: 7.2 | G21: =TIME(0,0,0+M21*1000/F21) -> 0.0003125 | H21: =H20+G21 -> 0.5015162 | I21: 7.2 | J21: =TIME(0,0,0+M21*1000/I21) -> 0.0003125 | L21: =L20+J21 -> 0.5015162 | M21: {=INDIRECT("route!E21")-INDIRECT("route!E20")} -> 0.2 | N21: {=IF(INDIRECT("route!D21")="START",0,IF(T21=TRUE,N20,INDIRECT("route!E21")))} -> 1 | O21: =SEARCH($O$6,INDIRECT("route!G"&U21)) -> 1 | P21: =SEARCH($P$6,INDIRECT("route!G"&U21)) -> #VALUE! | Q21: =SEARCH($Q$6,INDIRECT("route!G"&U21)) -> #VALUE! | R21: =SEARCH($R$6,INDIRECT("route!G"&U21)) -> #VALUE! | S21: =SEARCH($S$6,INDIRECT("route!G"&U21)) -> #VALUE! | T21: =AND(ISERROR(O21),ISERROR(P21),ISERROR(Q21),ISERROR(R21),ISERROR(S21)) -> FALSE | U21: 21 | W21: o
A22: {=IF(INDIRECT("route!D22")>0,L22,(""))} -> 0.5015162 | B22: {=IF(INDIRECT("route!D22")>0,H22,(""))} -> 0.5015162 | C22: =IF(D22>0,VLOOKUP("EINDE NEUTR*",INDIRECT("route!D$6"):INDIRECT("route!E$8500"),2,FALSE)-D22," ") -> 3.9 | D22: {=INDIRECT("route!E22")} -> 1 | E22: =IF($T22=TRUE,"",N22-N21) | F22: 7.2 | G22: =TIME(0,0,0+M22*1000/F22) -> 0 | H22: =H21+G22 -> 0.5015162 | I22: 7.2 | J22: =TIME(0,0,0+M22*1000/I22) -> 0 | L22: =L21+J22 -> 0.5015162 | M22: {=INDIRECT("route!E22")-INDIRECT("route!E21")} -> 0 | N22: {=IF(INDIRECT("route!D22")="START",0,IF(T22=TRUE,N21,INDIRECT("route!E22")))} -> 1 | O22: =SEARCH($O$6,INDIRECT("route!G"&U22)) -> #VALUE! | P22: =SEARCH($P$6,INDIRECT("route!G"&U22)) -> #VALUE! | Q22: =SEARCH($Q$6,INDIRECT("route!G"&U22)) -> #VALUE! | R22: =SEARCH($R$6,INDIRECT("route!G"&U22)) -> #VALUE! | S22: =SEARCH($S$6,INDIRECT("route!G"&U22)) -> #VALUE! | T22: =AND(ISERROR(O22),ISERROR(P22),ISERROR(Q22),ISERROR(R22),ISERROR(S22)) -> TRUE | U22: 22 | W22: p
A23: {=IF(INDIRECT("route!D23")>0,L23,(""))} -> 0.50166667 | B23: {=IF(INDIRECT("route!D23")>0,H23,(""))} -> 0.50166667 | C23: =IF(D23>0,VLOOKUP("EINDE NEUTR*",INDIRECT("route!D$6"):INDIRECT("route!E$8500"),2,FALSE)-D23," ") -> 3.8 | D23: {=INDIRECT("route!E23")} -> 1.1 | E23: =IF($T23=TRUE,"",N23-N22) -> 0.1 | F23: 7.2 | G23: =TIME(0,0,0+M23*1000/F23) -> 0.00015046296 | H23: =H22+G23 -> 0.50166667 | I23: 7.2 | J23: =TIME(0,0,0+M23*1000/I23) -> 0.00015046296 | L23: =L22+J23 -> 0.50166667 | M23: {=INDIRECT("route!E23")-INDIRECT("route!E22")} -> 0.1 | N23: {=IF(INDIRECT("route!D23")="START",0,IF(T23=TRUE,N22,INDIRECT("route!E23")))} -> 1.1 | O23: =SEARCH($O$6,INDIRECT("route!G"&U23)) -> #VALUE! | P23: =SEARCH($P$6,INDIRECT("route!G"&U23)) -> 9 | Q23: =SEARCH($Q$6,INDIRECT("route!G"&U23)) -> #VALUE! | R23: =SEARCH($R$6,INDIRECT("route!G"&U23)) -> #VALUE! | S23: =SEARCH($S$6,INDIRECT("route!G"&U23)) -> 1 | T23: =AND(ISERROR(O23),ISERROR(P23),ISERROR(Q23),ISERROR(R23),ISERROR(S23)) -> FALSE | U23: 23 | W23: q
A24: {=IF(INDIRECT("route!D24")>0,L24,(""))} -> 0.50230324 | B24: {=IF(INDIRECT("route!D24")>0,H24,(""))} -> 0.50230324 | C24: =IF(D24>0,VLOOKUP("EINDE NEUTR*",INDIRECT("route!D$6"):INDIRECT("route!E$8500"),2,FALSE)-D24," ") -> 3.4 | D24: {=INDIRECT("route!E24")} -> 1.5 | E24: =IF($T24=TRUE,"",N24-N23) | F24: 7.2 | G24: =TIME(0,0,0+M24*1000/F24) -> 0.00063657407 | H24: =H23+G24 -> 0.50230324 | I24: 7.2 | J24: =TIME(0,0,0+M24*1000/I24) -> 0.00063657407 | L24: =L23+J24 -> 0.50230324 | M24: {=INDIRECT("route!E24")-INDIRECT("route!E23")} -> 0.4 | N24: {=IF(INDIRECT("route!D24")="START",0,IF(T24=TRUE,N23,INDIRECT("route!E24")))} -> 1.1 | O24: =SEARCH($O$6,INDIRECT("route!G"&U24)) -> #VALUE! | P24: =SEARCH($P$6,INDIRECT("route!G"&U24)) -> #VALUE! | Q24: =SEARCH($Q$6,INDIRECT("route!G"&U24)) -> #VALUE! | R24: =SEARCH($R$6,INDIRECT("route!G"&U24)) -> #VALUE! | S24: =SEARCH($S$6,INDIRECT("route!G"&U24)) -> #VALUE! | T24: =AND(ISERROR(O24),ISERROR(P24),ISERROR(Q24),ISERROR(R24),ISERROR(S24)) -> TRUE | U24: 24 | W24: r
A25: {=IF(INDIRECT("route!D25")>0,L25,(""))} -> 0.50261574 | B25: {=IF(INDIRECT("route!D25")>0,H25,(""))} -> 0.50261574 | C25: =IF(D25>0,VLOOKUP("EINDE NEUTR*",INDIRECT("route!D$6"):INDIRECT("route!E$8500"),2,FALSE)-D25," ") -> 3.2 | D25: {=INDIRECT("route!E25")} -> 1.7 | E25: =IF($T25=TRUE,"",N25-N24) | F25: 7.2 | G25: =TIME(0,0,0+M25*1000/F25) -> 0.0003125 | H25: =H24+G25 -> 0.50261574 | I25: 7.2 | J25: =TIME(0,0,0+M25*1000/I25) -> 0.0003125 | L25: =L24+J25 -> 0.50261574 | M25: {=INDIRECT("route!E25")-INDIRECT("route!E24")} -> 0.2 | N25: {=IF(INDIRECT("route!D25")="START",0,IF(T25=TRUE,N24,INDIRECT("route!E25")))} -> 1.1 | O25: =SEARCH($O$6,INDIRECT("route!G"&U25)) -> #VALUE! | P25: =SEARCH($P$6,INDIRECT("route!G"&U25)) -> #VALUE! | Q25: =SEARCH($Q$6,INDIRECT("route!G"&U25)) -> #VALUE! | R25: =SEARCH($R$6,INDIRECT("route!G"&U25)) -> #VALUE! | S25: =SEARCH($S$6,INDIRECT("route!G"&U25)) -> #VALUE! | T25: =AND(ISERROR(O25),ISERROR(P25),ISERROR(Q25),ISERROR(R25),ISERROR(S25)) -> TRUE | U25: 25 | W25: s
A26: {=IF(INDIRECT("route!D26")>0,L26,(""))} -> 0.50261574 | B26: {=IF(INDIRECT("route!D26")>0,H26,(""))} -> 0.50261574 | C26: =IF(D26>0,VLOOKUP("EINDE NEUTR*",INDIRECT("route!D$6"):INDIRECT("route!E$8500"),2,FALSE)-D26," ") -> 3.2 | D26: {=INDIRECT("route!E26")} -> 1.7 | E26: =IF($T26=TRUE,"",N26-N25) | F26: 7.2 | G26: =TIME(0,0,0+M26*1000/F26) -> 0 | H26: =H25+G26 -> 0.50261574 | I26: 7.2 | J26: =TIME(0,0,0+M26*1000/I26) -> 0 | L26: =L25+J26 -> 0.50261574 | M26: {=INDIRECT("route!E26")-INDIRECT("route!E25")} -> 0 | N26: {=IF(INDIRECT("route!D26")="START",0,IF(T26=TRUE,N25,INDIRECT("route!E26")))} -> 1.1 | O26: =SEARCH($O$6,INDIRECT("route!G"&U26)) -> #VALUE! | P26: =SEARCH($P$6,INDIRECT("route!G"&U26)) -> #VALUE! | Q26: =SEARCH($Q$6,INDIRECT("route!G"&U26)) -> #VALUE! | R26: =SEARCH($R$6,INDIRECT("route!G"&U26)) -> #VALUE! | S26: =SEARCH($S$6,INDIRECT("route!G"&U26)) -> #VALUE! | T26: =AND(ISERROR(O26),ISERROR(P26),ISERROR(Q26),ISERROR(R26),ISERROR(S26)) -> TRUE | U26: 26 | W26: t
A27: {=IF(INDIRECT("route!D27")>0,L27,(""))} -> 0.5027662 | B27: {=IF(INDIRECT("route!D27")>0,H27,(""))} -> 0.5027662 | C27: =IF(D27>0,VLOOKUP("EINDE NEUTR*",INDIRECT("route!D$6"):INDIRECT("route!E$8500"),2,FALSE)-D27," ") -> 3.1 | D27: {=INDIRECT("route!E27")} -> 1.8 | E27: =IF($T27=TRUE,"",N27-N26) | F27: 7.2 | G27: =TIME(0,0,0+M27*1000/F27) -> 0.00015046296 | H27: =H26+G27 -> 0.5027662 | I27: 7.2 | J27: =TIME(0,0,0+M27*1000/I27) -> 0.00015046296 | L27: =L26+J27 -> 0.5027662 | M27: {=INDIRECT("route!E27")-INDIRECT("route!E26")} -> 0.1 | N27: {=IF(INDIRECT("route!D27")="START",0,IF(T27=TRUE,N26,INDIRECT("route!E27")))} -> 1.1 | O27: =SEARCH($O$6,INDIRECT("route!G"&U27)) -> #VALUE! | P27: =SEARCH($P$6,INDIRECT("route!G"&U27)) -> #VALUE! | Q27: =SEARCH($Q$6,INDIRECT("route!G"&U27)) -> #VALUE! | R27: =SEARCH($R$6,INDIRECT("route!G"&U27)) -> #VALUE! | S27: =SEARCH($S$6,INDIRECT("route!G"&U27)) -> #VALUE! | T27: =AND(ISERROR(O27),ISERROR(P27),ISERROR(Q27),ISERROR(R27),ISERROR(S27)) -> TRUE | U27: 27 | W27: u
A28: {=IF(INDIRECT("route!D28")>0,L28,(""))} -> 0.50291667 | B28: {=IF(INDIRECT("route!D28")>0,H28,(""))} -> 0.50291667 | C28: =IF(D28>0,VLOOKUP("EINDE NEUTR*",INDIRECT("route!D$6"):INDIRECT("route!E$8500"),2,FALSE)-D28," ") -> 3 | D28: {=INDIRECT("route!E28")} -> 1.9 | E28: =IF($T28=TRUE,"",N28-N27) | F28: 7.2 | G28: =TIME(0,0,0+M28*1000/F28) -> 0.00015046296 | H28: =H27+G28 -> 0.50291667 | I28: 7.2 | J28: =TIME(0,0,0+M28*1000/I28) -> 0.00015046296 | L28: =L27+J28 -> 0.50291667 | M28: {=INDIRECT("route!E28")-INDIRECT("route!E27")} -> 0.1 | N28: {=IF(INDIRECT("route!D28")="START",0,IF(T28=TRUE,N27,INDIRECT("route!E28")))} -> 1.1 | O28: =SEARCH($O$6,INDIRECT("route!G"&U28)) -> #VALUE! | P28: =SEARCH($P$6,INDIRECT("route!G"&U28)) -> #VALUE! | Q28: =SEARCH($Q$6,INDIRECT("route!G"&U28)) -> #VALUE! | R28: =SEARCH($R$6,INDIRECT("route!G"&U28)) -> #VALUE! | S28: =SEARCH($S$6,INDIRECT("route!G"&U28)) -> #VALUE! | T28: =AND(ISERROR(O28),ISERROR(P28),ISERROR(Q28),ISERROR(R28),ISERROR(S28)) -> TRUE | U28: 28 | W28: v
A29: {=IF(INDIRECT("route!D29")>0,L29,(""))} -> 0.50306713 | B29: {=IF(INDIRECT("route!D29")>0,H29,(""))} -> 0.50306713 | C29: =IF(D29>0,VLOOKUP("EINDE NEUTR*",INDIRECT("route!D$6"):INDIRECT("route!E$8500"),2,FALSE)-D29," ") -> 2.9 | D29: {=INDIRECT("route!E29")} -> 2 | E29: =IF($T29=TRUE,"",N29-N28) -> 0.9 | F29: 7.2 | G29: =TIME(0,0,0+M29*1000/F29) -> 0.00015046296 | H29: =H28+G29 -> 0.50306713 | I29: 7.2 | J29: =TIME(0,0,0+M29*1000/I29) -> 0.00015046296 | L29: =L28+J29 -> 0.50306713 | M29: {=INDIRECT("route!E29")-INDIRECT("route!E28")} -> 0.1 | N29: {=IF(INDIRECT("route!D29")="START",0,IF(T29=TRUE,N28,INDIRECT("route!E29")))} -> 2 | O29: =SEARCH($O$6,INDIRECT("route!G"&U29)) -> #VALUE! | P29: =SEARCH($P$6,INDIRECT("route!G"&U29)) -> #VALUE! | Q29: =SEARCH($Q$6,INDIRECT("route!G"&U29)) -> #VALUE! | R29: =SEARCH($R$6,INDIRECT("route!G"&U29)) -> #VALUE! | S29: =SEARCH($S$6,INDIRECT("route!G"&U29)) -> 1 | T29: =AND(ISERROR(O29),ISERROR(P29),ISERROR(Q29),ISERROR(R29),ISERROR(S29)) -> FALSE | U29: 29 | W29: w
A30: {=IF(INDIRECT("route!D30")>0,L30,(""))} -> 0.50306713 | B30: {=IF(INDIRECT("route!D30")>0,H30,(""))} -> 0.50306713 | C30: =IF(D30>0,VLOOKUP("EINDE NEUTR*",INDIRECT("route!D$6"):INDIRECT("route!E$8500"),2,FALSE)-D30," ") -> 2.9 | D30: {=INDIRECT("route!E30")} -> 2 | E30: =IF($T30=TRUE,"",N30-N29) | F30: 7.2 | G30: =TIME(0,0,0+M30*1000/F30) -> 0 | H30: =H29+G30 -> 0.50306713 | I30: 7.2 | J30: =TIME(0,0,0+M30*1000/I30) -> 0 | L30: =L29+J30 -> 0.50306713 | M30: {=INDIRECT("route!E30")-INDIRECT("route!E29")} -> 0 | N30: {=IF(INDIRECT("route!D30")="START",0,IF(T30=TRUE,N29,INDIRECT("route!E30")))} -> 2 | O30: =SEARCH($O$6,INDIRECT("route!G"&U30)) -> #VALUE! | P30: =SEARCH($P$6,INDIRECT("route!G"&U30)) -> #VALUE! | Q30: =SEARCH($Q$6,INDIRECT("route!G"&U30)) -> #VALUE! | R30: =SEARCH($R$6,INDIRECT("route!G"&U30)) -> #VALUE! | S30: =SEARCH($S$6,INDIRECT("route!G"&U30)) -> #VALUE! | T30: =AND(ISERROR(O30),ISERROR(P30),ISERROR(Q30),ISERROR(R30),ISERROR(S30)) -> TRUE | U30: 30 | W30: x
A31: {=IF(INDIRECT("route!D31")>0,L31,(""))} -> 0.50337963 | B31: {=IF(INDIRECT("route!D31")>0,H31,(""))} -> 0.50337963 | C31: =IF(D31>0,VLOOKUP("EINDE NEUTR*",INDIRECT("route!D$6"):INDIRECT("route!E$8500"),2,FALSE)-D31," ") -> 2.7 | D31: {=INDIRECT("route!E31")} -> 2.2 | E31: =IF($T31=TRUE,"",N31-N30) | F31: 7.2 | G31: =TIME(0,0,0+M31*1000/F31) -> 0.0003125 | H31: =H30+G31 -> 0.50337963 | I31: 7.2 | J31: =TIME(0,0,0+M31*1000/I31) -> 0.0003125 | L31: =L30+J31 -> 0.50337963 | M31: {=INDIRECT("route!E31")-INDIRECT("route!E30")} -> 0.2 | N31: {=IF(INDIRECT("route!D31")="START",0,IF(T31=TRUE,N30,INDIRECT("route!E31")))} -> 2 | O31: =SEARCH($O$6,INDIRECT("route!G"&U31)) -> #VALUE! | P31: =SEARCH($P$6,INDIRECT("route!G"&U31)) -> #VALUE! | Q31: =SEARCH($Q$6,INDIRECT("route!G"&U31)) -> #VALUE! | R31: =SEARCH($R$6,INDIRECT("route!G"&U31)) -> #VALUE! | S31: =SEARCH($S$6,INDIRECT("route!G"&U31)) -> #VALUE! | T31: =AND(ISERROR(O31),ISERROR(P31),ISERROR(Q31),ISERROR(R31),ISERROR(S31)) -> TRUE | U31: 31 | W31: ij
A32: {=IF(INDIRECT("route!D32")>0,L32,(""))} -> 0.50353009 | B32: {=IF(INDIRECT("route!D32")>0,H32,(""))} -> 0.50353009 | C32: =IF(D32>0,VLOOKUP("EINDE NEUTR*",INDIRECT("route!D$6"):INDIRECT("route!E$8500"),2,FALSE)-D32," ") -> 2.6 | D32: {=INDIRECT("route!E32")} -> 2.3 | E32: =IF($T32=TRUE,"",N32-N31) | F32: 7.2 | G32: =TIME(0,0,0+M32*1000/F32) -> 0.00015046296 | H32: =H31+G32 -> 0.50353009 | I32: 7.2 | J32: =TIME(0,0,0+M32*1000/I32) -> 0.00015046296 | L32: =L31+J32 -> 0.50353009 | M32: {=INDIRECT("route!E32")-INDIRECT("route!E31")} -> 0.1 | N32: {=IF(INDIRECT("route!D32")="START",0,IF(T32=TRUE,N31,INDIRECT("route!E32")))} -> 2 | O32: =SEARCH($O$6,INDIRECT("route!G"&U32)) -> #VALUE! | P32: =SEARCH($P$6,INDIRECT("route!G"&U32)) -> #VALUE! | Q32: =SEARCH($Q$6,INDIRECT("route!G"&U32)) -> #VALUE! | R32: =SEARCH($R$6,INDIRECT("route!G"&U32)) -> #VALUE! | S32: =SEARCH($S$6,INDIRECT("route!G"&U32)) -> #VALUE! | T32: =AND(ISERROR(O32),ISERROR(P32),ISERROR(Q32),ISERROR(R32),ISERROR(S32)) -> TRUE | U32: 32 | W32: z
A33: {=IF(INDIRECT("route!D33")>0,L33,(""))} -> 0.50368056 | B33: {=IF(INDIRECT("route!D33")>0,H33,(""))} -> 0.50368056 | C33: =IF(D33>0,VLOOKUP("EINDE NEUTR*",INDIRECT("route!D$6"):INDIRECT("route!E$8500"),2,FALSE)-D33," ") -> 2.5 | D33: {=INDIRECT("route!E33")} -> 2.4 | E33: =IF($T33=TRUE,"",N33-N32) | F33: 7.2 | G33: =TIME(0,0,0+M33*1000/F33) -> 0.00015046296 | H33: =H32+G33 -> 0.50368056 | I33: 7.2 | J33: =TIME(0,0,0+M33*1000/I33) -> 0.00015046296 | L33: =L32+J33 -> 0.50368056 | M33: {=INDIRECT("route!E33")-INDIRECT("route!E32")} -> 0.1 | N33: {=IF(INDIRECT("route!D33")="START",0,IF(T33=TRUE,N32,INDIRECT("route!E33")))} -> 2 | O33: =SEARCH($O$6,INDIRECT("route!G"&U33)) -> #VALUE! | P33: =SEARCH($P$6,INDIRECT("route!G"&U33)) -> #VALUE! | Q33: =SEARCH($Q$6,INDIRECT("route!G"&U33)) -> #VALUE! | R33: =SEARCH($R$6,INDIRECT("route!G"&U33)) -> #VALUE! | S33: =SEARCH($S$6,INDIRECT("route!G"&U33)) -> #VALUE! | T33: =AND(ISERROR(O33),ISERROR(P33),ISERROR(Q33),ISERROR(R33),ISERROR(S33)) -> TRUE | U33: 33 | W33: aa
A34: {=IF(INDIRECT("route!D34")>0,L34,(""))} -> 0.50383102 | B34: {=IF(INDIRECT("route!D34")>0,H34,(""))} -> 0.50383102 | C34: =IF(D34>0,VLOOKUP("EINDE NEUTR*",INDIRECT("route!D$6"):INDIRECT("route!E$8500"),2,FALSE)-D34," ") -> 2.4 | D34: {=INDIRECT("route!E34")} -> 2.5 | E34: =IF($T34=TRUE,"",N34-N33) | F34: 7.2 | G34: =TIME(0,0,0+M34*1000/F34) -> 0.00015046296 | H34: =H33+G34 -> 0.50383102 | I34: 7.2 | J34: =TIME(0,0,0+M34*1000/I34) -> 0.00015046296 | L34: =L33+J34 -> 0.50383102 | M34: {=INDIRECT("route!E34")-INDIRECT("route!E33")} -> 0.1 | N34: {=IF(INDIRECT("route!D34")="START",0,IF(T34=TRUE,N33,INDIRECT("route!E34")))} -> 2 | O34: =SEARCH($O$6,INDIRECT("route!G"&U34)) -> #VALUE! | P34: =SEARCH($P$6,INDIRECT("route!G"&U34)) -> #VALUE! | Q34: =SEARCH($Q$6,INDIRECT("route!G"&U34)) -> #VALUE! | R34: =SEARCH($R$6,INDIRECT("route!G"&U34)) -> #VALUE! | S34: =SEARCH($S$6,INDIRECT("route!G"&U34)) -> #VALUE! | T34: =AND(ISERROR(O34),ISERROR(P34),ISERROR(Q34),ISERROR(R34),ISERROR(S34)) -> TRUE | U34: 34 | W34: ab
A35: {=IF(INDIRECT("route!D35")>0,L35,(""))} -> 0.50398148 | B35: {=IF(INDIRECT("route!D35")>0,H35,(""))} -> 0.50398148 | C35: =IF(D35>0,VLOOKUP("EINDE NEUTR*",INDIRECT("route!D$6"):INDIRECT("route!E$8500"),2,FALSE)-D35," ") -> 2.3 | D35: {=INDIRECT("route!E35")} -> 2.6 | E35: =IF($T35=TRUE,"",N35-N34) | F35: 7.2 | G35: =TIME(0,0,0+M35*1000/F35) -> 0.00015046296 | H35: =H34+G35 -> 0.50398148 | I35: 7.2 | J35: =TIME(0,0,0+M35*1000/I35) -> 0.00015046296 | L35: =L34+J35 -> 0.50398148 | M35: {=INDIRECT("route!E35")-INDIRECT("route!E34")} -> 0.1 | N35: {=IF(INDIRECT("route!D35")="START",0,IF(T35=TRUE,N34,INDIRECT("route!E35")))} -> 2 | O35: =SEARCH($O$6,INDIRECT("route!G"&U35)) -> #VALUE! | P35: =SEARCH($P$6,INDIRECT("route!G"&U35)) -> #VALUE! | Q35: =SEARCH($Q$6,INDIRECT("route!G"&U35)) -> #VALUE! | R35: =SEARCH($R$6,INDIRECT("route!G"&U35)) -> #VALUE! | S35: =SEARCH($S$6,INDIRECT("route!G"&U35)) -> #VALUE! | T35: =AND(ISERROR(O35),ISERROR(P35),ISERROR(Q35),ISERROR(R35),ISERROR(S35)) -> TRUE | U35: 35 | W35: ac
A36: {=IF(INDIRECT("route!D36")>0,L36,(""))} -> 0.50413194 | B36: {=IF(INDIRECT("route!D36")>0,H36,(""))} -> 0.50413194 | C36: =IF(D36>0,VLOOKUP("EINDE NEUTR*",INDIRECT("route!D$6"):INDIRECT("route!E$8500"),2,FALSE)-D36," ") -> 2.2 | D36: {=INDIRECT("route!E36")} -> 2.7 | E36: =IF($T36=TRUE,"",N36-N35) | F36: 7.2 | G36: =TIME(0,0,0+M36*1000/F36) -> 0.00015046296 | H36: =H35+G36 -> 0.50413194 | I36: 7.2 | J36: =TIME(0,0,0+M36*1000/I36) -> 0.00015046296 | L36: =L35+J36 -> 0.50413194 | M36: {=INDIRECT("route!E36")-INDIRECT("route!E35")} -> 0.1 | N36: {=IF(INDIRECT("route!D36")="START",0,IF(T36=TRUE,N35,INDIRECT("route!E36")))} -> 2 | O36: =SEARCH($O$6,INDIRECT("route!G"&U36)) -> #VALUE! | P36: =SEARCH($P$6,INDIRECT("route!G"&U36)) -> #VALUE! | Q36: =SEARCH($Q$6,INDIRECT("route!G"&U36)) -> #VALUE! | R36: =SEARCH($R$6,INDIRECT("route!G"&U36)) -> #VALUE! | S36: =SEARCH($S$6,INDIRECT("route!G"&U36)) -> #VALUE! | T36: =AND(ISERROR(O36),ISERROR(P36),ISERROR(Q36),ISERROR(R36),ISERROR(S36)) -> TRUE | U36: 36 | W36: ad
A37: {=IF(INDIRECT("route!D37")>0,L37,(""))} -> 0.50413194 | B37: {=IF(INDIRECT("route!D37")>0,H37,(""))} -> 0.50413194 | C37: =IF(D37>0,VLOOKUP("EINDE NEUTR*",INDIRECT("route!D$6"):INDIRECT("route!E$8500"),2,FALSE)-D37," ") -> 2.2 | D37: {=INDIRECT("route!E37")} -> 2.7 | E37: =IF($T37=TRUE,"",N37-N36) -> 0.7 | F37: 7.2 | G37: =TIME(0,0,0+M37*1000/F37) -> 0 | H37: =H36+G37 -> 0.50413194 | I37: 7.2 | J37: =TIME(0,0,0+M37*1000/I37) -> 0 | L37: =L36+J37 -> 0.50413194 | M37: {=INDIRECT("route!E37")-INDIRECT("route!E36")} -> 0 | N37: {=IF(INDIRECT("route!D37")="START",0,IF(T37=TRUE,N36,INDIRECT("route!E37")))} -> 2.7 | O37: =SEARCH($O$6,INDIRECT("route!G"&U37)) -> 9 | P37: =SEARCH($P$6,INDIRECT("route!G"&U37)) -> #VALUE! | Q37: =SEARCH($Q$6,INDIRECT("route!G"&U37)) -> #VALUE! | R37: =SEARCH($R$6,INDIRECT("route!G"&U37)) -> #VALUE! | S37: =SEARCH($S$6,INDIRECT("route!G"&U37)) -> 1 | T37: =AND(ISERROR(O37),ISERROR(P37),ISERROR(Q37),ISERROR(R37),ISERROR(S37)) -> FALSE | U37: 37 | W37: ae
A38: {=IF(INDIRECT("route!D38")>0,L38,(""))} -> 0.50413194 | B38: {=IF(INDIRECT("route!D38")>0,H38,(""))} -> 0.50413194 | C38: =IF(D38>0,VLOOKUP("EINDE NEUTR*",INDIRECT("route!D$6"):INDIRECT("route!E$8500"),2,FALSE)-D38," ") -> 2.2 | D38: {=INDIRECT("route!E38")} -> 2.7 | E38: =IF($T38=TRUE,"",N38-N37) | F38: 7.2 | G38: =TIME(0,0,0+M38*1000/F38) -> 0 | H38: =H37+G38 -> 0.50413194 | I38: 7.2 | J38: =TIME(0,0,0+M38*1000/I38) -> 0 | L38: =L37+J38 -> 0.50413194 | M38: {=INDIRECT("route!E38")-INDIRECT("route!E37")} -> 0 | N38: {=IF(INDIRECT("route!D38")="START",0,IF(T38=TRUE,N37,INDIRECT("route!E38")))} -> 2.7 | O38: =SEARCH($O$6,INDIRECT("route!G"&U38)) -> #VALUE! | P38: =SEARCH($P$6,INDIRECT("route!G"&U38)) -> #VALUE! | Q38: =SEARCH($Q$6,INDIRECT("route!G"&U38)) -> #VALUE! | R38: =SEARCH($R$6,INDIRECT("route!G"&U38)) -> #VALUE! | S38: =SEARCH($S$6,INDIRECT("route!G"&U38)) -> #VALUE! | T38: =AND(ISERROR(O38),ISERROR(P38),ISERROR(Q38),ISERROR(R38),ISERROR(S38)) -> TRUE | U38: 38 | W38: af
A39: {=IF(INDIRECT("route!D39")>0,L39,(""))} -> 0.50428241 | B39: {=IF(INDIRECT("route!D39")>0,H39,(""))} -> 0.50428241 | C39: =IF(D39>0,VLOOKUP("EINDE NEUTR*",INDIRECT("route!D$6"):INDIRECT("route!E$8500"),2,FALSE)-D39," ") -> 2.1 | D39: {=INDIRECT("route!E39")} -> 2.8 | E39: =IF($T39=TRUE,"",N39-N38) | F39: 7.2 | G39: =TIME(0,0,0+M39*1000/F39) -> 0.00015046296 | H39: =H38+G39 -> 0.50428241 | I39: 7.2 | J39: =TIME(0,0,0+M39*1000/I39) -> 0.00015046296 | L39: =L38+J39 -> 0.50428241 | M39: {=INDIRECT("route!E39")-INDIRECT("route!E38")} -> 0.1 | N39: {=IF(INDIRECT("route!D39")="START",0,IF(T39=TRUE,N38,INDIRECT("route!E39")))} -> 2.7 | O39: =SEARCH($O$6,INDIRECT("route!G"&U39)) -> #VALUE! | P39: =SEARCH($P$6,INDIRECT("route!G"&U39)) -> #VALUE! | Q39: =SEARCH($Q$6,INDIRECT("route!G"&U39)) -> #VALUE! | R39: =SEARCH($R$6,INDIRECT("route!G"&U39)) -> #VALUE! | S39: =SEARCH($S$6,INDIRECT("route!G"&U39)) -> #VALUE! | T39: =AND(ISERROR(O39),ISERROR(P39),ISERROR(Q39),ISERROR(R39),ISERROR(S39)) -> TRUE | U39: 39 | W39: ag
A40: {=IF(INDIRECT("route!D40")>0,L40,(""))} -> 0.50443287 | B40: {=IF(INDIRECT("route!D40")>0,H40,(""))} -> 0.50443287 | C40: =IF(D40>0,VLOOKUP("EINDE NEUTR*",INDIRECT("route!D$6"):INDIRECT("route!E$8500"),2,FALSE)-D40," ") -> 2 | D40: {=INDIRECT("route!E40")} -> 2.9 | E40: =IF($T40=TRUE,"",N40-N39) | F40: 7.2 | G40: =TIME(0,0,0+M40*1000/F40) -> 0.00015046296 | H40: =H39+G40 -> 0.50443287 | I40: 7.2 | J40: =TIME(0,0,0+M40*1000/I40) -> 0.00015046296 | L40: =L39+J40 -> 0.50443287 | M40: {=INDIRECT("route!E40")-INDIRECT("route!E39")} -> 0.1 | N40: {=IF(INDIRECT("route!D40")="START",0,IF(T40=TRUE,N39,INDIRECT("route!E40")))} -> 2.7 | O40: =SEARCH($O$6,INDIRECT("route!G"&U40)) -> #VALUE! | P40: =SEARCH($P$6,INDIRECT("route!G"&U40)) -> #VALUE! | Q40: =SEARCH($Q$6,INDIRECT("route!G"&U40)) -> #VALUE! | R40: =SEARCH($R$6,INDIRECT("route!G"&U40)) -> #VALUE! | S40: =SEARCH($S$6,INDIRECT("route!G"&U40)) -> #VALUE! | T40: =AND(ISERROR(O40),ISERROR(P40),ISERROR(Q40),ISERROR(R40),ISERROR(S40)) -> TRUE | U40: 40 | W40: ah
A41: {=IF(INDIRECT("route!D41")>0,L41,(""))} -> 0.50474537 | B41: {=IF(INDIRECT("route!D41")>0,H41,(""))} -> 0.50474537 | C41: =IF(D41>0,VLOOKUP("EINDE NEUTR*",INDIRECT("route!D$6"):INDIRECT("route!E$8500"),2,FALSE)-D41," ") -> 1.8 | D41: {=INDIRECT("route!E41")} -> 3.1 | E41: =IF($T41=TRUE,"",N41-N40) | F41: 7.2 | G41: =TIME(0,0,0+M41*1000/F41) -> 0.0003125 | H41: =H40+G41 -> 0.50474537 | I41: 7.2 | J41: =TIME(0,0,0+M41*1000/I41) -> 0.0003125 | L41: =L40+J41 -> 0.50474537 | M41: {=INDIRECT("route!E41")-INDIRECT("route!E40")} -> 0.2 | N41: {=IF(INDIRECT("route!D41")="START",0,IF(T41=TRUE,N40,INDIRECT("route!E41")))} -> 2.7 | O41: =SEARCH($O$6,INDIRECT("route!G"&U41)) -> #VALUE! | P41: =SEARCH($P$6,INDIRECT("route!G"&U41)) -> #VALUE! | Q41: =SEARCH($Q$6,INDIRECT("route!G"&U41)) -> #VALUE! | R41: =SEARCH($R$6,INDIRECT("route!G"&U41)) -> #VALUE! | S41: =SEARCH($S$6,INDIRECT("route!G"&U41)) -> #VALUE! | T41: =AND(ISERROR(O41),ISERROR(P41),ISERROR(Q41),ISERROR(R41),ISERROR(S41)) -> TRUE | U41: 41 | W41: ai
A42: {=IF(INDIRECT("route!D42")>0,L42,(""))} -> 0.50489583 | B42: {=IF(INDIRECT("route!D42")>0,H42,(""))} -> 0.50489583 | C42: =IF(D42>0,VLOOKUP("EINDE NEUTR*",INDIRECT("route!D$6"):INDIRECT("route!E$8500"),2,FALSE)-D42," ") -> 1.7 | D42: {=INDIRECT("route!E42")} -> 3.2 | E42: =IF($T42=TRUE,"",N42-N41) | F42: 7.2 | G42: =TIME(0,0,0+M42*1000/F42) -> 0.00015046296 | H42: =H41+G42 -> 0.50489583 | I42: 7.2 | J42: =TIME(0,0,0+M42*1000/I42) -> 0.00015046296 | L42: =L41+J42 -> 0.50489583 | M42: {=INDIRECT("route!E42")-INDIRECT("route!E41")} -> 0.1 | N42: {=IF(INDIRECT("route!D42")="START",0,IF(T42=TRUE,N41,INDIRECT("route!E42")))} -> 2.7 | O42: =SEARCH($O$6,INDIRECT("route!G"&U42)) -> #VALUE! | P42: =SEARCH($P$6,INDIRECT("route!G"&U42)) -> #VALUE! | Q42: =SEARCH($Q$6,INDIRECT("route!G"&U42)) -> #VALUE! | R42: =SEARCH($R$6,INDIRECT("route!G"&U42)) -> #VALUE! | S42: =SEARCH($S$6,INDIRECT("route!G"&U42)) -> #VALUE! | T42: =AND(ISERROR(O42),ISERROR(P42),ISERROR(Q42),ISERROR(R42),ISERROR(S42)) -> TRUE | U42: 42 | W42: aj
...

Sheet Matrix1
A1: MBT | B1: Post | C1: Tijd | E1: MBT | F1: Post | G1: Tijd | I1: MBT | J1: Post | K1: Tijd | M1: MBT | N1: Post | O1: Tijd | Q1: MBT | R1: Post | S1: Tijd | U1: MBT | V1: Post | W1: Tijd | Y1: MBT | Z1: Post | AA1: Tijd
A2: =Sortering!A2 -> 0 | B2: =Sortering!B2 -> 76a | C2: =Sortering!C2 -> 0.54930556 | E2: =Sortering!A6 -> 0 | F2: =Sortering!B6 -> 169b | G2: =Sortering!C6 -> 0.60902778
A3: =Sortering!A3 -> 0 | B3: =Sortering!B3 -> 158a | C3: =Sortering!C3 -> 0.59375
A4: =Sortering!A4 -> 0 | B4: =Sortering!B4 -> 158b | C4: =Sortering!C4 -> 0.59513889 | E4: =Sortering!A24 -> 0 | F4: =Sortering!B24 -> ao | G4: =Sortering!C24 -> 0.50555556
A5: =Sortering!A5 -> 0 | B5: =Sortering!B5 -> 169a | C5: =Sortering!C5 -> 0.60833333 | E5: =Sortering!A25 -> 12 | F5: =Sortering!B25 -> ap | G5: =Sortering!C25 -> 0.50555556
A6: =Sortering!A6 -> 0 | B6: =Sortering!B6 -> 169b | C6: =Sortering!C6 -> 0.60902778
A7: =#REF! -> #REF! | B7: =#REF! -> #REF! | C7: =#REF! -> #REF!
A8: =Sortering!A7 -> 0 | B8: =Sortering!B7 -> 210a | C8: =Sortering!C7 -> 0.62222222
A9: =Sortering!A8 -> 0 | B9: =Sortering!B8 -> 210b | C9: =Sortering!C8 -> 0.62361111
A10: =Sortering!A9 -> 0 | B10: =Sortering!B9 -> a | C10: =Sortering!C9 -> 0.5
A11: =Sortering!A10 -> 0 | B11: =Sortering!B10 -> aa | C11: =Sortering!C10 -> 0.50347222
A12: =Sortering!A11 -> 0 | B12: =Sortering!B11 -> ab | C12: =Sortering!C11 -> 0.50347222
A13: =Sortering!A12 -> 0 | B13: =Sortering!B12 -> ac | C13: =Sortering!C12 -> 0.50347222
A14: =Sortering!A13 -> 0 | B14: =Sortering!B13 -> ad | C14: =Sortering!C13 -> 0.50347222
A15: =Sortering!A14 -> 9 | B15: =Sortering!B14 -> ae | C15: =Sortering!C14 -> 0.50347222
A16: =Sortering!A15 -> 0 | B16: =Sortering!B15 -> af | C16: =Sortering!C15 -> 0.50347222
A17: =Sortering!A16 -> 0 | B17: =Sortering!B16 -> ag | C17: =Sortering!C16 -> 0.50416667
A18: =Sortering!A26 -> 0 | B18: =Sortering!B26 -> aq | C18: =Sortering!C26 -> 0.50625
A19: =Sortering!A27 -> 13 | B19: =Sortering!B27 -> ar | C19: =Sortering!C27 -> 0.50694444
A20: =Sortering!A28 -> 0 | B20: =Sortering!B28 -> as | C20: =Sortering!C28 -> 0.50694444
A21: =Sortering!A29 -> 0 | B21: =Sortering!B29 -> b | C21: =Sortering!C29 -> 0.5
A22: =Sortering!A30 -> 0 | B22: =Sortering!B30 -> c | C22: =Sortering!C30 -> 0.5
A23: =Sortering!A31 -> 1 | B23: =Sortering!B31 -> d | C23: =Sortering!C31 -> 0.5
A24: =Sortering!A32 -> 0 | B24: =Sortering!B32 -> e | C24: =Sortering!C32 -> 0.5
A25: =Sortering!A33 -> 2 | B25: =Sortering!B33 -> f | C25: =Sortering!C33 -> 0.5
A26: =Sortering!A34 -> 0 | B26: =Sortering!B34 -> g | C26: =Sortering!C34 -> 0.50069444
A27: =Sortering!A35 -> 0 | B27: =Sortering!B35 -> h | C27: =Sortering!C35 -> 0.50069444
A28: =Sortering!A36 -> 0 | B28: =Sortering!B36 -> i | C28: =Sortering!C36 -> 0.50069444
A29: =Sortering!A37 -> 8 | B29: =Sortering!B37 -> ij | C29: =Sortering!C37 -> 0.50277778
... A31: =Sortering!A39 -> 3 | B31: =Sortering!B39 -> k | C31: =Sortering!C39 -> 0.50069444
A32: =Sortering!A42 -> 0 | B32: =Sortering!B42 -> n | C32: =Sortering!C42 -> 0.50069444
A33: =Sortering!A43 -> 4 | B33: =Sortering!B43 -> o | C33: =Sortering!C43 -> 0.50138889
A34: =Sortering!A44 -> 0 | B34: =Sortering!B44 -> p | C34: =Sortering!C44 -> 0.50138889
A35: =Sortering!A45 -> 46178 | B35: =Sortering!B45 -> q | C35: =Sortering!C45 -> 0.50138889
A36: =Sortering!A46 -> 0 | B36: =Sortering!B46 -> r | C36: =Sortering!C46 -> 0.50208333
A37: =Sortering!A47 -> 0 | B37: =Sortering!B47 -> s | C37: =Sortering!C47 -> 0.50208333
A38: =Sortering!A48 -> 0 | B38: =Sortering!B48 -> t | C38: =Sortering!C48 -> 0.50208333
A39: =Sortering!A49 -> 0 | B39: =Sortering!B49 -> u | C39: =Sortering!C49 -> 0.50208333
A40: =Sortering!A50 -> 0 | B40: =Sortering!B50 -> v | C40: =Sortering!C50 -> 0.50277778

Sheet Matrix
C1: Motor Nr. | D1: Post | E1: Tijd | F1: Post | G1: Tijd | H1: Verschil | I1: Post | J1: Tijd | K1: Verschil | L1: Post | M1: Tijd | N1: Verschil | O1: Post | P1: Tijd | Q1: Verschil | R1: Post | S1: Tijd | T1: Verschil | U1: Post | V1: Tijd | W1: Verschil
C2: 1 | D2: =VLOOKUP(C2, [1]Sortering1!A:B, 2, FALSE) -> #N/A | E2: =IFERROR(VLOOKUP(D2, Sortering!B:C, 2, FALSE), "") | F2: =IFERROR(VLOOKUP(C2, Matrix1!E:F, 2, FALSE), "") | G2: =IFERROR(VLOOKUP(F2, Matrix1!F:G, 2, FALSE), "") | H2: =G2-E2 -> #VALUE! | I2: {=Matrix1!J2:J103} -> 0 | J2: {=Matrix1!K2:K103} -> 0 | K2: =J2-G2 -> #VALUE! | L2: {=Matrix1!N2:N99} -> 0 | M2: {=Matrix1!O2:O99} -> 0 | N2: =M2-J2 -> 0 | O2: {=Matrix1!R2:R99} -> 0 | P2: {=Matrix1!S2:S99} -> 0 | Q2: =P2-M2 -> 0 | R2: {=Matrix1!V2:V99} -> 0 | S2: {=Matrix1!W2:W99} -> 0 | T2: =S2-P2 -> 0 | U2: {=Matrix1!Z2:Z99} -> 0 | V2: {=Matrix1!AA2:AA99} -> 0 | W2: =V2-S2 -> 0
C3: 2 | D3: =IFERROR(VLOOKUP(C3, Sortering!A:B, 2, FALSE), "") -> f | E3: =IFERROR(VLOOKUP(D3, Sortering!B:C, 2, FALSE), "") -> 0.5 | F3: =IFERROR(VLOOKUP(C3, Matrix1!E:F, 2, FALSE), "") | G3: =IFERROR(VLOOKUP(F3, Matrix1!F:G, 2, FALSE), "") | H3: =G3-E3 -> #VALUE! | I3: 0 | J3: 0 | K3: =J3-G3 -> #VALUE! | L3: 0 | M3: 0 | N3: =M3-J3 -> 0 | O3: 0 | P3: 0 | Q3: =P3-M3 -> 0 | R3: 0 | S3: 0 | T3: =S3-P3 -> 0 | U3: 0 | V3: 0 | W3: =V3-S3 -> 0
C4: 3 | D4: =IFERROR(VLOOKUP(C4, Sortering!A:B, 2, FALSE), "") -> k | E4: =IFERROR(VLOOKUP(D4, Sortering!B:C, 2, FALSE), "") -> 0.50069444 | F4: =IFERROR(VLOOKUP(C4, Matrix1!E:F, 2, FALSE), "") | G4: =IFERROR(VLOOKUP(F4, Matrix1!F:G, 2, FALSE), "") | H4: =G4-E4 -> #VALUE! | I4: 0 | J4: 0 | K4: =J4-G4 -> #VALUE! | L4: 0 | M4: 0 | N4: =M4-J4 -> 0 | O4: 0 | P4: 0 | Q4: =P4-M4 -> 0 | R4: 0 | S4: 0 | T4: =S4-P4 -> 0 | U4: 0 | V4: 0 | W4: =V4-S4 -> 0
C5: 4 | D5: =IFERROR(VLOOKUP(C5, Sortering!A:B, 2, FALSE), "") -> o | E5: =IFERROR(VLOOKUP(D5, Sortering!B:C, 2, FALSE), "") -> 0.50138889 | F5: =IFERROR(VLOOKUP(C5, Matrix1!E:F, 2, FALSE), "") | G5: =IFERROR(VLOOKUP(F5, Matrix1!F:G, 2, FALSE), "") | H5: =G5-E5 -> #VALUE! | I5: 0 | J5: 0 | K5: =J5-G5 -> #VALUE! | L5: 0 | M5: 0 | N5: =M5-J5 -> 0 | O5: 0 | P5: 0 | Q5: =P5-M5 -> 0 | R5: 0 | S5: 0 | T5: =S5-P5 -> 0 | U5: 0 | V5: 0 | W5: =V5-S5 -> 0
C6: 5 | D6: =IFERROR(VLOOKUP(C6, Sortering!A:B, 2, FALSE), "") -> 46 | E6: =IFERROR(VLOOKUP(D6, Sortering!B:C, 2, FALSE), "") -> 0.53402778 | F6: =IFERROR(VLOOKUP(C6, Matrix1!E:F, 2, FALSE), "") | G6: =IFERROR(VLOOKUP(F6, Matrix1!F:G, 2, FALSE), "") | H6: =G6-E6 -> #VALUE! | I6: 0 | J6: 0 | K6: =J6-G6 -> #VALUE! | L6: 0 | M6: 0 | N6: =M6-J6 -> 0 | O6: 0 | P6: 0 | Q6: =P6-M6 -> 0 | R6: 0 | S6: 0 | T6: =S6-P6 -> 0 | U6: 0 | V6: 0 | W6: =V6-S6 -> 0
C7: 6 | D7: =IFERROR(VLOOKUP(C7, Sortering!A:B, 2, FALSE), "") -> 49 | E7: =IFERROR(VLOOKUP(D7, Sortering!B:C, 2, FALSE), "") -> 0.53472222 | F7: =IFERROR(VLOOKUP(C7, Matrix1!E:F, 2, FALSE), "") | G7: =IFERROR(VLOOKUP(F7, Matrix1!F:G, 2, FALSE), "") | H7: =G7-E7 -> #VALUE! | I7: 0 | J7: 0 | K7: =J7-G7 -> #VALUE! | L7: 0 | M7: 0 | N7: =M7-J7 -> 0 | O7: 0 | P7: 0 | Q7: =P7-M7 -> 0 | R7: 0 | S7: 0 | T7: =S7-P7 -> 0 | U7: 0 | V7: 0 | W7: =V7-S7 -> 0
C8: 7 | D8: =IFERROR(VLOOKUP(C8, Sortering!A:B, 2, FALSE), "") -> w | E8: =IFERROR(VLOOKUP(D8, Sortering!B:C, 2, FALSE), "") -> 0.50277778 | F8: =IFERROR(VLOOKUP(C8, Matrix1!E:F, 2, FALSE), "") | G8: =IFERROR(VLOOKUP(F8, Matrix1!F:G, 2, FALSE), "") | H8: =G8-E8 -> #VALUE! | I8: 0 | J8: 0 | K8: =J8-G8 -> #VALUE! | L8: 0 | M8: 0 | N8: =M8-J8 -> 0 | O8: 0 | P8: 0 | Q8: =P8-M8 -> 0 | R8: 0 | S8: 0 | T8: =S8-P8 -> 0 | U8: 0 | V8: 0 | W8: =V8-S8 -> 0
C9: 8 | D9: =IFERROR(VLOOKUP(C9, Sortering!A:B, 2, FALSE), "") -> ij | E9: =IFERROR(VLOOKUP(D9, Sortering!B:C, 2, FALSE), "") -> 0.50277778 | F9: =IFERROR(VLOOKUP(C9, Matrix1!E:F, 2, FALSE), "") | G9: =IFERROR(VLOOKUP(F9, Matrix1!F:G, 2, FALSE), "") | H9: =G9-E9 -> #VALUE! | I9: 0 | J9: 0 | K9: =J9-G9 -> #VALUE! | L9: 0 | M9: 0 | N9: =M9-J9 -> 0 | O9: 0 | P9: 0 | Q9: =P9-M9 -> 0 | R9: 0 | S9: 0 | T9: =S9-P9 -> 0 | U9: 0 | V9: 0 | W9: =V9-S9 -> 0
C10: 9 | D10: =IFERROR(VLOOKUP(C10, Sortering!A:B, 2, FALSE), "") -> ae | E10: =IFERROR(VLOOKUP(D10, Sortering!B:C, 2, FALSE), "") -> 0.50347222 | F10: =IFERROR(VLOOKUP(C10, Matrix1!E:F, 2, FALSE), "") | G10: =IFERROR(VLOOKUP(F10, Matrix1!F:G, 2, FALSE), "") | H10: =G10-E10 -> #VALUE! | I10: 0 | J10: 0 | K10: =J10-G10 -> #VALUE! | L10: 0 | M10: 0 | N10: =M10-J10 -> 0 | O10: 0 | P10: 0 | Q10: =P10-M10 -> 0 | R10: 0 | S10: 0 | T10: =S10-P10 -> 0 | U10: 0 | V10: 0 | W10: =V10-S10 -> 0
C11: 10 | D11: =IFERROR(VLOOKUP(C11, Sortering!A:B, 2, FALSE), "") -> ak | E11: =IFERROR(VLOOKUP(D11, Sortering!B:C, 2, FALSE), "") -> 0.50486111 | F11: =IFERROR(VLOOKUP(C11, Matrix1!E:F, 2, FALSE), "") | G11: =IFERROR(VLOOKUP(F11, Matrix1!F:G, 2, FALSE), "") | H11: =G11-E11 -> #VALUE! | I11: 0 | J11: 0 | K11: =J11-G11 -> #VALUE! | L11: 0 | M11: 0 | N11: =M11-J11 -> 0 | O11: 0 | P11: 0 | Q11: =P11-M11 -> 0 | R11: 0 | S11: 0 | T11: =S11-P11 -> 0 | U11: 0 | V11: 0 | W11: =V11-S11 -> 0
C12: 11 | D12: =IFERROR(VLOOKUP(C12, Sortering!A:B, 2, FALSE), "") -> am | E12: =IFERROR(VLOOKUP(D12, Sortering!B:C, 2, FALSE), "") -> 0.50486111 | F12: =IFERROR(VLOOKUP(C12, Matrix1!E:F, 2, FALSE), "") | G12: =IFERROR(VLOOKUP(F12, Matrix1!F:G, 2, FALSE), "") | H12: =G12-E12 -> #VALUE! | I12: 0 | J12: 0 | K12: =J12-G12 -> #VALUE! | L12: 0 | M12: 0 | N12: =M12-J12 -> 0 | O12: 0 | P12: 0 | Q12: =P12-M12 -> 0 | R12: 0 | S12: 0 | T12: =S12-P12 -> 0 | U12: 0 | V12: 0 | W12: =V12-S12 -> 0
C13: 12 | D13: =IFERROR(VLOOKUP(C13, Sortering!A:B, 2, FALSE), "") -> ap | E13: =IFERROR(VLOOKUP(D13, Sortering!B:C, 2, FALSE), "") -> 0.50555556 | F13: =IFERROR(VLOOKUP(C13, Matrix1!E:F, 2, FALSE), "") -> ap | G13: =IFERROR(VLOOKUP(F13, Matrix1!F:G, 2, FALSE), "") -> 0.50555556 | H13: =G13-E13 -> 0 | I13: 0 | J13: 0 | K13: =J13-G13 -> -0.50555556 | L13: 0 | M13: 0 | N13: =M13-J13 -> 0 | O13: 0 | P13: 0 | Q13: =P13-M13 -> 0 | R13: 0 | S13: 0 | T13: =S13-P13 -> 0 | U13: 0 | V13: 0 | W13: =V13-S13 -> 0
C14: 13 | D14: =IFERROR(VLOOKUP(C14, Sortering!A:B, 2, FALSE), "") -> ar | E14: =IFERROR(VLOOKUP(D14, Sortering!B:C, 2, FALSE), "") -> 0.50694444 | F14: =IFERROR(VLOOKUP(C14, Matrix1!E:F, 2, FALSE), "") | G14: =IFERROR(VLOOKUP(F14, Matrix1!F:G, 2, FALSE), "") | H14: =G14-E14 -> #VALUE! | I14: 0 | J14: 0 | K14: =J14-G14 -> #VALUE! | L14: 0 | M14: 0 | N14: =M14-J14 -> 0 | O14: 0 | P14: 0 | Q14: =P14-M14 -> 0 | R14: 0 | S14: 0 | T14: =S14-P14 -> 0 | U14: 0 | V14: 0 | W14: =V14-S14 -> 0
... C16: 15 | D16: =IFERROR(VLOOKUP(C16, Sortering!A:B, 2, FALSE), "") -> 3 | E16: =IFERROR(VLOOKUP(D16, Sortering!B:C, 2, FALSE), "") -> 0.50833333 | F16: =IFERROR(VLOOKUP(C16, Matrix1!E:F, 2, FALSE), "") | G16: =IFERROR(VLOOKUP(F16, Matrix1!F:G, 2, FALSE), "") | H16: =G16-E16 -> #VALUE! | I16: 0 | J16: 0 | K16: =J16-G16 -> #VALUE! | L16: 0 | M16: 0 | N16: =M16-J16 -> 0 | O16: 0 | P16: 0 | Q16: =P16-M16 -> 0 | R16: 0 | S16: 0 | T16: =S16-P16 -> 0 | U16: 0 | V16: 0 | W16: =V16-S16 -> 0
C17: 16 | D17: =IFERROR(VLOOKUP(C17, Sortering!A:B, 2, FALSE), "") -> 67 | E17: =IFERROR(VLOOKUP(D17, Sortering!B:C, 2, FALSE), "") -> 0.54583333 | H17: =G17-E17 -> -0.54583333 | I17: 0 | J17: 0 | K17: =J17-G17 -> 0 | L17: 0 | M17: 0 | N17: =M17-J17 -> 0 | O17: 0 | P17: 0 | Q17: =P17-M17 -> 0 | R17: 0 | S17: 0 | T17: =S17-P17 -> 0 | U17: 0 | V17: 0 | W17: =V17-S17 -> 0
C18: 17 | D18: =IFERROR(VLOOKUP(C18, Sortering!A:B, 2, FALSE), "") -> 69 | E18: =IFERROR(VLOOKUP(D18, Sortering!B:C, 2, FALSE), "") -> 0.54722222 | H18: =G18-E18 -> -0.54722222 | I18: 0 | J18: 0 | K18: =J18-G18 -> 0 | L18: 0 | M18: 0 | N18: =M18-J18 -> 0 | O18: 0 | P18: 0 | Q18: =P18-M18 -> 0 | R18: 0 | S18: 0 | T18: =S18-P18 -> 0 | U18: 0 | V18: 0 | W18: =V18-S18 -> 0
