Workbook

Sheet Blad1
A1: ns2:id | B1: ns1:year | C1: ns1:name | D1: ns1:corporation | E1: ns1:streetAddress | F1: ns1:postcode | G1: ns1:city | H1: ns1:description | I1: ns1:name2 | J1: ns1:reference | K1: ns1:situationType | L1: ns1:method | M1: ns1:jobType | N1: ns1:substance | O1: ns1:resultType | P1: ns1:key | Q1: ns1:value | R1: ns1:situationType3 | S1: ns1:name4 | T1: ns1:reference5 | U1: ns1:aeriusVersion | V1: ns1:databaseVersion | W1: sectorId | X1: ns2:id6 | Y1: ns1:namespace | Z1: ns1:localId | AA1: ns1:label | AB1: ns1:value7 | AC1: ns1:emissionTemperature | AD1: ns1:outflowDiameter | AE1: ns1:outflowVelocity | AF1: ns1:outflowDirection | AG1: ns1:outflowVelocityType | AH1: ns1:emissionHeight | AI1: ns1:spread | AJ1: srsName | AK1: ns2:id8 | AL1: ns2:pos | AM1: substance | AN1: ns1:value9 | AO1: animalType | AP1: ns1:numberOfAnimals | AQ1: ns1:description10 | AR1: substance11 | AS1: ns1:value12 | AT1: ns1:emissionFactorType | AU1: animalHousingType | AV1: animalType13 | AW1: ns1:numberOfAnimals14 | AX1: sectorId15 | AY1: ns2:id16 | AZ1: ns1:namespace17 | BA1: ns1:localId18 | BB1: ns1:label19 | BC1: ns1:value20 | BD1: ns1:emissionHeight21 | BE1: ns1:spread22 | BF1: ns1:standardType | BG1: srsName23 | BH1: ns2:id24 | BI1: ns2:pos25 | BJ1: substance26 | BK1: ns1:value27 | BL1: sectorId28 | BM1: ns2:id29 | BN1: ns1:namespace30 | BO1: ns1:localId31 | BP1: ns1:label32 | BQ1: srsName33 | BR1: ns2:id34 | BS1: ns2:posList | BT1: substance35 | BU1: ns1:value36 | BV1: offRoadMobileSourceType | BW1: ns1:description37 | BX1: ns1:literFuelPerYear | BY1: ns1:operatingHoursPerYear | BZ1: ns1:literAdBluePerYear | CA1: roadAreaType | CB1: roadType | CC1: sectorId38 | CD1: ns2:id39 | CE1: ns1:namespace40 | CF1: ns1:localId41 | CG1: ns1:label42 | CH1: ns1:value43 | CI1: ns1:emissionHeight44 | CJ1: ns1:spread45 | CK1: srsName46 | CL1: ns2:id47 | CM1: ns2:posList48 | CN1: substance49 | CO1: ns1:value50 | CP1: vehicleType | CQ1: ns1:vehiclesPerTimeUnit | CR1: ns1:timeUnit | CS1: ns1:stagnationFactor | CT1: ns1:maximumSpeed | CU1: ns1:strictEnforcement | CV1: ns1:roadManager | CW1: ns1:trafficDirection | CX1: ns1:elevation | CY1: sectorId51 | CZ1: ns2:id52 | DA1: ns1:namespace53 | DB1: ns1:localId54 | DC1: ns1:label55 | DD1: srsName56 | DE1: ns2:id57 | DF1: ns2:pos58 | DG1: substance59 | DH1: ns1:value60 | DI1: ns1:vehicleBasedCharacteristics | DJ1: vehicleType61 | DK1: ns1:vehiclesPerTimeUnit62 | DL1: ns1:timeUnit63 | DM1: receptorPointId | DN1: ns2:id64 | DO1: ns1:namespace65 | DP1: ns1:localId66 | DQ1: srsName67 | DR1: ns2:id68 | DS1: ns2:pos69 | DT1: srsName70 | DU1: ns2:id71 | DV1: ns2:posList72 | DW1: resultType | DX1: substance73 | DY1: ns1:value74 | DZ1: ns1:edgeEffect | EA1: Kolom1
A2: NL.IMAER.Collection | B2: 2026 | C2: . | D2: . | E2: Terborgseweg 1 | F2: 7084 AM | G2: BREEDENBROEK | H2: Beoogde opzet met aanlegfase | I2: Beoogde opzet met aanlegfase | J2: RvNA89BbZJr2 | K2: PROPOSED | L2: FORMAL_ASSESSMENT | M2: PROCESS_CONTRIBUTION | N2: NH3 | O2: DEPOSITION | R2: OFF_SITE_REDUCTION | S2: Hinderwet 1993 (35%) | T2: RvNA8988qJqS | U2: 2025.2_20260206_f42eba0c64 | V2: 2025.2_f42eba0c64_calculator_nl_stable
A3: NL.IMAER.Collection | B3: 2026 | C3: . | D3: . | E3: Terborgseweg 1 | F3: 7084 AM | G3: BREEDENBROEK | H3: Beoogde opzet met aanlegfase | I3: Beoogde opzet met aanlegfase | J3: RvNA89BbZJr2 | K3: PROPOSED | L3: FORMAL_ASSESSMENT | M3: PROCESS_CONTRIBUTION | N3: NOX | O3: DEPOSITION | R3: OFF_SITE_REDUCTION | S3: Hinderwet 1993 (35%) | T3: RvNA8988qJqS | U3: 2025.2_20260206_f42eba0c64 | V3: 2025.2_f42eba0c64_calculator_nl_stable
A4: NL.IMAER.Collection | B4: 2026 | C4: . | D4: . | E4: Terborgseweg 1 | F4: 7084 AM | G4: BREEDENBROEK | H4: Beoogde opzet met aanlegfase | I4: Beoogde opzet met aanlegfase | J4: RvNA89BbZJr2 | K4: PROPOSED | L4: FORMAL_ASSESSMENT | M4: PROCESS_CONTRIBUTION | N4: NO2 | O4: DEPOSITION | R4: OFF_SITE_REDUCTION | S4: Hinderwet 1993 (35%) | T4: RvNA8988qJqS | U4: 2025.2_20260206_f42eba0c64 | V4: 2025.2_f42eba0c64_calculator_nl_stable
A5: NL.IMAER.Collection | B5: 2026 | C5: . | D5: . | E5: Terborgseweg 1 | F5: 7084 AM | G5: BREEDENBROEK | H5: Beoogde opzet met aanlegfase | I5: Beoogde opzet met aanlegfase | J5: RvNA89BbZJr2 | K5: PROPOSED | L5: FORMAL_ASSESSMENT | M5: PROCESS_CONTRIBUTION | O5: DEPOSITION | P5: with_max_distance | Q5: true | R5: OFF_SITE_REDUCTION | S5: Hinderwet 1993 (35%) | T5: RvNA8988qJqS | U5: 2025.2_20260206_f42eba0c64 | V5: 2025.2_f42eba0c64_calculator_nl_stable
A6: NL.IMAER.Collection | B6: 2026 | C6: . | D6: . | E6: Terborgseweg 1 | F6: 7084 AM | G6: BREEDENBROEK | H6: Beoogde opzet met aanlegfase | I6: Beoogde opzet met aanlegfase | J6: RvNA89BbZJr2 | K6: PROPOSED | L6: FORMAL_ASSESSMENT | M6: PROCESS_CONTRIBUTION | O6: DEPOSITION | P6: sub_receptors_mode | Q6: ENABLED_RECEPTORS_ONLY | R6: OFF_SITE_REDUCTION | S6: Hinderwet 1993 (35%) | T6: RvNA8988qJqS | U6: 2025.2_20260206_f42eba0c64 | V6: 2025.2_f42eba0c64_calculator_nl_stable
A7: NL.IMAER.Collection | B7: 2026 | C7: . | D7: . | E7: Terborgseweg 1 | F7: 7084 AM | G7: BREEDENBROEK | H7: Beoogde opzet met aanlegfase | I7: Beoogde opzet met aanlegfase | J7: RvNA89BbZJr2 | K7: PROPOSED | L7: FORMAL_ASSESSMENT | M7: PROCESS_CONTRIBUTION | O7: DEPOSITION | P7: sub_receptor_zoom_level | Q7: 1 | R7: OFF_SITE_REDUCTION | S7: Hinderwet 1993 (35%) | T7: RvNA8988qJqS | U7: 2025.2_20260206_f42eba0c64 | V7: 2025.2_f42eba0c64_calculator_nl_stable
A8: NL.IMAER.Collection | W8: 4110 | X8: ES.1 | Y8: NL.IMAER | Z8: ES.1 | AA8: F1 EP nok 90% natuurlijke ventilatie nok | AB8: 0 | AH8: 8.81 | AI8: 0 | AJ8: urn:ogc:def:crs:EPSG::28992 | AK8: ES.1.POINT | AL8: 226592.0 433867.0 | AM8: NH3 | AN8: 495
A9: NL.IMAER.Collection | W9: 4110 | X9: ES.1 | Y9: NL.IMAER | Z9: ES.1 | AA9: F1 EP nok 90% natuurlijke ventilatie nok | AB9: 0 | AH9: 8.81 | AI9: 0 | AJ9: urn:ogc:def:crs:EPSG::28992 | AK9: ES.1.POINT | AL9: 226592.0 433867.0 | AM9: NOX | AN9: 0
A10: NL.IMAER.Collection | W10: 4110 | X10: ES.1 | Y10: NL.IMAER | Z10: ES.1 | AA10: F1 EP nok 90% natuurlijke ventilatie nok | AB10: 0 | AH10: 8.81 | AI10: 0 | AJ10: urn:ogc:def:crs:EPSG::28992 | AK10: ES.1.POINT | AL10: 226592.0 433867.0 | AM10: PM10 | AN10: 0
A11: NL.IMAER.Collection | W11: 4110 | X11: ES.1 | Y11: NL.IMAER | Z11: ES.1 | AA11: F1 EP nok 90% natuurlijke ventilatie nok | AB11: 0 | AH11: 8.81 | AI11: 0 | AJ11: urn:ogc:def:crs:EPSG::28992 | AK11: ES.1.POINT | AL11: 226592.0 433867.0 | AM11: NO2 | AN11: 0
A12: NL.IMAER.Collection | W12: 4110 | X12: ES.1 | Y12: NL.IMAER | Z12: ES.1 | AA12: F1 EP nok 90% natuurlijke ventilatie nok | AB12: 0 | AH12: 8.81 | AI12: 0 | AJ12: urn:ogc:def:crs:EPSG::28992 | AK12: ES.1.POINT | AL12: 226592.0 433867.0 | AO12: A | AP12: 110 | AQ12: 90% OW 2021.08 | AR12: NH3 | AS12: 4.5 | AT12: PER_ANIMAL_PER_YEAR
A13: NL.IMAER.Collection | W13: 4110 | X13: ES.2 | Y13: NL.IMAER | Z13: ES.2 | AA13: F1 EP Sphere 1 10% mechanische ventilatie | AC13: 11.85 | AD13: 0.8 | AE13: 6.6 | AF13: VERTICAL | AG13: ACTUAL_FLOW | AH13: 3.28 | AI13: 0 | AJ13: urn:ogc:def:crs:EPSG::28992 | AK13: ES.2.POINT | AL13: 226601.0 433889.0 | AM13: NH3 | AN13: 27.5
A14: NL.IMAER.Collection | W14: 4110 | X14: ES.2 | Y14: NL.IMAER | Z14: ES.2 | AA14: F1 EP Sphere 1 10% mechanische ventilatie | AC14: 11.85 | AD14: 0.8 | AE14: 6.6 | AF14: VERTICAL | AG14: ACTUAL_FLOW | AH14: 3.28 | AI14: 0 | AJ14: urn:ogc:def:crs:EPSG::28992 | AK14: ES.2.POINT | AL14: 226601.0 433889.0 | AM14: NOX | AN14: 0
A15: NL.IMAER.Collection | W15: 4110 | X15: ES.2 | Y15: NL.IMAER | Z15: ES.2 | AA15: F1 EP Sphere 1 10% mechanische ventilatie | AC15: 11.85 | AD15: 0.8 | AE15: 6.6 | AF15: VERTICAL | AG15: ACTUAL_FLOW | AH15: 3.28 | AI15: 0 | AJ15: urn:ogc:def:crs:EPSG::28992 | AK15: ES.2.POINT | AL15: 226601.0 433889.0 | AM15: PM10 | AN15: 0
A16: NL.IMAER.Collection | W16: 4110 | X16: ES.2 | Y16: NL.IMAER | Z16: ES.2 | AA16: F1 EP Sphere 1 10% mechanische ventilatie | AC16: 11.85 | AD16: 0.8 | AE16: 6.6 | AF16: VERTICAL | AG16: ACTUAL_FLOW | AH16: 3.28 | AI16: 0 | AJ16: urn:ogc:def:crs:EPSG::28992 | AK16: ES.2.POINT | AL16: 226601.0 433889.0 | AM16: NO2 | AN16: 0
A17: NL.IMAER.Collection | W17: 4110 | X17: ES.2 | Y17: NL.IMAER | Z17: ES.2 | AA17: F1 EP Sphere 1 10% mechanische ventilatie | AC17: 11.85 | AD17: 0.8 | AE17: 6.6 | AF17: VERTICAL | AG17: ACTUAL_FLOW | AH17: 3.28 | AI17: 0 | AJ17: urn:ogc:def:crs:EPSG::28992 | AK17: ES.2.POINT | AL17: 226601.0 433889.0 | AO17: A | AP17: 110 | AQ17: 10% OW 2021.08 | AR17: NH3 | AS17: 0.25 | AT17: PER_ANIMAL_PER_YEAR
A18: NL.IMAER.Collection | W18: 4110 | X18: ES.3 | Y18: NL.IMAER | Z18: ES.3 | AA18: F1 EP Sphere 2 10% mechanische ventilatie | AC18: 11.85 | AD18: 0.8 | AE18: 6.6 | AF18: VERTICAL | AG18: ACTUAL_FLOW | AH18: 3.28 | AI18: 0 | AJ18: urn:ogc:def:crs:EPSG::28992 | AK18: ES.3.POINT | AL18: 226598.0 433892.0 | AM18: NH3 | AN18: 27.5
A19: NL.IMAER.Collection | W19: 4110 | X19: ES.3 | Y19: NL.IMAER | Z19: ES.3 | AA19: F1 EP Sphere 2 10% mechanische ventilatie | AC19: 11.85 | AD19: 0.8 | AE19: 6.6 | AF19: VERTICAL | AG19: ACTUAL_FLOW | AH19: 3.28 | AI19: 0 | AJ19: urn:ogc:def:crs:EPSG::28992 | AK19: ES.3.POINT | AL19: 226598.0 433892.0 | AM19: NOX | AN19: 0
A20: NL.IMAER.Collection | W20: 4110 | X20: ES.3 | Y20: NL.IMAER | Z20: ES.3 | AA20: F1 EP Sphere 2 10% mechanische ventilatie | AC20: 11.85 | AD20: 0.8 | AE20: 6.6 | AF20: VERTICAL | AG20: ACTUAL_FLOW | AH20: 3.28 | AI20: 0 | AJ20: urn:ogc:def:crs:EPSG::28992 | AK20: ES.3.POINT | AL20: 226598.0 433892.0 | AM20: PM10 | AN20: 0
A21: NL.IMAER.Collection | W21: 4110 | X21: ES.3 | Y21: NL.IMAER | Z21: ES.3 | AA21: F1 EP Sphere 2 10% mechanische ventilatie | AC21: 11.85 | AD21: 0.8 | AE21: 6.6 | AF21: VERTICAL | AG21: ACTUAL_FLOW | AH21: 3.28 | AI21: 0 | AJ21: urn:ogc:def:crs:EPSG::28992 | AK21: ES.3.POINT | AL21: 226598.0 433892.0 | AM21: NO2 | AN21: 0
A22: NL.IMAER.Collection | W22: 4110 | X22: ES.3 | Y22: NL.IMAER | Z22: ES.3 | AA22: F1 EP Sphere 2 10% mechanische ventilatie | AC22: 11.85 | AD22: 0.8 | AE22: 6.6 | AF22: VERTICAL | AG22: ACTUAL_FLOW | AH22: 3.28 | AI22: 0 | AJ22: urn:ogc:def:crs:EPSG::28992 | AK22: ES.3.POINT | AL22: 226598.0 433892.0 | AO22: A | AP22: 110 | AQ22: 10% OW 2021.08 | AR22: NH3 | AS22: 0.25 | AT22: PER_ANIMAL_PER_YEAR
A23: NL.IMAER.Collection | W23: 4110 | X23: ES.4 | Y23: NL.IMAER | Z23: ES.4 | AA23: F2 | AB23: 0 | AH23: 6.405 | AI23: 0 | AJ23: urn:ogc:def:crs:EPSG::28992 | AK23: ES.4.POINT | AL23: 226578.0 433885.0 | AM23: NH3 | AN23: 335
A24: NL.IMAER.Collection | W24: 4110 | X24: ES.4 | Y24: NL.IMAER | Z24: ES.4 | AA24: F2 | AB24: 0 | AH24: 6.405 | AI24: 0 | AJ24: urn:ogc:def:crs:EPSG::28992 | AK24: ES.4.POINT | AL24: 226578.0 433885.0 | AM24: NOX | AN24: 0
A25: NL.IMAER.Collection | W25: 4110 | X25: ES.4 | Y25: NL.IMAER | Z25: ES.4 | AA25: F2 | AB25: 0 | AH25: 6.405 | AI25: 0 | AJ25: urn:ogc:def:crs:EPSG::28992 | AK25: ES.4.POINT | AL25: 226578.0 433885.0 | AM25: PM10 | AN25: 0
A26: NL.IMAER.Collection | W26: 4110 | X26: ES.4 | Y26: NL.IMAER | Z26: ES.4 | AA26: F2 | AB26: 0 | AH26: 6.405 | AI26: 0 | AJ26: urn:ogc:def:crs:EPSG::28992 | AK26: ES.4.POINT | AL26: 226578.0 433885.0 | AM26: NO2 | AN26: 0
A27: NL.IMAER.Collection | W27: 4110 | X27: ES.4 | Y27: NL.IMAER | Z27: ES.4 | AA27: F2 | AB27: 0 | AH27: 6.405 | AI27: 0 | AJ27: urn:ogc:def:crs:EPSG::28992 | AK27: ES.4.POINT | AL27: 226578.0 433885.0 | AU27: HA2.100 | AV27: HA2 | AW27: 20
A28: NL.IMAER.Collection | W28: 4110 | X28: ES.4 | Y28: NL.IMAER | Z28: ES.4 | AA28: F2 | AB28: 0 | AH28: 6.405 | AI28: 0 | AJ28: urn:ogc:def:crs:EPSG::28992 | AK28: ES.4.POINT | AL28: 226578.0 433885.0 | AO28: COW | AP28: 20 | AQ28: HA1.100 beweiden | AR28: NH3 | AS28: 12.35 | AT28: PER_ANIMAL_PER_YEAR
A29: NL.IMAER.Collection | W29: 4110 | X29: ES.5 | Y29: NL.IMAER | Z29: ES.5 | AA29: A deel 1 | AB29: 0 | AH29: 8.65 | AI29: 0 | AJ29: urn:ogc:def:crs:EPSG::28992 | AK29: ES.5.POINT | AL29: 226536.0 433868.0 | AM29: NH3 | AN29: 52.8
A30: NL.IMAER.Collection | W30: 4110 | X30: ES.5 | Y30: NL.IMAER | Z30: ES.5 | AA30: A deel 1 | AB30: 0 | AH30: 8.65 | AI30: 0 | AJ30: urn:ogc:def:crs:EPSG::28992 | AK30: ES.5.POINT | AL30: 226536.0 433868.0 | AM30: NOX | AN30: 0
A31: NL.IMAER.Collection | W31: 4110 | X31: ES.5 | Y31: NL.IMAER | Z31: ES.5 | AA31: A deel 1 | AB31: 0 | AH31: 8.65 | AI31: 0 | AJ31: urn:ogc:def:crs:EPSG::28992 | AK31: ES.5.POINT | AL31: 226536.0 433868.0 | AM31: PM10 | AN31: 0
A32: NL.IMAER.Collection | W32: 4110 | X32: ES.5 | Y32: NL.IMAER | Z32: ES.5 | AA32: A deel 1 | AB32: 0 | AH32: 8.65 | AI32: 0 | AJ32: urn:ogc:def:crs:EPSG::28992 | AK32: ES.5.POINT | AL32: 226536.0 433868.0 | AM32: NO2 | AN32: 0
A33: NL.IMAER.Collection | W33: 4110 | X33: ES.5 | Y33: NL.IMAER | Z33: ES.5 | AA33: A deel 1 | AB33: 0 | AH33: 8.65 | AI33: 0 | AJ33: urn:ogc:def:crs:EPSG::28992 | AK33: ES.5.POINT | AL33: 226536.0 433868.0 | AU33: HA2.100 | AV33: HA2 | AW33: 12
A34: NL.IMAER.Collection | W34: 4110 | X34: ES.6 | Y34: NL.IMAER | Z34: ES.6 | AA34: A deel 2 | AB34: 0 | AH34: 5.4 | AI34: 0 | AJ34: urn:ogc:def:crs:EPSG::28992 | AK34: ES.6.POINT | AL34: 226523.0 433872.0 | AM34: NH3 | AN34: 52.8
A35: NL.IMAER.Collection | W35: 4110 | X35: ES.6 | Y35: NL.IMAER | Z35: ES.6 | AA35: A deel 2 | AB35: 0 | AH35: 5.4 | AI35: 0 | AJ35: urn:ogc:def:crs:EPSG::28992 | AK35: ES.6.POINT | AL35: 226523.0 433872.0 | AM35: NOX | AN35: 0
A36: NL.IMAER.Collection | W36: 4110 | X36: ES.6 | Y36: NL.IMAER | Z36: ES.6 | AA36: A deel 2 | AB36: 0 | AH36: 5.4 | AI36: 0 | AJ36: urn:ogc:def:crs:EPSG::28992 | AK36: ES.6.POINT | AL36: 226523.0 433872.0 | AM36: PM10 | AN36: 0
A37: NL.IMAER.Collection | W37: 4110 | X37: ES.6 | Y37: NL.IMAER | Z37: ES.6 | AA37: A deel 2 | AB37: 0 | AH37: 5.4 | AI37: 0 | AJ37: urn:ogc:def:crs:EPSG::28992 | AK37: ES.6.POINT | AL37: 226523.0 433872.0 | AM37: NO2 | AN37: 0
A38: NL.IMAER.Collection | W38: 4110 | X38: ES.6 | Y38: NL.IMAER | Z38: ES.6 | AA38: A deel 2 | AB38: 0 | AH38: 5.4 | AI38: 0 | AJ38: urn:ogc:def:crs:EPSG::28992 | AK38: ES.6.POINT | AL38: 226523.0 433872.0 | AU38: HA2.100 | AV38: HA2 | AW38: 12
A39: NL.IMAER.Collection | W39: 4110 | X39: ES.7 | Y39: NL.IMAER | Z39: ES.7 | AA39: E | AB39: 0 | AH39: 5.5 | AI39: 0 | AJ39: urn:ogc:def:crs:EPSG::28992 | AK39: ES.7.POINT | AL39: 226550.0 433891.0 | AM39: NH3 | AN39: 180.4
A40: NL.IMAER.Collection | W40: 4110 | X40: ES.7 | Y40: NL.IMAER | Z40: ES.7 | AA40: E | AB40: 0 | AH40: 5.5 | AI40: 0 | AJ40: urn:ogc:def:crs:EPSG::28992 | AK40: ES.7.POINT | AL40: 226550.0 433891.0 | AM40: NOX | AN40: 0
...

Sheet Beoogd
A1: receptorPointId | B1: ns2:pos64 | C1: Totale depositie
A2: 3759380 | B2: 207778.70608700067 428864.6446211133 | C2: 0.015247062
A3: 3760908 | B3: 207685.64560109045 428918.37311770447 | C3: 0.015385658
A4: 3760909 | B4: 207871.76657291088 428918.37311770447 | C4: 0.019320762
A5: 3762437 | B5: 207592.58511518023 428972.1016142956 | C5: 0.015893008
A6: 3762438 | B6: 207778.70608700067 428972.1016142956 | C6: 0.018830253
A7: 3763965 | B7: 207499.52462927005 429025.83011088683 | C7: 0.016603116
A8: 3763966 | B8: 207685.64560109045 429025.83011088683 | C8: 0.020277527
A9: 3765493 | B9: 207220.3431715394 429079.558607478 | C9: 0.015588884
A10: 3765494 | B10: 207406.46414335983 429079.558607478 | C10: 0.015562297
A11: 3765495 | B11: 207592.58511518023 429079.558607478 | C11: 0.020132369
A12: 3767021 | B12: 207127.2826856292 429133.28710406914 | C12: 0.015251226
A13: 3767022 | B13: 207313.4036574496 429133.28710406914 | C13: 0.015764804
... A1069: 4611149 | B1069: 229461.79930407958 458791.4172223989 | C1069: 2.943243e-05

Sheet Ref -35%
A1: receptorPointId | B1: ns2:pos64 | C1: Totale depositie
A2: 3759380 | B2: 207778.70608700067 428864.6446211133 | C2: 0.010055087
A3: 3760908 | B3: 207685.64560109045 428918.37311770447 | C3: 0.010091947
A4: 3760909 | B4: 207871.76657291088 428918.37311770447 | C4: 0.012750621
A5: 3762437 | B5: 207592.58511518023 428972.1016142956 | C5: 0.010413141
A6: 3762438 | B6: 207778.70608700067 428972.1016142956 | C6: 0.012449052
A7: 3763965 | B7: 207499.52462927005 429025.83011088683 | C7: 0.010917994
A8: 3763966 | B8: 207685.64560109045 429025.83011088683 | C8: 0.013361008
A9: 3765493 | B9: 207220.3431715394 429079.558607478 | C9: 0.01029467
A10: 3765494 | B10: 207406.46414335983 429079.558607478 | C10: 0.010296993
A11: 3765495 | B11: 207592.58511518023 429079.558607478 | C11: 0.013327518
A12: 3767021 | B12: 207127.2826856292 429133.28710406914 | C12: 0.01005496
A13: 3767022 | B13: 207313.4036574496 429133.28710406914 | C13: 0.010372781
... A1069: 4611149 | B1069: 229461.79930407958 458791.4172223989 | C1069: 1.979616e-05

Sheet Saldeerder -65%
A1: receptorPointId | B1: ns2:pos64 | C1: Totale depositie
A2: 3759380 | B2: 207778.70608700067 428864.6446211133 | C2: 0.010055087
A3: 3760908 | B3: 207685.64560109045 428918.37311770447 | C3: 0.010091947
A4: 3760909 | B4: 207871.76657291088 428918.37311770447 | C4: 0.012750621
A5: 3762437 | B5: 207592.58511518023 428972.1016142956 | C5: 0.010413141
A6: 3762438 | B6: 207778.70608700067 428972.1016142956 | C6: 0.012449052
A7: 3763965 | B7: 207499.52462927005 429025.83011088683 | C7: 0.010917994
A8: 3763966 | B8: 207685.64560109045 429025.83011088683 | C8: 0.013361008
A9: 3765493 | B9: 207220.3431715394 429079.558607478 | C9: 0.01029467
A10: 3765494 | B10: 207406.46414335983 429079.558607478 | C10: 0.010296993
A11: 3765495 | B11: 207592.58511518023 429079.558607478 | C11: 0.013327518
A12: 3767021 | B12: 207127.2826856292 429133.28710406914 | C12: 0.01005496
A13: 3767022 | B13: 207313.4036574496 429133.28710406914 | C13: 0.010372781
... A1069: 4611149 | B1069: 229461.79930407958 458791.4172223989 | C1069: 1.979616e-05

Sheet Vergelijk
A1: receptorPointId | B1: Depositie beoogd | C1: Depositie Referentie (-35%) | D1: Depositie saldeerder (-65%) | E1: Resultaat | F1: saldering afgerond
A2: 3759380 | B2: 0.015247062 | C2: =VLOOKUP(A2,'Ref -35%'!A2:C1069,3,FALSE) -> 0.010055087 | D2: ='[1]Saldeerder -65%'!$C$2 -> 0.010055087 | E2: =B2-C2-D2 -> -0.0048631121 | F2: =ROUND(E2,2) -> 0 | G2: =IF(F2>0,"toename","")
A3: 3760908 | B3: 0.015385658 | C3: =VLOOKUP(A3,'Ref -35%'!A3:C1070,3,FALSE) -> 0.010091947 | D3: =VLOOKUP(A3,'Saldeerder -65%'!A3:C1070,3,FALSE) -> 0.010091947 | E3: =B3-C3-D3 -> -0.0047982352 | F3: =ROUND(E3,2) -> 0 | G3: =IF(F3>0,"toename","")
A4: 3760909 | B4: 0.019320762 | C4: =VLOOKUP(A4,'Ref -35%'!A4:C1071,3,FALSE) -> 0.012750621 | D4: =VLOOKUP(A4,'Saldeerder -65%'!A4:C1071,3,FALSE) -> 0.012750621 | E4: =B4-C4-D4 -> -0.0061804791 | F4: =ROUND(E4,2) -> -0.01 | G4: =IF(F4>0,"toename","")
A5: 3762437 | B5: 0.015893008 | C5: =VLOOKUP(A5,'Ref -35%'!A5:C1072,3,FALSE) -> 0.010413141 | D5: =VLOOKUP(A5,'Saldeerder -65%'!A5:C1072,3,FALSE) -> 0.010413141 | E5: =B5-C5-D5 -> -0.0049332741 | F5: =ROUND(E5,2) -> 0 | G5: =IF(F5>0,"toename","")
A6: 3762438 | B6: 0.018830253 | C6: =VLOOKUP(A6,'Ref -35%'!A6:C1073,3,FALSE) -> 0.012449052 | D6: =VLOOKUP(A6,'Saldeerder -65%'!A6:C1073,3,FALSE) -> 0.012449052 | E6: =B6-C6-D6 -> -0.0060678505 | F6: =ROUND(E6,2) -> -0.01 | G6: =IF(F6>0,"toename","")
A7: 3763965 | B7: 0.016603116 | C7: =VLOOKUP(A7,'Ref -35%'!A7:C1074,3,FALSE) -> 0.010917994 | D7: =VLOOKUP(A7,'Saldeerder -65%'!A7:C1074,3,FALSE) -> 0.010917994 | E7: =B7-C7-D7 -> -0.0052328721 | F7: =ROUND(E7,2) -> -0.01 | G7: =IF(F7>0,"toename","")
A8: 3763966 | B8: 0.020277527 | C8: =VLOOKUP(A8,'Ref -35%'!A8:C1075,3,FALSE) -> 0.013361008 | D8: =VLOOKUP(A8,'Saldeerder -65%'!A8:C1075,3,FALSE) -> 0.013361008 | E8: =B8-C8-D8 -> -0.0064444883 | F8: =ROUND(E8,2) -> -0.01 | G8: =IF(F8>0,"toename","")
A9: 3765493 | B9: 0.015588884 | C9: =VLOOKUP(A9,'Ref -35%'!A9:C1076,3,FALSE) -> 0.01029467 | D9: =VLOOKUP(A9,'Saldeerder -65%'!A9:C1076,3,FALSE) -> 0.01029467 | E9: =B9-C9-D9 -> -0.0050004552 | F9: =ROUND(E9,2) -> -0.01 | G9: =IF(F9>0,"toename","")
A10: 3765494 | B10: 0.015562297 | C10: =VLOOKUP(A10,'Ref -35%'!A10:C1077,3,FALSE) -> 0.010296993 | D10: =VLOOKUP(A10,'Saldeerder -65%'!A10:C1077,3,FALSE) -> 0.010296993 | E10: =B10-C10-D10 -> -0.0050316881 | F10: =ROUND(E10,2) -> -0.01 | G10: =IF(F10>0,"toename","")
A11: 3765495 | B11: 0.020132369 | C11: =VLOOKUP(A11,'Ref -35%'!A11:C1078,3,FALSE) -> 0.013327518 | D11: =VLOOKUP(A11,'Saldeerder -65%'!A11:C1078,3,FALSE) -> 0.013327518 | E11: =B11-C11-D11 -> -0.0065226663 | F11: =ROUND(E11,2) -> -0.01 | G11: =IF(F11>0,"toename","")
A12: 3767021 | B12: 0.015251226 | C12: =VLOOKUP(A12,'Ref -35%'!A12:C1079,3,FALSE) -> 0.01005496 | D12: =VLOOKUP(A12,'Saldeerder -65%'!A12:C1079,3,FALSE) -> 0.01005496 | E12: =B12-C12-D12 -> -0.0048586932 | F12: =ROUND(E12,2) -> 0 | G12: =IF(F12>0,"toename","")
A13: 3767022 | B13: 0.015764804 | C13: =VLOOKUP(A13,'Ref -35%'!A13:C1080,3,FALSE) -> 0.010372781 | D13: =VLOOKUP(A13,'Saldeerder -65%'!A13:C1080,3,FALSE) -> 0.010372781 | E13: =B13-C13-D13 -> -0.0049807589 | F13: =ROUND(E13,2) -> 0 | G13: =IF(F13>0,"toename","")
A14: 3767023 | B14: 0.017508898 | C14: =VLOOKUP(A14,'Ref -35%'!A14:C1081,3,FALSE) -> 0.011448802 | D14: =VLOOKUP(A14,'Saldeerder -65%'!A14:C1081,3,FALSE) -> 0.011448802 | E14: =B14-C14-D14 -> -0.0053887052 | F14: =ROUND(E14,2) -> -0.01 | G14: =IF(F14>0,"toename","")
... A1069: 4611149 | B1069: 2.943243e-05 | C1069: =VLOOKUP(A1069,'Ref -35%'!A1069:C2136,3,FALSE) -> 1.979616e-05 | D1069: =VLOOKUP(A1069,'Saldeerder -65%'!A1069:C2136,3,FALSE) -> 1.979616e-05 | E1069: =B1069-C1069-D1069 -> -1.0159889e-05 | F1069: =ROUND(E1069,2) -> 0 | G1069: =IF(F1069>0,"toename","")
