Workbook

Sheet Blad1
A1: ns2:id | B1: ns1:year | C1: ns1:name | D1: ns1:corporation | E1: ns1:streetAddress | F1: ns1:postcode | G1: ns1:city | H1: ns1:description | I1: ns1:name2 | J1: ns1:reference | K1: ns1:situationType | L1: ns1:method | M1: ns1:jobType | N1: ns1:substance | O1: ns1:resultType | P1: ns1:key | Q1: ns1:value | R1: ns1:situationType3 | S1: ns1:name4 | T1: ns1:reference5 | U1: ns1:aeriusVersion | V1: ns1:databaseVersion | W1: sectorId | X1: ns2:id6 | Y1: ns1:namespace | Z1: ns1:localId | AA1: ns1:label | AB1: ns1:value7 | AC1: ns1:emissionTemperature | AD1: ns1:outflowDiameter | AE1: ns1:outflowVelocity | AF1: ns1:outflowDirection | AG1: ns1:outflowVelocityType | AH1: ns1:emissionHeight | AI1: ns1:spread | AJ1: srsName | AK1: ns2:id8 | AL1: ns2:pos | AM1: substance | AN1: ns1:value9 | AO1: animalType | AP1: ns1:numberOfAnimals | AQ1: ns1:description10 | AR1: substance11 | AS1: ns1:value12 | AT1: ns1:emissionFactorType | AU1: animalHousingType | AV1: animalType13 | AW1: ns1:numberOfAnimals14 | AX1: sectorId15 | AY1: ns2:id16 | AZ1: ns1:namespace17 | BA1: ns1:localId18 | BB1: ns1:label19 | BC1: ns1:value20 | BD1: ns1:emissionHeight21 | BE1: ns1:spread22 | BF1: ns1:standardType | BG1: srsName23 | BH1: ns2:id24 | BI1: ns2:pos25 | BJ1: substance26 | BK1: ns1:value27 | BL1: sectorId28 | BM1: ns2:id29 | BN1: ns1:namespace30 | BO1: ns1:localId31 | BP1: ns1:label32 | BQ1: srsName33 | BR1: ns2:id34 | BS1: ns2:posList | BT1: substance35 | BU1: ns1:value36 | BV1: offRoadMobileSourceType | BW1: ns1:description37 | BX1: ns1:literFuelPerYear | BY1: ns1:operatingHoursPerYear | BZ1: ns1:literAdBluePerYear | CA1: roadAreaType | CB1: roadType | CC1: sectorId38 | CD1: ns2:id39 | CE1: ns1:namespace40 | CF1: ns1:localId41 | CG1: ns1:label42 | CH1: ns1:value43 | CI1: ns1:emissionHeight44 | CJ1: ns1:spread45 | CK1: srsName46 | CL1: ns2:id47 | CM1: ns2:posList48 | CN1: substance49 | CO1: ns1:value50 | CP1: vehicleType | CQ1: ns1:vehiclesPerTimeUnit | CR1: ns1:timeUnit | CS1: ns1:stagnationFactor | CT1: ns1:maximumSpeed | CU1: ns1:strictEnforcement | CV1: ns1:roadManager | CW1: ns1:trafficDirection | CX1: ns1:elevation | CY1: sectorId51 | CZ1: ns2:id52 | DA1: ns1:namespace53 | DB1: ns1:localId54 | DC1: ns1:label55 | DD1: srsName56 | DE1: ns2:id57 | DF1: ns2:pos58 | DG1: substance59 | DH1: ns1:value60 | DI1: ns1:vehicleBasedCharacteristics | DJ1: vehicleType61 | DK1: ns1:vehiclesPerTimeUnit62 | DL1: ns1:timeUnit63 | DM1: receptorPointId | DN1: ns2:id64 | DO1: ns1:namespace65 | DP1: ns1:localId66 | DQ1: srsName67 | DR1: ns2:id68 | DS1: ns2:pos69 | DT1: srsName70 | DU1: ns2:id71 | DV1: ns2:posList72 | DW1: resultType | DX1: substance73 | DY1: ns1:value74 | DZ1: ns1:edgeEffect | EA1: Kolom1
A2: NL.IMAER.Collection | B2: 2026 | C2: . | D2: . | E2: Terborgseweg 1 | F2: 7084 AM | G2: BREEDENBROEK | H2: Beoogde opzet met aanlegfase | I2: Beoogde opzet met aanlegfase | J2: RvNA89BbZJr2 | K2: PROPOSED | L2: FORMAL_ASSESSMENT | M2: PROCESS_CONTRIBUTION | N2: NH3 | O2: DEPOSITION | R2: OFF_SITE_REDUCTION | S2: Hinderwet 1993 (35%) | T2: RvNA8988qJqS | U2: 2025.2_20260206_f42eba0c64 | V2: 2025.2_f42eba0c64_calculator_nl_stable
A3: NL.IMAER.Collection | B3: 2026 | C3: . | D3: . | E3: Terborgseweg 1 | F3: 7084 AM | G3: BREEDENBROEK | H3: Beoogde opzet met aanlegfase | I3: Beoogde opzet met aanlegfase | J3: RvNA89BbZJr2 | K3: PROPOSED | L3: FORMAL_ASSESSMENT | M3: PROCESS_CONTRIBUTION | N3: NOX | O3: DEPOSITION | R3: OFF_SITE_REDUCTION | S3: Hinderwet 1993 (35%) | T3: RvNA8988qJqS | U3: 2025.2_20260206_f42eba0c64 | V3: 2025.2_f42eba0c64_calculator_nl_stable
A4: NL.IMAER.Collection | B4: 2026 | C4: . | D4: . | E4: Terborgseweg 1 | F4: 7084 AM | G4: BREEDENBROEK | H4: Beoogde opzet met aanlegfase | I4: Beoogde opzet met aanlegfase | J4: RvNA89BbZJr2 | K4: PROPOSED | L4: FORMAL_ASSESSMENT | M4: PROCESS_CONTRIBUTION | N4: NO2 | O4: DEPOSITION | R4: OFF_SITE_REDUCTION | S4: Hinderwet 1993 (35%) | T4: RvNA8988qJqS | U4: 2025.2_20260206_f42eba0c64 | V4: 2025.2_f42eba0c64_calculator_nl_stable
A5: NL.IMAER.Collection | B5: 2026 | C5: . | D5: . | E5: Terborgseweg 1 | F5: 7084 AM | G5: BREEDENBROEK | H5: Beoogde opzet met aanlegfase | I5: Beoogde opzet met aanlegfase | J5: RvNA89BbZJr2 | K5: PROPOSED | L5: FORMAL_ASSESSMENT | M5: PROCESS_CONTRIBUTION | O5: DEPOSITION | P5: with_max_distance | Q5: true | R5: OFF_SITE_REDUCTION | S5: Hinderwet 1993 (35%) | T5: RvNA8988qJqS | U5: 2025.2_20260206_f42eba0c64 | V5: 2025.2_f42eba0c64_calculator_nl_stable
A6: NL.IMAER.Collection | B6: 2026 | C6: . | D6: . | E6: Terborgseweg 1 | F6: 7084 AM | G6: BREEDENBROEK | H6: Beoogde opzet met aanlegfase | I6: Beoogde opzet met aanlegfase | J6: RvNA89BbZJr2 | K6: PROPOSED | L6: FORMAL_ASSESSMENT | M6: PROCESS_CONTRIBUTION | O6: DEPOSITION | P6: sub_receptors_mode | Q6: ENABLED_RECEPTORS_ONLY | R6: OFF_SITE_REDUCTION | S6: Hinderwet 1993 (35%) | T6: RvNA8988qJqS | U6: 2025.2_20260206_f42eba0c64 | V6: 2025.2_f42eba0c64_calculator_nl_stable
A7: NL.IMAER.Collection | B7: 2026 | C7: . | D7: . | E7: Terborgseweg 1 | F7: 7084 AM | G7: BREEDENBROEK | H7: Beoogde opzet met aanlegfase | I7: Beoogde opzet met aanlegfase | J7: RvNA89BbZJr2 | K7: PROPOSED | L7: FORMAL_ASSESSMENT | M7: PROCESS_CONTRIBUTION | O7: DEPOSITION | P7: sub_receptor_zoom_level | Q7: 1 | R7: OFF_SITE_REDUCTION | S7: Hinderwet 1993 (35%) | T7: RvNA8988qJqS | U7: 2025.2_20260206_f42eba0c64 | V7: 2025.2_f42eba0c64_calculator_nl_stable
A8: NL.IMAER.Collection | W8: 4110 | X8: ES.1 | Y8: NL.IMAER | Z8: ES.1 | AA8: F1 EP nok 90% natuurlijke ventilatie nok | AB8: 0 | AH8: 8.81 | AI8: 0 | AJ8: urn:ogc:def:crs:EPSG::28992 | AK8: ES.1.POINT | AL8: 226592.0 433867.0 | AM8: NH3 | AN8: 495
A9: NL.IMAER.Collection | W9: 4110 | X9: ES.1 | Y9: NL.IMAER | Z9: ES.1 | AA9: F1 EP nok 90% natuurlijke ventilatie nok | AB9: 0 | AH9: 8.81 | AI9: 0 | AJ9: urn:ogc:def:crs:EPSG::28992 | AK9: ES.1.POINT | AL9: 226592.0 433867.0 | AM9: NOX | AN9: 0
A10: NL.IMAER.Collection | W10: 4110 | X10: ES.1 | Y10: NL.IMAER | Z10: ES.1 | AA10: F1 EP nok 90% natuurlijke ventilatie nok | AB10: 0 | AH10: 8.81 | AI10: 0 | AJ10: urn:ogc:def:crs:EPSG::28992 | AK10: ES.1.POINT | AL10: 226592.0 433867.0 | AM10: PM10 | AN10: 0
A11: NL.IMAER.Collection | W11: 4110 | X11: ES.1 | Y11: NL.IMAER | Z11: ES.1 | AA11: F1 EP nok 90% natuurlijke ventilatie nok | AB11: 0 | AH11: 8.81 | AI11: 0 | AJ11: urn:ogc:def:crs:EPSG::28992 | AK11: ES.1.POINT | AL11: 226592.0 433867.0 | AM11: NO2 | AN11: 0
A12: NL.IMAER.Collection | W12: 4110 | X12: ES.1 | Y12: NL.IMAER | Z12: ES.1 | AA12: F1 EP nok 90% natuurlijke ventilatie nok | AB12: 0 | AH12: 8.81 | AI12: 0 | AJ12: urn:ogc:def:crs:EPSG::28992 | AK12: ES.1.POINT | AL12: 226592.0 433867.0 | AO12: A | AP12: 110 | AQ12: 90% OW 2021.08 | AR12: NH3 | AS12: 4.5 | AT12: PER_ANIMAL_PER_YEAR
A13: NL.IMAER.Collection | W13: 4110 | X13: ES.2 | Y13: NL.IMAER | Z13: ES.2 | AA13: F1 EP Sphere 1 10% mechanische ventilatie | AC13: 11.85 | AD13: 0.8 | AE13: 6.6 | AF13: VERTICAL | AG13: ACTUAL_FLOW | AH13: 3.28 | AI13: 0 | AJ13: urn:ogc:def:crs:EPSG::28992 | AK13: ES.2.POINT | AL13: 226601.0 433889.0 | AM13: NH3 | AN13: 27.5
A14: NL.IMAER.Collection | W14: 4110 | X14: ES.2 | Y14: NL.IMAER | Z14: ES.2 | AA14: F1 EP Sphere 1 10% mechanische ventilatie | AC14: 11.85 | AD14: 0.8 | AE14: 6.6 | AF14: VERTICAL | AG14: ACTUAL_FLOW | AH14: 3.28 | AI14: 0 | AJ14: urn:ogc:def:crs:EPSG::28992 | AK14: ES.2.POINT | AL14: 226601.0 433889.0 | AM14: NOX | AN14: 0
A15: NL.IMAER.Collection | W15: 4110 | X15: ES.2 | Y15: NL.IMAER | Z15: ES.2 | AA15: F1 EP Sphere 1 10% mechanische ventilatie | AC15: 11.85 | AD15: 0.8 | AE15: 6.6 | AF15: VERTICAL | AG15: ACTUAL_FLOW | AH15: 3.28 | AI15: 0 | AJ15: urn:ogc:def:crs:EPSG::28992 | AK15: ES.2.POINT | AL15: 226601.0 433889.0 | AM15: PM10 | AN15: 0
A16: NL.IMAER.Collection | W16: 4110 | X16: ES.2 | Y16: NL.IMAER | Z16: ES.2 | AA16: F1 EP Sphere 1 10% mechanische ventilatie | AC16: 11.85 | AD16: 0.8 | AE16: 6.6 | AF16: VERTICAL | AG16: ACTUAL_FLOW | AH16: 3.28 | AI16: 0 | AJ16: urn:ogc:def:crs:EPSG::28992 | AK16: ES.2.POINT | AL16: 226601.0 433889.0 | AM16: NO2 | AN16: 0
A17: NL.IMAER.Collection | W17: 4110 | X17: ES.2 | Y17: NL.IMAER | Z17: ES.2 | AA17: F1 EP Sphere 1 10% mechanische ventilatie | AC17: 11.85 | AD17: 0.8 | AE17: 6.6 | AF17: VERTICAL | AG17: ACTUAL_FLOW | AH17: 3.28 | AI17: 0 | AJ17: urn:ogc:def:crs:EPSG::28992 | AK17: ES.2.POINT | AL17: 226601.0 433889.0 | AO17: A | AP17: 110 | AQ17: 10% OW 2021.08 | AR17: NH3 | AS17: 0.25 | AT17: PER_ANIMAL_PER_YEAR
A18: NL.IMAER.Collection | W18: 4110 | X18: ES.3 | Y18: NL.IMAER | Z18: ES.3 | AA18: F1 EP Sphere 2 10% mechanische ventilatie | AC18: 11.85 | AD18: 0.8 | AE18: 6.6 | AF18: VERTICAL | AG18: ACTUAL_FLOW | AH18: 3.28 | AI18: 0 | AJ18: urn:ogc:def:crs:EPSG::28992 | AK18: ES.3.POINT | AL18: 226598.0 433892.0 | AM18: NH3 | AN18: 27.5
A19: NL.IMAER.Collection | W19: 4110 | X19: ES.3 | Y19: NL.IMAER | Z19: ES.3 | AA19: F1 EP Sphere 2 10% mechanische ventilatie | AC19: 11.85 | AD19: 0.8 | AE19: 6.6 | AF19: VERTICAL | AG19: ACTUAL_FLOW | AH19: 3.28 | AI19: 0 | AJ19: urn:ogc:def:crs:EPSG::28992 | AK19: ES.3.POINT | AL19: 226598.0 433892.0 | AM19: NOX | AN19: 0
A20: NL.IMAER.Collection | W20: 4110 | X20: ES.3 | Y20: NL.IMAER | Z20: ES.3 | AA20: F1 EP Sphere 2 10% mechanische ventilatie | AC20: 11.85 | AD20: 0.8 | AE20: 6.6 | AF20: VERTICAL | AG20: ACTUAL_FLOW | AH20: 3.28 | AI20: 0 | AJ20: urn:ogc:def:crs:EPSG::28992 | AK20: ES.3.POINT | AL20: 226598.0 433892.0 | AM20: PM10 | AN20: 0
A21: NL.IMAER.Collection | W21: 4110 | X21: ES.3 | Y21: NL.IMAER | Z21: ES.3 | AA21: F1 EP Sphere 2 10% mechanische ventilatie | AC21: 11.85 | AD21: 0.8 | AE21: 6.6 | AF21: VERTICAL | AG21: ACTUAL_FLOW | AH21: 3.28 | AI21: 0 | AJ21: urn:ogc:def:crs:EPSG::28992 | AK21: ES.3.POINT | AL21: 226598.0 433892.0 | AM21: NO2 | AN21: 0
A22: NL.IMAER.Collection | W22: 4110 | X22: ES.3 | Y22: NL.IMAER | Z22: ES.3 | AA22: F1 EP Sphere 2 10% mechanische ventilatie | AC22: 11.85 | AD22: 0.8 | AE22: 6.6 | AF22: VERTICAL | AG22: ACTUAL_FLOW | AH22: 3.28 | AI22: 0 | AJ22: urn:ogc:def:crs:EPSG::28992 | AK22: ES.3.POINT | AL22: 226598.0 433892.0 | AO22: A | AP22: 110 | AQ22: 10% OW 2021.08 | AR22: NH3 | AS22: 0.25 | AT22: PER_ANIMAL_PER_YEAR
A23: NL.IMAER.Collection | W23: 4110 | X23: ES.4 | Y23: NL.IMAER | Z23: ES.4 | AA23: F2 | AB23: 0 | AH23: 6.405 | AI23: 0 | AJ23: urn:ogc:def:crs:EPSG::28992 | AK23: ES.4.POINT | AL23: 226578.0 433885.0 | AM23: NH3 | AN23: 335
A24: NL.IMAER.Collection | W24: 4110 | X24: ES.4 | Y24: NL.IMAER | Z24: ES.4 | AA24: F2 | AB24: 0 | AH24: 6.405 | AI24: 0 | AJ24: urn:ogc:def:crs:EPSG::28992 | AK24: ES.4.POINT | AL24: 226578.0 433885.0 | AM24: NOX | AN24: 0
A25: NL.IMAER.Collection | W25: 4110 | X25: ES.4 | Y25: NL.IMAER | Z25: ES.4 | AA25: F2 | AB25: 0 | AH25: 6.405 | AI25: 0 | AJ25: urn:ogc:def:crs:EPSG::28992 | AK25: ES.4.POINT | AL25: 226578.0 433885.0 | AM25: PM10 | AN25: 0
A26: NL.IMAER.Collection | W26: 4110 | X26: ES.4 | Y26: NL.IMAER | Z26: ES.4 | AA26: F2 | AB26: 0 | AH26: 6.405 | AI26: 0 | AJ26: urn:ogc:def:crs:EPSG::28992 | AK26: ES.4.POINT | AL26: 226578.0 433885.0 | AM26: NO2 | AN26: 0
A27: NL.IMAER.Collection | W27: 4110 | X27: ES.4 | Y27: NL.IMAER | Z27: ES.4 | AA27: F2 | AB27: 0 | AH27: 6.405 | AI27: 0 | AJ27: urn:ogc:def:crs:EPSG::28992 | AK27: ES.4.POINT | AL27: 226578.0 433885.0 | AU27: HA2.100 | AV27: HA2 | AW27: 20
A28: NL.IMAER.Collection | W28: 4110 | X28: ES.4 | Y28: NL.IMAER | Z28: ES.4 | AA28: F2 | AB28: 0 | AH28: 6.405 | AI28: 0 | AJ28: urn:ogc:def:crs:EPSG::28992 | AK28: ES.4.POINT | AL28: 226578.0 433885.0 | AO28: COW | AP28: 20 | AQ28: HA1.100 beweiden | AR28: NH3 | AS28: 12.35 | AT28: PER_ANIMAL_PER_YEAR
A29: NL.IMAER.Collection | W29: 4110 | X29: ES.5 | Y29: NL.IMAER | Z29: ES.5 | AA29: A deel 1 | AB29: 0 | AH29: 8.65 | AI29: 0 | AJ29: urn:ogc:def:crs:EPSG::28992 | AK29: ES.5.POINT | AL29: 226536.0 433868.0 | AM29: NH3 | AN29: 52.8
A30: NL.IMAER.Collection | W30: 4110 | X30: ES.5 | Y30: NL.IMAER | Z30: ES.5 | AA30: A deel 1 | AB30: 0 | AH30: 8.65 | AI30: 0 | AJ30: urn:ogc:def:crs:EPSG::28992 | AK30: ES.5.POINT | AL30: 226536.0 433868.0 | AM30: NOX | AN30: 0
A31: NL.IMAER.Collection | W31: 4110 | X31: ES.5 | Y31: NL.IMAER | Z31: ES.5 | AA31: A deel 1 | AB31: 0 | AH31: 8.65 | AI31: 0 | AJ31: urn:ogc:def:crs:EPSG::28992 | AK31: ES.5.POINT | AL31: 226536.0 433868.0 | AM31: PM10 | AN31: 0
A32: NL.IMAER.Collection | W32: 4110 | X32: ES.5 | Y32: NL.IMAER | Z32: ES.5 | AA32: A deel 1 | AB32: 0 | AH32: 8.65 | AI32: 0 | AJ32: urn:ogc:def:crs:EPSG::28992 | AK32: ES.5.POINT | AL32: 226536.0 433868.0 | AM32: NO2 | AN32: 0
A33: NL.IMAER.Collection | W33: 4110 | X33: ES.5 | Y33: NL.IMAER | Z33: ES.5 | AA33: A deel 1 | AB33: 0 | AH33: 8.65 | AI33: 0 | AJ33: urn:ogc:def:crs:EPSG::28992 | AK33: ES.5.POINT | AL33: 226536.0 433868.0 | AU33: HA2.100 | AV33: HA2 | AW33: 12
A34: NL.IMAER.Collection | W34: 4110 | X34: ES.6 | Y34: NL.IMAER | Z34: ES.6 | AA34: A deel 2 | AB34: 0 | AH34: 5.4 | AI34: 0 | AJ34: urn:ogc:def:crs:EPSG::28992 | AK34: ES.6.POINT | AL34: 226523.0 433872.0 | AM34: NH3 | AN34: 52.8
A35: NL.IMAER.Collection | W35: 4110 | X35: ES.6 | Y35: NL.IMAER | Z35: ES.6 | AA35: A deel 2 | AB35: 0 | AH35: 5.4 | AI35: 0 | AJ35: urn:ogc:def:crs:EPSG::28992 | AK35: ES.6.POINT | AL35: 226523.0 433872.0 | AM35: NOX | AN35: 0
A36: NL.IMAER.Collection | W36: 4110 | X36: ES.6 | Y36: NL.IMAER | Z36: ES.6 | AA36: A deel 2 | AB36: 0 | AH36: 5.4 | AI36: 0 | AJ36: urn:ogc:def:crs:EPSG::28992 | AK36: ES.6.POINT | AL36: 226523.0 433872.0 | AM36: PM10 | AN36: 0
A37: NL.IMAER.Collection | W37: 4110 | X37: ES.6 | Y37: NL.IMAER | Z37: ES.6 | AA37: A deel 2 | AB37: 0 | AH37: 5.4 | AI37: 0 | AJ37: urn:ogc:def:crs:EPSG::28992 | AK37: ES.6.POINT | AL37: 226523.0 433872.0 | AM37: NO2 | AN37: 0
A38: NL.IMAER.Collection | W38: 4110 | X38: ES.6 | Y38: NL.IMAER | Z38: ES.6 | AA38: A deel 2 | AB38: 0 | AH38: 5.4 | AI38: 0 | AJ38: urn:ogc:def:crs:EPSG::28992 | AK38: ES.6.POINT | AL38: 226523.0 433872.0 | AU38: HA2.100 | AV38: HA2 | AW38: 12
A39: NL.IMAER.Collection | W39: 4110 | X39: ES.7 | Y39: NL.IMAER | Z39: ES.7 | AA39: E | AB39: 0 | AH39: 5.5 | AI39: 0 | AJ39: urn:ogc:def:crs:EPSG::28992 | AK39: ES.7.POINT | AL39: 226550.0 433891.0 | AM39: NH3 | AN39: 180.4
A40: NL.IMAER.Collection | W40: 4110 | X40: ES.7 | Y40: NL.IMAER | Z40: ES.7 | AA40: E | AB40: 0 | AH40: 5.5 | AI40: 0 | AJ40: urn:ogc:def:crs:EPSG::28992 | AK40: ES.7.POINT | AL40: 226550.0 433891.0 | AM40: NOX | AN40: 0
A41: NL.IMAER.Collection | W41: 4110 | X41: ES.7 | Y41: NL.IMAER | Z41: ES.7 | AA41: E | AB41: 0 | AH41: 5.5 | AI41: 0 | AJ41: urn:ogc:def:crs:EPSG::28992 | AK41: ES.7.POINT | AL41: 226550.0 433891.0 | AM41: PM10 | AN41: 0
A42: NL.IMAER.Collection | W42: 4110 | X42: ES.7 | Y42: NL.IMAER | Z42: ES.7 | AA42: E | AB42: 0 | AH42: 5.5 | AI42: 0 | AJ42: urn:ogc:def:crs:EPSG::28992 | AK42: ES.7.POINT | AL42: 226550.0 433891.0 | AM42: NO2 | AN42: 0
A43: NL.IMAER.Collection | W43: 4110 | X43: ES.7 | Y43: NL.IMAER | Z43: ES.7 | AA43: E | AB43: 0 | AH43: 5.5 | AI43: 0 | AJ43: urn:ogc:def:crs:EPSG::28992 | AK43: ES.7.POINT | AL43: 226550.0 433891.0 | AU43: HA2.100 | AV43: HA2 | AW43: 41
A44: NL.IMAER.Collection | AX44: 4120 | AY44: ES.8 | AZ44: NL.IMAER | BA44: ES.8 | BB44: Emissie mestsilo | BC44: 0 | BD44: 6.5 | BE44: 0 | BF44: ANIMAL_HOUSING | BG44: urn:ogc:def:crs:EPSG::28992 | BH44: ES.8.POINT | BI44: 226609.0 433914.0 | BJ44: NH3 | BK44: 54.66
A45: NL.IMAER.Collection | AX45: 4120 | AY45: ES.8 | AZ45: NL.IMAER | BA45: ES.8 | BB45: Emissie mestsilo | BC45: 0 | BD45: 6.5 | BE45: 0 | BF45: ANIMAL_HOUSING | BG45: urn:ogc:def:crs:EPSG::28992 | BH45: ES.8.POINT | BI45: 226609.0 433914.0 | BJ45: NOX | BK45: 0
A46: NL.IMAER.Collection | AX46: 4120 | AY46: ES.8 | AZ46: NL.IMAER | BA46: ES.8 | BB46: Emissie mestsilo | BC46: 0 | BD46: 6.5 | BE46: 0 | BF46: ANIMAL_HOUSING | BG46: urn:ogc:def:crs:EPSG::28992 | BH46: ES.8.POINT | BI46: 226609.0 433914.0 | BJ46: PM10 | BK46: 0
A47: NL.IMAER.Collection | AX47: 4120 | AY47: ES.8 | AZ47: NL.IMAER | BA47: ES.8 | BB47: Emissie mestsilo | BC47: 0 | BD47: 6.5 | BE47: 0 | BF47: ANIMAL_HOUSING | BG47: urn:ogc:def:crs:EPSG::28992 | BH47: ES.8.POINT | BI47: 226609.0 433914.0 | BJ47: NO2 | BK47: 0
A48: NL.IMAER.Collection | AX48: 4120 | AY48: ES.9 | AZ48: NL.IMAER | BA48: ES.9 | BB48: Emissie vaste mestopslag | BC48: 0 | BD48: 1.75 | BE48: 0 | BF48: ANIMAL_HOUSING | BG48: urn:ogc:def:crs:EPSG::28992 | BH48: ES.9.POINT | BI48: 226621.0 433902.0 | BJ48: NH3 | BK48: 62.26
A49: NL.IMAER.Collection | AX49: 4120 | AY49: ES.9 | AZ49: NL.IMAER | BA49: ES.9 | BB49: Emissie vaste mestopslag | BC49: 0 | BD49: 1.75 | BE49: 0 | BF49: ANIMAL_HOUSING | BG49: urn:ogc:def:crs:EPSG::28992 | BH49: ES.9.POINT | BI49: 226621.0 433902.0 | BJ49: NOX | BK49: 0
A50: NL.IMAER.Collection | AX50: 4120 | AY50: ES.9 | AZ50: NL.IMAER | BA50: ES.9 | BB50: Emissie vaste mestopslag | BC50: 0 | BD50: 1.75 | BE50: 0 | BF50: ANIMAL_HOUSING | BG50: urn:ogc:def:crs:EPSG::28992 | BH50: ES.9.POINT | BI50: 226621.0 433902.0 | BJ50: PM10 | BK50: 0
A51: NL.IMAER.Collection | AX51: 4120 | AY51: ES.9 | AZ51: NL.IMAER | BA51: ES.9 | BB51: Emissie vaste mestopslag | BC51: 0 | BD51: 1.75 | BE51: 0 | BF51: ANIMAL_HOUSING | BG51: urn:ogc:def:crs:EPSG::28992 | BH51: ES.9.POINT | BI51: 226621.0 433902.0 | BJ51: NO2 | BK51: 0
A52: NL.IMAER.Collection | BL52: 3300 | BM52: ES.10 | BN52: NL.IMAER | BO52: ES.10 | BP52: Mobiele werktuigen op het erf | BQ52: urn:ogc:def:crs:EPSG::28992 | BR52: ES.10.SURFACE | BS52: 226575.43000000008 433984.4250000001 226519.57 433939.485 226530.91 433925.205 226481.35 433885.305 226522.51 433839.945 226554.01 433865.565 226580.47 433836.165 226619.11 433868.505 226606.11155394267 433883.30559875397 226642.57890521156 433914.11909711297 226575.43000000008 433984.4250000001 | BT52: NH3 | BU52: 0.03972
A53: NL.IMAER.Collection | BL53: 3300 | BM53: ES.10 | BN53: NL.IMAER | BO53: ES.10 | BP53: Mobiele werktuigen op het erf | BQ53: urn:ogc:def:crs:EPSG::28992 | BR53: ES.10.SURFACE | BS53: 226575.43000000008 433984.4250000001 226519.57 433939.485 226530.91 433925.205 226481.35 433885.305 226522.51 433839.945 226554.01 433865.565 226580.47 433836.165 226619.11 433868.505 226606.11155394267 433883.30559875397 226642.57890521156 433914.11909711297 226575.43000000008 433984.4250000001 | BT53: NOX | BU53: 110.485
A54: NL.IMAER.Collection | BL54: 3300 | BM54: ES.10 | BN54: NL.IMAER | BO54: ES.10 | BP54: Mobiele werktuigen op het erf | BQ54: urn:ogc:def:crs:EPSG::28992 | BR54: ES.10.SURFACE | BS54: 226575.43000000008 433984.4250000001 226519.57 433939.485 226530.91 433925.205 226481.35 433885.305 226522.51 433839.945 226554.01 433865.565 226580.47 433836.165 226619.11 433868.505 226606.11155394267 433883.30559875397 226642.57890521156 433914.11909711297 226575.43000000008 433984.4250000001 | BT54: PM10 | BU54: 0
A55: NL.IMAER.Collection | BL55: 3300 | BM55: ES.10 | BN55: NL.IMAER | BO55: ES.10 | BP55: Mobiele werktuigen op het erf | BQ55: urn:ogc:def:crs:EPSG::28992 | BR55: ES.10.SURFACE | BS55: 226575.43000000008 433984.4250000001 226519.57 433939.485 226530.91 433925.205 226481.35 433885.305 226522.51 433839.945 226554.01 433865.565 226580.47 433836.165 226619.11 433868.505 226606.11155394267 433883.30559875397 226642.57890521156 433914.11909711297 226575.43000000008 433984.4250000001 | BT55: NO2 | BU55: 0
A56: NL.IMAER.Collection | BL56: 3300 | BM56: ES.10 | BN56: NL.IMAER | BO56: ES.10 | BP56: Mobiele werktuigen op het erf | BQ56: urn:ogc:def:crs:EPSG::28992 | BR56: ES.10.SURFACE | BS56: 226575.43000000008 433984.4250000001 226519.57 433939.485 226530.91 433925.205 226481.35 433885.305 226522.51 433839.945 226554.01 433865.565 226580.47 433836.165 226619.11 433868.505 226606.11155394267 433883.30559875397 226642.57890521156 433914.11909711297 226575.43000000008 433984.4250000001 | BV56: SIIIB5675DSN | BW56: Tractor 1 | BX56: 3836 | BY56: 548
A57: NL.IMAER.Collection | BL57: 3300 | BM57: ES.10 | BN57: NL.IMAER | BO57: ES.10 | BP57: Mobiele werktuigen op het erf | BQ57: urn:ogc:def:crs:EPSG::28992 | BR57: ES.10.SURFACE | BS57: 226575.43000000008 433984.4250000001 226519.57 433939.485 226530.91 433925.205 226481.35 433885.305 226522.51 433839.945 226554.01 433865.565 226580.47 433836.165 226619.11 433868.505 226606.11155394267 433883.30559875397 226642.57890521156 433914.11909711297 226575.43000000008 433984.4250000001 | BV57: SIIIB56DSN | BW57: Tractor 2 | BX57: 1460 | BY57: 365
A58: NL.IMAER.Collection | BL58: 3300 | BM58: ES.11 | BN58: NL.IMAER | BO58: ES.11 | BP58: Inkuilen loonwerker | BQ58: urn:ogc:def:crs:EPSG::28992 | BR58: ES.11.SURFACE | BS58: 226520.0012570859 433939.5216165173 226553.5997313516 433902.7370800368 226624.12756310756 433932.5702080485 226575.46770382623 433984.27130853495 226520.0012570859 433939.5216165173 | BT58: NH3 | BU58: 0.2016
A59: NL.IMAER.Collection | BL59: 3300 | BM59: ES.11 | BN59: NL.IMAER | BO59: ES.11 | BP59: Inkuilen loonwerker | BQ59: urn:ogc:def:crs:EPSG::28992 | BR59: ES.11.SURFACE | BS59: 226520.0012570859 433939.5216165173 226553.5997313516 433902.7370800368 226624.12756310756 433932.5702080485 226575.46770382623 433984.27130853495 226520.0012570859 433939.5216165173 | BT59: NOX | BU59: 28.14
A60: NL.IMAER.Collection | BL60: 3300 | BM60: ES.11 | BN60: NL.IMAER | BO60: ES.11 | BP60: Inkuilen loonwerker | BQ60: urn:ogc:def:crs:EPSG::28992 | BR60: ES.11.SURFACE | BS60: 226520.0012570859 433939.5216165173 226553.5997313516 433902.7370800368 226624.12756310756 433932.5702080485 226575.46770382623 433984.27130853495 226520.0012570859 433939.5216165173 | BT60: PM10 | BU60: 0
A61: NL.IMAER.Collection | BL61: 3300 | BM61: ES.11 | BN61: NL.IMAER | BO61: ES.11 | BP61: Inkuilen loonwerker | BQ61: urn:ogc:def:crs:EPSG::28992 | BR61: ES.11.SURFACE | BS61: 226520.0012570859 433939.5216165173 226553.5997313516 433902.7370800368 226624.12756310756 433932.5702080485 226575.46770382623 433984.27130853495 226520.0012570859 433939.5216165173 | BT61: NO2 | BU61: 0
A62: NL.IMAER.Collection | BL62: 3300 | BM62: ES.11 | BN62: NL.IMAER | BO62: ES.11 | BP62: Inkuilen loonwerker | BQ62: urn:ogc:def:crs:EPSG::28992 | BR62: ES.11.SURFACE | BS62: 226520.0012570859 433939.5216165173 226553.5997313516 433902.7370800368 226624.12756310756 433932.5702080485 226575.46770382623 433984.27130853495 226520.0012570859 433939.5216165173 | BV62: SIV75560DSJ | BW62: Tractoren loonwerker | BX62: 840 | BY62: 84 | BZ62: 0
A63: NL.IMAER.Collection | CA63: NL | CB63: NON_URBAN_ROAD_NATIONAL | CC63: 3100 | CD63: ES.12 | CE63: NL.IMAER | CF63: ES.12 | CG63: Vervoersbewegingen bedrijf komen/gaan oost | CH63: 0 | CI63: 2.5 | CJ63: 0 | CK63: urn:ogc:def:crs:EPSG::28992 | CL63: ES.12.CURVE | CM63: 226735.00963938018 433764.064052709 226690.29556832378 433772.66291252756 226608.4835591931 433787.1581333646 226563.03244300938 433795.2656297649 226487.1167948971 433809.0238054746 | CN63: NH3 | CO63: 0.011287157 | CV63: STATE | CW63: BOTH | CX63: NORMAL
A64: NL.IMAER.Collection | CA64: NL | CB64: NON_URBAN_ROAD_NATIONAL | CC64: 3100 | CD64: ES.12 | CE64: NL.IMAER | CF64: ES.12 | CG64: Vervoersbewegingen bedrijf komen/gaan oost | CH64: 0 | CI64: 2.5 | CJ64: 0 | CK64: urn:ogc:def:crs:EPSG::28992 | CL64: ES.12.CURVE | CM64: 226735.00963938018 433764.064052709 226690.29556832378 433772.66291252756 226608.4835591931 433787.1581333646 226563.03244300938 433795.2656297649 226487.1167948971 433809.0238054746 | CN64: NOX | CO64: 0.24552472 | CV64: STATE | CW64: BOTH | CX64: NORMAL
A65: NL.IMAER.Collection | CA65: NL | CB65: NON_URBAN_ROAD_NATIONAL | CC65: 3100 | CD65: ES.12 | CE65: NL.IMAER | CF65: ES.12 | CG65: Vervoersbewegingen bedrijf komen/gaan oost | CH65: 0 | CI65: 2.5 | CJ65: 0 | CK65: urn:ogc:def:crs:EPSG::28992 | CL65: ES.12.CURVE | CM65: 226735.00963938018 433764.064052709 226690.29556832378 433772.66291252756 226608.4835591931 433787.1581333646 226563.03244300938 433795.2656297649 226487.1167948971 433809.0238054746 | CN65: PM10 | CO65: 0.0095655472 | CV65: STATE | CW65: BOTH | CX65: NORMAL
A66: NL.IMAER.Collection | CA66: NL | CB66: NON_URBAN_ROAD_NATIONAL | CC66: 3100 | CD66: ES.12 | CE66: NL.IMAER | CF66: ES.12 | CG66: Vervoersbewegingen bedrijf komen/gaan oost | CH66: 0 | CI66: 2.5 | CJ66: 0 | CK66: urn:ogc:def:crs:EPSG::28992 | CL66: ES.12.CURVE | CM66: 226735.00963938018 433764.064052709 226690.29556832378 433772.66291252756 226608.4835591931 433787.1581333646 226563.03244300938 433795.2656297649 226487.1167948971 433809.0238054746 | CN66: NO2 | CO66: 0.065805674 | CV66: STATE | CW66: BOTH | CX66: NORMAL
A67: NL.IMAER.Collection | CA67: NL | CB67: NON_URBAN_ROAD_NATIONAL | CC67: 3100 | CD67: ES.12 | CE67: NL.IMAER | CF67: ES.12 | CG67: Vervoersbewegingen bedrijf komen/gaan oost | CH67: 0 | CI67: 2.5 | CJ67: 0 | CK67: urn:ogc:def:crs:EPSG::28992 | CL67: ES.12.CURVE | CM67: 226735.00963938018 433764.064052709 226690.29556832378 433772.66291252756 226608.4835591931 433787.1581333646 226563.03244300938 433795.2656297649 226487.1167948971 433809.0238054746 | CP67: AUTO_BUS | CQ67: 0 | CR67: YEAR | CS67: 0 | CT67: 80 | CU67: FALSE | CV67: STATE | CW67: BOTH | CX67: NORMAL
A68: NL.IMAER.Collection | CA68: NL | CB68: NON_URBAN_ROAD_NATIONAL | CC68: 3100 | CD68: ES.12 | CE68: NL.IMAER | CF68: ES.12 | CG68: Vervoersbewegingen bedrijf komen/gaan oost | CH68: 0 | CI68: 2.5 | CJ68: 0 | CK68: urn:ogc:def:crs:EPSG::28992 | CL68: ES.12.CURVE | CM68: 226735.00963938018 433764.064052709 226690.29556832378 433772.66291252756 226608.4835591931 433787.1581333646 226563.03244300938 433795.2656297649 226487.1167948971 433809.0238054746 | CP68: HEAVY_FREIGHT | CQ68: 262 | CR68: YEAR | CS68: 0 | CT68: 80 | CU68: FALSE | CV68: STATE | CW68: BOTH | CX68: NORMAL
A69: NL.IMAER.Collection | CA69: NL | CB69: NON_URBAN_ROAD_NATIONAL | CC69: 3100 | CD69: ES.12 | CE69: NL.IMAER | CF69: ES.12 | CG69: Vervoersbewegingen bedrijf komen/gaan oost | CH69: 0 | CI69: 2.5 | CJ69: 0 | CK69: urn:ogc:def:crs:EPSG::28992 | CL69: ES.12.CURVE | CM69: 226735.00963938018 433764.064052709 226690.29556832378 433772.66291252756 226608.4835591931 433787.1581333646 226563.03244300938 433795.2656297649 226487.1167948971 433809.0238054746 | CP69: LIGHT_TRAFFIC | CQ69: 1095 | CR69: YEAR | CS69: 0 | CT69: 80 | CU69: FALSE | CV69: STATE | CW69: BOTH | CX69: NORMAL
A70: NL.IMAER.Collection | CA70: NL | CB70: NON_URBAN_ROAD_NATIONAL | CC70: 3100 | CD70: ES.12 | CE70: NL.IMAER | CF70: ES.12 | CG70: Vervoersbewegingen bedrijf komen/gaan oost | CH70: 0 | CI70: 2.5 | CJ70: 0 | CK70: urn:ogc:def:crs:EPSG::28992 | CL70: ES.12.CURVE | CM70: 226735.00963938018 433764.064052709 226690.29556832378 433772.66291252756 226608.4835591931 433787.1581333646 226563.03244300938 433795.2656297649 226487.1167948971 433809.0238054746 | CP70: NORMAL_FREIGHT | CQ70: 0 | CR70: YEAR | CS70: 0 | CT70: 80 | CU70: FALSE | CV70: STATE | CW70: BOTH | CX70: NORMAL
A71: NL.IMAER.Collection | CA71: NL | CB71: NON_URBAN_ROAD_NATIONAL | CC71: 3100 | CD71: ES.13 | CE71: NL.IMAER | CF71: ES.13 | CG71: Vervoersbewegingen bedrijf komen/gaan west | CH71: 0 | CI71: 2.5 | CJ71: 0 | CK71: urn:ogc:def:crs:EPSG::28992 | CL71: ES.13.CURVE | CM71: 226487.51590530627 433809.10828915413 226397.84208148433 433829.9912344277 226357.79596290083 433846.9432723557 226300.55212468028 433873.2312152296 226254.11828166016 433900.25620323076 | CN71: NH3 | CO71: 0.011302225 | CV71: STATE | CW71: BOTH | CX71: NORMAL
A72: NL.IMAER.Collection | CA72: NL | CB72: NON_URBAN_ROAD_NATIONAL | CC72: 3100 | CD72: ES.13 | CE72: NL.IMAER | CF72: ES.13 | CG72: Vervoersbewegingen bedrijf komen/gaan west | CH72: 0 | CI72: 2.5 | CJ72: 0 | CK72: urn:ogc:def:crs:EPSG::28992 | CL72: ES.13.CURVE | CM72: 226487.51590530627 433809.10828915413 226397.84208148433 433829.9912344277 226357.79596290083 433846.9432723557 226300.55212468028 433873.2312152296 226254.11828166016 433900.25620323076 | CN72: NOX | CO72: 0.24585248 | CV72: STATE | CW72: BOTH | CX72: NORMAL
A73: NL.IMAER.Collection | CA73: NL | CB73: NON_URBAN_ROAD_NATIONAL | CC73: 3100 | CD73: ES.13 | CE73: NL.IMAER | CF73: ES.13 | CG73: Vervoersbewegingen bedrijf komen/gaan west | CH73: 0 | CI73: 2.5 | CJ73: 0 | CK73: urn:ogc:def:crs:EPSG::28992 | CL73: ES.13.CURVE | CM73: 226487.51590530627 433809.10828915413 226397.84208148433 433829.9912344277 226357.79596290083 433846.9432723557 226300.55212468028 433873.2312152296 226254.11828166016 433900.25620323076 | CN73: PM10 | CO73: 0.0095783169 | CV73: STATE | CW73: BOTH | CX73: NORMAL
A74: NL.IMAER.Collection | CA74: NL | CB74: NON_URBAN_ROAD_NATIONAL | CC74: 3100 | CD74: ES.13 | CE74: NL.IMAER | CF74: ES.13 | CG74: Vervoersbewegingen bedrijf komen/gaan west | CH74: 0 | CI74: 2.5 | CJ74: 0 | CK74: urn:ogc:def:crs:EPSG::28992 | CL74: ES.13.CURVE | CM74: 226487.51590530627 433809.10828915413 226397.84208148433 433829.9912344277 226357.79596290083 433846.9432723557 226300.55212468028 433873.2312152296 226254.11828166016 433900.25620323076 | CN74: NO2 | CO74: 0.065893523 | CV74: STATE | CW74: BOTH | CX74: NORMAL
A75: NL.IMAER.Collection | CA75: NL | CB75: NON_URBAN_ROAD_NATIONAL | CC75: 3100 | CD75: ES.13 | CE75: NL.IMAER | CF75: ES.13 | CG75: Vervoersbewegingen bedrijf komen/gaan west | CH75: 0 | CI75: 2.5 | CJ75: 0 | CK75: urn:ogc:def:crs:EPSG::28992 | CL75: ES.13.CURVE | CM75: 226487.51590530627 433809.10828915413 226397.84208148433 433829.9912344277 226357.79596290083 433846.9432723557 226300.55212468028 433873.2312152296 226254.11828166016 433900.25620323076 | CP75: AUTO_BUS | CQ75: 0 | CR75: YEAR | CS75: 0 | CT75: 80 | CU75: FALSE | CV75: STATE | CW75: BOTH | CX75: NORMAL
A76: NL.IMAER.Collection | CA76: NL | CB76: NON_URBAN_ROAD_NATIONAL | CC76: 3100 | CD76: ES.13 | CE76: NL.IMAER | CF76: ES.13 | CG76: Vervoersbewegingen bedrijf komen/gaan west | CH76: 0 | CI76: 2.5 | CJ76: 0 | CK76: urn:ogc:def:crs:EPSG::28992 | CL76: ES.13.CURVE | CM76: 226487.51590530627 433809.10828915413 226397.84208148433 433829.9912344277 226357.79596290083 433846.9432723557 226300.55212468028 433873.2312152296 226254.11828166016 433900.25620323076 | CP76: HEAVY_FREIGHT | CQ76: 262 | CR76: YEAR | CS76: 0 | CT76: 80 | CU76: FALSE | CV76: STATE | CW76: BOTH | CX76: NORMAL
A77: NL.IMAER.Collection | CA77: NL | CB77: NON_URBAN_ROAD_NATIONAL | CC77: 3100 | CD77: ES.13 | CE77: NL.IMAER | CF77: ES.13 | CG77: Vervoersbewegingen bedrijf komen/gaan west | CH77: 0 | CI77: 2.5 | CJ77: 0 | CK77: urn:ogc:def:crs:EPSG::28992 | CL77: ES.13.CURVE | CM77: 226487.51590530627 433809.10828915413 226397.84208148433 433829.9912344277 226357.79596290083 433846.9432723557 226300.55212468028 433873.2312152296 226254.11828166016 433900.25620323076 | CP77: LIGHT_TRAFFIC | CQ77: 1095 | CR77: YEAR | CS77: 0 | CT77: 80 | CU77: FALSE | CV77: STATE | CW77: BOTH | CX77: NORMAL
A78: NL.IMAER.Collection | CA78: NL | CB78: NON_URBAN_ROAD_NATIONAL | CC78: 3100 | CD78: ES.13 | CE78: NL.IMAER | CF78: ES.13 | CG78: Vervoersbewegingen bedrijf komen/gaan west | CH78: 0 | CI78: 2.5 | CJ78: 0 | CK78: urn:ogc:def:crs:EPSG::28992 | CL78: ES.13.CURVE | CM78: 226487.51590530627 433809.10828915413 226397.84208148433 433829.9912344277 226357.79596290083 433846.9432723557 226300.55212468028 433873.2312152296 226254.11828166016 433900.25620323076 | CP78: NORMAL_FREIGHT | CQ78: 0 | CR78: YEAR | CS78: 0 | CT78: 80 | CU78: FALSE | CV78: STATE | CW78: BOTH | CX78: NORMAL
A79: NL.IMAER.Collection | CA79: NL | CB79: URBAN_ROAD_FREE_FLOW | CC79: 3100 | CD79: ES.30 | CE79: NL.IMAER | CF79: ES.30 | CG79: intern Vervoersbewegingen bedrijf komen/gaan oost | CH79: 0 | CI79: 2.5 | CJ79: 0 | CK79: urn:ogc:def:crs:EPSG::28992 | CL79: ES.30.CURVE | CM79: 226487.19566785544 433808.60500814294 226511.46848109 433868.2895283567 226519.11607978036 433879.4284221013 226546.38143163288 433906.6937739538 226567.32920195858 433916.3363983895 226592.2670237749 433899.2124274089 | CN79: NH3 | CO79: 0.0052906439 | CV79: STATE | CW79: BOTH | CX79: NORMAL
A80: NL.IMAER.Collection | CA80: NL | CB80: URBAN_ROAD_FREE_FLOW | CC80: 3100 | CD80: ES.30 | CE80: NL.IMAER | CF80: ES.30 | CG80: intern Vervoersbewegingen bedrijf komen/gaan oost | CH80: 0 | CI80: 2.5 | CJ80: 0 | CK80: urn:ogc:def:crs:EPSG::28992 | CL80: ES.30.CURVE | CM80: 226487.19566785544 433808.60500814294 226511.46848109 433868.2895283567 226519.11607978036 433879.4284221013 226546.38143163288 433906.6937739538 226567.32920195858 433916.3363983895 226592.2670237749 433899.2124274089 | CN80: NOX | CO80: 0.20263455 | CV80: STATE | CW80: BOTH | CX80: NORMAL
A81: NL.IMAER.Collection | CA81: NL | CB81: URBAN_ROAD_FREE_FLOW | CC81: 3100 | CD81: ES.30 | CE81: NL.IMAER | CF81: ES.30 | CG81: intern Vervoersbewegingen bedrijf komen/gaan oost | CH81: 0 | CI81: 2.5 | CJ81: 0 | CK81: urn:ogc:def:crs:EPSG::28992 | CL81: ES.30.CURVE | CM81: 226487.19566785544 433808.60500814294 226511.46848109 433868.2895283567 226519.11607978036 433879.4284221013 226546.38143163288 433906.6937739538 226567.32920195858 433916.3363983895 226592.2670237749 433899.2124274089 | CN81: PM10 | CO81: 0.0096554132 | CV81: STATE | CW81: BOTH | CX81: NORMAL
A82: NL.IMAER.Collection | CA82: NL | CB82: URBAN_ROAD_FREE_FLOW | CC82: 3100 | CD82: ES.30 | CE82: NL.IMAER | CF82: ES.30 | CG82: intern Vervoersbewegingen bedrijf komen/gaan oost | CH82: 0 | CI82: 2.5 | CJ82: 0 | CK82: urn:ogc:def:crs:EPSG::28992 | CL82: ES.30.CURVE | CM82: 226487.19566785544 433808.60500814294 226511.46848109 433868.2895283567 226519.11607978036 433879.4284221013 226546.38143163288 433906.6937739538 226567.32920195858 433916.3363983895 226592.2670237749 433899.2124274089 | CN82: NO2 | CO82: 0.050151485 | CV82: STATE | CW82: BOTH | CX82: NORMAL
A83: NL.IMAER.Collection | CA83: NL | CB83: URBAN_ROAD_FREE_FLOW | CC83: 3100 | CD83: ES.30 | CE83: NL.IMAER | CF83: ES.30 | CG83: intern Vervoersbewegingen bedrijf komen/gaan oost | CH83: 0 | CI83: 2.5 | CJ83: 0 | CK83: urn:ogc:def:crs:EPSG::28992 | CL83: ES.30.CURVE | CM83: 226487.19566785544 433808.60500814294 226511.46848109 433868.2895283567 226519.11607978036 433879.4284221013 226546.38143163288 433906.6937739538 226567.32920195858 433916.3363983895 226592.2670237749 433899.2124274089 | CP83: AUTO_BUS | CQ83: 0 | CR83: YEAR | CS83: 0 | CT83: 0 | CU83: FALSE | CV83: STATE | CW83: BOTH | CX83: NORMAL
A84: NL.IMAER.Collection | CA84: NL | CB84: URBAN_ROAD_FREE_FLOW | CC84: 3100 | CD84: ES.30 | CE84: NL.IMAER | CF84: ES.30 | CG84: intern Vervoersbewegingen bedrijf komen/gaan oost | CH84: 0 | CI84: 2.5 | CJ84: 0 | CK84: urn:ogc:def:crs:EPSG::28992 | CL84: ES.30.CURVE | CM84: 226487.19566785544 433808.60500814294 226511.46848109 433868.2895283567 226519.11607978036 433879.4284221013 226546.38143163288 433906.6937739538 226567.32920195858 433916.3363983895 226592.2670237749 433899.2124274089 | CP84: HEAVY_FREIGHT | CQ84: 262 | CR84: YEAR | CS84: 0 | CT84: 0 | CU84: FALSE | CV84: STATE | CW84: BOTH | CX84: NORMAL
A85: NL.IMAER.Collection | CA85: NL | CB85: URBAN_ROAD_FREE_FLOW | CC85: 3100 | CD85: ES.30 | CE85: NL.IMAER | CF85: ES.30 | CG85: intern Vervoersbewegingen bedrijf komen/gaan oost | CH85: 0 | CI85: 2.5 | CJ85: 0 | CK85: urn:ogc:def:crs:EPSG::28992 | CL85: ES.30.CURVE | CM85: 226487.19566785544 433808.60500814294 226511.46848109 433868.2895283567 226519.11607978036 433879.4284221013 226546.38143163288 433906.6937739538 226567.32920195858 433916.3363983895 226592.2670237749 433899.2124274089 | CP85: LIGHT_TRAFFIC | CQ85: 1095 | CR85: YEAR | CS85: 0 | CT85: 0 | CU85: FALSE | CV85: STATE | CW85: BOTH | CX85: NORMAL
A86: NL.IMAER.Collection | CA86: NL | CB86: URBAN_ROAD_FREE_FLOW | CC86: 3100 | CD86: ES.30 | CE86: NL.IMAER | CF86: ES.30 | CG86: intern Vervoersbewegingen bedrijf komen/gaan oost | CH86: 0 | CI86: 2.5 | CJ86: 0 | CK86: urn:ogc:def:crs:EPSG::28992 | CL86: ES.30.CURVE | CM86: 226487.19566785544 433808.60500814294 226511.46848109 433868.2895283567 226519.11607978036 433879.4284221013 226546.38143163288 433906.6937739538 226567.32920195858 433916.3363983895 226592.2670237749 433899.2124274089 | CP86: NORMAL_FREIGHT | CQ86: 0 | CR86: YEAR | CS86: 0 | CT86: 0 | CU86: FALSE | CV86: STATE | CW86: BOTH | CX86: NORMAL
A87: NL.IMAER.Collection | CA87: NL | CB87: URBAN_ROAD_FREE_FLOW | CC87: 3100 | CD87: ES.31 | CE87: NL.IMAER | CF87: ES.31 | CG87: Intern Vervoersbewegingen bedrijf komen/gaan west | CH87: 0 | CI87: 2.5 | CJ87: 0 | CK87: urn:ogc:def:crs:EPSG::28992 | CL87: ES.31.CURVE | CM87: 226487.2 433808.61 226511.47 433868.29 226519.12 433879.43 226546.38 433906.69 226567.33 433916.34 226592.27 433899.21 | CN87: NH3 | CO87: 0.0052906368 | CV87: STATE | CW87: BOTH | CX87: NORMAL
A88: NL.IMAER.Collection | CA88: NL | CB88: URBAN_ROAD_FREE_FLOW | CC88: 3100 | CD88: ES.31 | CE88: NL.IMAER | CF88: ES.31 | CG88: Intern Vervoersbewegingen bedrijf komen/gaan west | CH88: 0 | CI88: 2.5 | CJ88: 0 | CK88: urn:ogc:def:crs:EPSG::28992 | CL88: ES.31.CURVE | CM88: 226487.2 433808.61 226511.47 433868.29 226519.12 433879.43 226546.38 433906.69 226567.33 433916.34 226592.27 433899.21 | CN88: NOX | CO88: 0.20263428 | CV88: STATE | CW88: BOTH | CX88: NORMAL
A89: NL.IMAER.Collection | CA89: NL | CB89: URBAN_ROAD_FREE_FLOW | CC89: 3100 | CD89: ES.31 | CE89: NL.IMAER | CF89: ES.31 | CG89: Intern Vervoersbewegingen bedrijf komen/gaan west | CH89: 0 | CI89: 2.5 | CJ89: 0 | CK89: urn:ogc:def:crs:EPSG::28992 | CL89: ES.31.CURVE | CM89: 226487.2 433808.61 226511.47 433868.29 226519.12 433879.43 226546.38 433906.69 226567.33 433916.34 226592.27 433899.21 | CN89: PM10 | CO89: 0.0096554003 | CV89: STATE | CW89: BOTH | CX89: NORMAL
A90: NL.IMAER.Collection | CA90: NL | CB90: URBAN_ROAD_FREE_FLOW | CC90: 3100 | CD90: ES.31 | CE90: NL.IMAER | CF90: ES.31 | CG90: Intern Vervoersbewegingen bedrijf komen/gaan west | CH90: 0 | CI90: 2.5 | CJ90: 0 | CK90: urn:ogc:def:crs:EPSG::28992 | CL90: ES.31.CURVE | CM90: 226487.2 433808.61 226511.47 433868.29 226519.12 433879.43 226546.38 433906.69 226567.33 433916.34 226592.27 433899.21 | CN90: NO2 | CO90: 0.050151418 | CV90: STATE | CW90: BOTH | CX90: NORMAL
A91: NL.IMAER.Collection | CA91: NL | CB91: URBAN_ROAD_FREE_FLOW | CC91: 3100 | CD91: ES.31 | CE91: NL.IMAER | CF91: ES.31 | CG91: Intern Vervoersbewegingen bedrijf komen/gaan west | CH91: 0 | CI91: 2.5 | CJ91: 0 | CK91: urn:ogc:def:crs:EPSG::28992 | CL91: ES.31.CURVE | CM91: 226487.2 433808.61 226511.47 433868.29 226519.12 433879.43 226546.38 433906.69 226567.33 433916.34 226592.27 433899.21 | CP91: AUTO_BUS | CQ91: 0 | CR91: YEAR | CS91: 0 | CT91: 0 | CU91: FALSE | CV91: STATE | CW91: BOTH | CX91: NORMAL
A92: NL.IMAER.Collection | CA92: NL | CB92: URBAN_ROAD_FREE_FLOW | CC92: 3100 | CD92: ES.31 | CE92: NL.IMAER | CF92: ES.31 | CG92: Intern Vervoersbewegingen bedrijf komen/gaan west | CH92: 0 | CI92: 2.5 | CJ92: 0 | CK92: urn:ogc:def:crs:EPSG::28992 | CL92: ES.31.CURVE | CM92: 226487.2 433808.61 226511.47 433868.29 226519.12 433879.43 226546.38 433906.69 226567.33 433916.34 226592.27 433899.21 | CP92: HEAVY_FREIGHT | CQ92: 262 | CR92: YEAR | CS92: 0 | CT92: 0 | CU92: FALSE | CV92: STATE | CW92: BOTH | CX92: NORMAL
A93: NL.IMAER.Collection | CA93: NL | CB93: URBAN_ROAD_FREE_FLOW | CC93: 3100 | CD93: ES.31 | CE93: NL.IMAER | CF93: ES.31 | CG93: Intern Vervoersbewegingen bedrijf komen/gaan west | CH93: 0 | CI93: 2.5 | CJ93: 0 | CK93: urn:ogc:def:crs:EPSG::28992 | CL93: ES.31.CURVE | CM93: 226487.2 433808.61 226511.47 433868.29 226519.12 433879.43 226546.38 433906.69 226567.33 433916.34 226592.27 433899.21 | CP93: LIGHT_TRAFFIC | CQ93: 1095 | CR93: YEAR | CS93: 0 | CT93: 0 | CU93: FALSE | CV93: STATE | CW93: BOTH | CX93: NORMAL
A94: NL.IMAER.Collection | CA94: NL | CB94: URBAN_ROAD_FREE_FLOW | CC94: 3100 | CD94: ES.31 | CE94: NL.IMAER | CF94: ES.31 | CG94: Intern Vervoersbewegingen bedrijf komen/gaan west | CH94: 0 | CI94: 2.5 | CJ94: 0 | CK94: urn:ogc:def:crs:EPSG::28992 | CL94: ES.31.CURVE | CM94: 226487.2 433808.61 226511.47 433868.29 226519.12 433879.43 226546.38 433906.69 226567.33 433916.34 226592.27 433899.21 | CP94: NORMAL_FREIGHT | CQ94: 0 | CR94: YEAR | CS94: 0 | CT94: 0 | CU94: FALSE | CV94: STATE | CW94: BOTH | CX94: NORMAL
A95: NL.IMAER.Collection | CA95: NL | CB95: NON_URBAN_ROAD_NATIONAL | CC95: 3100 | CD95: ES.16 | CE95: NL.IMAER | CF95: ES.16 | CG95: Vervoersbewegingen woning nummer 1 komen/gaan oost | CH95: 0 | CI95: 2.5 | CJ95: 0 | CK95: urn:ogc:def:crs:EPSG::28992 | CL95: ES.16.CURVE | CM95: 226735.01 433764.06 226690.3 433772.66 226608.48 433787.16 226563.03 433795.27 226487.12 433809.02 | CN95: NH3 | CO95: 0.012592625 | CV95: STATE | CW95: BOTH | CX95: NORMAL
A96: NL.IMAER.Collection | CA96: NL | CB96: NON_URBAN_ROAD_NATIONAL | CC96: 3100 | CD96: ES.16 | CE96: NL.IMAER | CF96: ES.16 | CG96: Vervoersbewegingen woning nummer 1 komen/gaan oost | CH96: 0 | CI96: 2.5 | CJ96: 0 | CK96: urn:ogc:def:crs:EPSG::28992 | CL96: ES.16.CURVE | CM96: 226735.01 433764.06 226690.3 433772.66 226608.48 433787.16 226563.03 433795.27 226487.12 433809.02 | CN96: NOX | CO96: 0.10760285 | CV96: STATE | CW96: BOTH | CX96: NORMAL
A97: NL.IMAER.Collection | CA97: NL | CB97: NON_URBAN_ROAD_NATIONAL | CC97: 3100 | CD97: ES.16 | CE97: NL.IMAER | CF97: ES.16 | CG97: Vervoersbewegingen woning nummer 1 komen/gaan oost | CH97: 0 | CI97: 2.5 | CJ97: 0 | CK97: urn:ogc:def:crs:EPSG::28992 | CL97: ES.16.CURVE | CM97: 226735.01 433764.06 226690.3 433772.66 226608.48 433787.16 226563.03 433795.27 226487.12 433809.02 | CN97: PM10 | CO97: 0.009727237 | CV97: STATE | CW97: BOTH | CX97: NORMAL
A98: NL.IMAER.Collection | CA98: NL | CB98: NON_URBAN_ROAD_NATIONAL | CC98: 3100 | CD98: ES.16 | CE98: NL.IMAER | CF98: ES.16 | CG98: Vervoersbewegingen woning nummer 1 komen/gaan oost | CH98: 0 | CI98: 2.5 | CJ98: 0 | CK98: urn:ogc:def:crs:EPSG::28992 | CL98: ES.16.CURVE | CM98: 226735.01 433764.06 226690.3 433772.66 226608.48 433787.16 226563.03 433795.27 226487.12 433809.02 | CN98: NO2 | CO98: 0.013572889 | CV98: STATE | CW98: BOTH | CX98: NORMAL
A99: NL.IMAER.Collection | CA99: NL | CB99: NON_URBAN_ROAD_NATIONAL | CC99: 3100 | CD99: ES.16 | CE99: NL.IMAER | CF99: ES.16 | CG99: Vervoersbewegingen woning nummer 1 komen/gaan oost | CH99: 0 | CI99: 2.5 | CJ99: 0 | CK99: urn:ogc:def:crs:EPSG::28992 | CL99: ES.16.CURVE | CM99: 226735.01 433764.06 226690.3 433772.66 226608.48 433787.16 226563.03 433795.27 226487.12 433809.02 | CP99: AUTO_BUS | CQ99: 0 | CR99: YEAR | CS99: 0 | CT99: 80 | CU99: FALSE | CV99: STATE | CW99: BOTH | CX99: NORMAL
A100: NL.IMAER.Collection | CA100: NL | CB100: NON_URBAN_ROAD_NATIONAL | CC100: 3100 | CD100: ES.16 | CE100: NL.IMAER | CF100: ES.16 | CG100: Vervoersbewegingen woning nummer 1 komen/gaan oost | CH100: 0 | CI100: 2.5 | CJ100: 0 | CK100: urn:ogc:def:crs:EPSG::28992 | CL100: ES.16.CURVE | CM100: 226735.01 433764.06 226690.3 433772.66 226608.48 433787.16 226563.03 433795.27 226487.12 433809.02 | CP100: HEAVY_FREIGHT | CQ100: 0 | CR100: YEAR | CS100: 0 | CT100: 80 | CU100: FALSE | CV100: STATE | CW100: BOTH | CX100: NORMAL
...

Sheet Beoogd
A1: receptorPointId | B1: ns2:pos64 | C1: Totale depositie
A2: 3759380 | B2: 207778.70608700067 428864.6446211133 | C2: 0.015247062
A3: 3760908 | B3: 207685.64560109045 428918.37311770447 | C3: 0.015385658
A4: 3760909 | B4: 207871.76657291088 428918.37311770447 | C4: 0.019320762
A5: 3762437 | B5: 207592.58511518023 428972.1016142956 | C5: 0.015893008
A6: 3762438 | B6: 207778.70608700067 428972.1016142956 | C6: 0.018830253
A7: 3763965 | B7: 207499.52462927005 429025.83011088683 | C7: 0.016603116
A8: 3763966 | B8: 207685.64560109045 429025.83011088683 | C8: 0.020277527
A9: 3765493 | B9: 207220.3431715394 429079.558607478 | C9: 0.015588884
A10: 3765494 | B10: 207406.46414335983 429079.558607478 | C10: 0.015562297
A11: 3765495 | B11: 207592.58511518023 429079.558607478 | C11: 0.020132369
A12: 3767021 | B12: 207127.2826856292 429133.28710406914 | C12: 0.015251226
A13: 3767022 | B13: 207313.4036574496 429133.28710406914 | C13: 0.015764804
... A1069: 4611149 | B1069: 229461.79930407958 458791.4172223989 | C1069: 2.943243e-05

Sheet Ref -35%
A1: receptorPointId | B1: ns2:pos64 | C1: Totale depositie
A2: 3759380 | B2: 207778.70608700067 428864.6446211133 | C2: 0.010055087
A3: 3760908 | B3: 207685.64560109045 428918.37311770447 | C3: 0.010091947
A4: 3760909 | B4: 207871.76657291088 428918.37311770447 | C4: 0.012750621
A5: 3762437 | B5: 207592.58511518023 428972.1016142956 | C5: 0.010413141
A6: 3762438 | B6: 207778.70608700067 428972.1016142956 | C6: 0.012449052
A7: 3763965 | B7: 207499.52462927005 429025.83011088683 | C7: 0.010917994
A8: 3763966 | B8: 207685.64560109045 429025.83011088683 | C8: 0.013361008
A9: 3765493 | B9: 207220.3431715394 429079.558607478 | C9: 0.01029467
A10: 3765494 | B10: 207406.46414335983 429079.558607478 | C10: 0.010296993
A11: 3765495 | B11: 207592.58511518023 429079.558607478 | C11: 0.013327518
A12: 3767021 | B12: 207127.2826856292 429133.28710406914 | C12: 0.01005496
A13: 3767022 | B13: 207313.4036574496 429133.28710406914 | C13: 0.010372781
... A1069: 4611149 | B1069: 229461.79930407958 458791.4172223989 | C1069: 1.979616e-05

Sheet Saldeerder -65%
A1: receptorPointId | B1: ns2:pos64 | C1: Totale depositie
A2: 3759380 | B2: 207778.70608700067 428864.6446211133 | C2: 0.010055087
A3: 3760908 | B3: 207685.64560109045 428918.37311770447 | C3: 0.010091947
A4: 3760909 | B4: 207871.76657291088 428918.37311770447 | C4: 0.012750621
A5: 3762437 | B5: 207592.58511518023 428972.1016142956 | C5: 0.010413141
A6: 3762438 | B6: 207778.70608700067 428972.1016142956 | C6: 0.012449052
A7: 3763965 | B7: 207499.52462927005 429025.83011088683 | C7: 0.010917994
A8: 3763966 | B8: 207685.64560109045 429025.83011088683 | C8: 0.013361008
A9: 3765493 | B9: 207220.3431715394 429079.558607478 | C9: 0.01029467
A10: 3765494 | B10: 207406.46414335983 429079.558607478 | C10: 0.010296993
A11: 3765495 | B11: 207592.58511518023 429079.558607478 | C11: 0.013327518
A12: 3767021 | B12: 207127.2826856292 429133.28710406914 | C12: 0.01005496
A13: 3767022 | B13: 207313.4036574496 429133.28710406914 | C13: 0.010372781
... A1069: 4611149 | B1069: 229461.79930407958 458791.4172223989 | C1069: 1.979616e-05

Sheet Vergelijk
A1: receptorPointId | B1: Depositie beoogd | C1: Depositie Referentie (-35%) | D1: Depositie saldeerder (-65%) | E1: Resultaat | F1: saldering afgerond
A2: 3759380 | B2: 0.015247062 | C2: =VLOOKUP(A2,'Ref -35%'!A2:C1069,3,FALSE) -> 0.010055087 | D2: ='[1]Saldeerder -65%'!$C$2 -> 0.010055087 | E2: =B2-C2-D2 -> -0.0048631121 | F2: =ROUND(E2,2) -> 0 | G2: =IF(F2>0,"toename","")
A3: 3760908 | B3: 0.015385658 | C3: =VLOOKUP(A3,'Ref -35%'!A3:C1070,3,FALSE) -> 0.010091947 | D3: =VLOOKUP(A3,'Saldeerder -65%'!A3:C1070,3,FALSE) -> 0.010091947 | E3: =B3-C3-D3 -> -0.0047982352 | F3: =ROUND(E3,2) -> 0 | G3: =IF(F3>0,"toename","")
A4: 3760909 | B4: 0.019320762 | C4: =VLOOKUP(A4,'Ref -35%'!A4:C1071,3,FALSE) -> 0.012750621 | D4: =VLOOKUP(A4,'Saldeerder -65%'!A4:C1071,3,FALSE) -> 0.012750621 | E4: =B4-C4-D4 -> -0.0061804791 | F4: =ROUND(E4,2) -> -0.01 | G4: =IF(F4>0,"toename","")
A5: 3762437 | B5: 0.015893008 | C5: =VLOOKUP(A5,'Ref -35%'!A5:C1072,3,FALSE) -> 0.010413141 | D5: =VLOOKUP(A5,'Saldeerder -65%'!A5:C1072,3,FALSE) -> 0.010413141 | E5: =B5-C5-D5 -> -0.0049332741 | F5: =ROUND(E5,2) -> 0 | G5: =IF(F5>0,"toename","")
A6: 3762438 | B6: 0.018830253 | C6: =VLOOKUP(A6,'Ref -35%'!A6:C1073,3,FALSE) -> 0.012449052 | D6: =VLOOKUP(A6,'Saldeerder -65%'!A6:C1073,3,FALSE) -> 0.012449052 | E6: =B6-C6-D6 -> -0.0060678505 | F6: =ROUND(E6,2) -> -0.01 | G6: =IF(F6>0,"toename","")
A7: 3763965 | B7: 0.016603116 | C7: =VLOOKUP(A7,'Ref -35%'!A7:C1074,3,FALSE) -> 0.010917994 | D7: =VLOOKUP(A7,'Saldeerder -65%'!A7:C1074,3,FALSE) -> 0.010917994 | E7: =B7-C7-D7 -> -0.0052328721 | F7: =ROUND(E7,2) -> -0.01 | G7: =IF(F7>0,"toename","")
A8: 3763966 | B8: 0.020277527 | C8: =VLOOKUP(A8,'Ref -35%'!A8:C1075,3,FALSE) -> 0.013361008 | D8: =VLOOKUP(A8,'Saldeerder -65%'!A8:C1075,3,FALSE) -> 0.013361008 | E8: =B8-C8-D8 -> -0.0064444883 | F8: =ROUND(E8,2) -> -0.01 | G8: =IF(F8>0,"toename","")
A9: 3765493 | B9: 0.015588884 | C9: =VLOOKUP(A9,'Ref -35%'!A9:C1076,3,FALSE) -> 0.01029467 | D9: =VLOOKUP(A9,'Saldeerder -65%'!A9:C1076,3,FALSE) -> 0.01029467 | E9: =B9-C9-D9 -> -0.0050004552 | F9: =ROUND(E9,2) -> -0.01 | G9: =IF(F9>0,"toename","")
A10: 3765494 | B10: 0.015562297 | C10: =VLOOKUP(A10,'Ref -35%'!A10:C1077,3,FALSE) -> 0.010296993 | D10: =VLOOKUP(A10,'Saldeerder -65%'!A10:C1077,3,FALSE) -> 0.010296993 | E10: =B10-C10-D10 -> -0.0050316881 | F10: =ROUND(E10,2) -> -0.01 | G10: =IF(F10>0,"toename","")
A11: 3765495 | B11: 0.020132369 | C11: =VLOOKUP(A11,'Ref -35%'!A11:C1078,3,FALSE) -> 0.013327518 | D11: =VLOOKUP(A11,'Saldeerder -65%'!A11:C1078,3,FALSE) -> 0.013327518 | E11: =B11-C11-D11 -> -0.0065226663 | F11: =ROUND(E11,2) -> -0.01 | G11: =IF(F11>0,"toename","")
A12: 3767021 | B12: 0.015251226 | C12: =VLOOKUP(A12,'Ref -35%'!A12:C1079,3,FALSE) -> 0.01005496 | D12: =VLOOKUP(A12,'Saldeerder -65%'!A12:C1079,3,FALSE) -> 0.01005496 | E12: =B12-C12-D12 -> -0.0048586932 | F12: =ROUND(E12,2) -> 0 | G12: =IF(F12>0,"toename","")
A13: 3767022 | B13: 0.015764804 | C13: =VLOOKUP(A13,'Ref -35%'!A13:C1080,3,FALSE) -> 0.010372781 | D13: =VLOOKUP(A13,'Saldeerder -65%'!A13:C1080,3,FALSE) -> 0.010372781 | E13: =B13-C13-D13 -> -0.0049807589 | F13: =ROUND(E13,2) -> 0 | G13: =IF(F13>0,"toename","")
A14: 3767023 | B14: 0.017508898 | C14: =VLOOKUP(A14,'Ref -35%'!A14:C1081,3,FALSE) -> 0.011448802 | D14: =VLOOKUP(A14,'Saldeerder -65%'!A14:C1081,3,FALSE) -> 0.011448802 | E14: =B14-C14-D14 -> -0.0053887052 | F14: =ROUND(E14,2) -> -0.01 | G14: =IF(F14>0,"toename","")
... A1069: 4611149 | B1069: 2.943243e-05 | C1069: =VLOOKUP(A1069,'Ref -35%'!A1069:C2136,3,FALSE) -> 1.979616e-05 | D1069: =VLOOKUP(A1069,'Saldeerder -65%'!A1069:C2136,3,FALSE) -> 1.979616e-05 | E1069: =B1069-C1069-D1069 -> -1.0159889e-05 | F1069: =ROUND(E1069,2) -> 0 | G1069: =IF(F1069>0,"toename","")
